Workbook
Name away.aa: OFFSET([1]Sorsolás!$AA$42,[1]Sorsolás!$AV$52,[1]Sorsolás!$AV$53,[1]Sorsolás!$AV$54,[1]Sorsolás!$AV$55)
Name away.aa: OFFSET(ASZ!$AB$42,ASZ!$AW$52,ASZ!$AW$53,ASZ!$AW$54,ASZ!$AW$55)
Name away.av: OFFSET([1]Sorsolás!$AA$42,[1]Sorsolás!$AV$45,[1]Sorsolás!$AV$46,[1]Sorsolás!$AV$47,[1]Sorsolás!$AV$48)
Name away.av: OFFSET(ASZ!$AB$42,ASZ!$AW$45,ASZ!$AW$46,ASZ!$AW$47,ASZ!$AW$48)
Name away.rr: OFFSET(RCSOP!$AF$56,RCSOP!$AV$64,RCSOP!$AV$65,RCSOP!$AV$66,RCSOP!$AV$67)
Name away.rv: OFFSET(RCSOP!$AF$56,RCSOP!$AV$57,RCSOP!$AV$58,RCSOP!$AV$59,RCSOP!$AV$60)
Name calend: Adatok!$C$1:$C$37
Name drawa.aa: OFFSET(ASZ!$AB$42,ASZ!$AT$52,ASZ!$AT$53,ASZ!$AT$54,ASZ!$AT$55)
Name drawa.av: OFFSET(ASZ!$AB$42,ASZ!$AT$45,ASZ!$AT$46,ASZ!$AT$47,ASZ!$AT$48)
Name drawa.rr: OFFSET(RCSOP!$AF$56,RCSOP!$AS$64,RCSOP!$AS$65,RCSOP!$AS$66,RCSOP!$AS$67)
Name drawa.rv: OFFSET(RCSOP!$AF$56,RCSOP!$AS$57,RCSOP!$AS$58,RCSOP!$AS$59,RCSOP!$AS$60)
Name drawh.aa: OFFSET(ASZ!$AB$42,ASZ!$AQ$52,ASZ!$AQ$53,ASZ!$AQ$54,ASZ!$AQ$55)
Name drawh.av: OFFSET(ASZ!$AB$42,ASZ!$AQ$45,ASZ!$AQ$46,ASZ!$AQ$47,ASZ!$AQ$48)
Name drawh.rr: OFFSET(RCSOP!$AF$56,RCSOP!$AP$64,RCSOP!$AP$65,RCSOP!$AP$66,RCSOP!$AP$67)
Name drawh.rv: OFFSET(RCSOP!$AF$56,RCSOP!$AP$57,RCSOP!$AP$58,RCSOP!$AP$59,RCSOP!$AP$60)
Name eee.aa: ASZTAB!$DV$41:$EK$340
Name eee.an: ASZTAB!$DV$643:$EK$941
Name eee.av: ASZTAB!$DV$342:$EK$641
Name eee.rn: RTAB!$DG$595:$DV$865
Name eee.rr: RTAB!$DG$41:$DV$310
Name eee.rv: RTAB!$DG$318:$DV$588
Name GAA.aa: OFFSET(ASZ!$AB$42,ASZ!$AX$52,ASZ!$AX$53,ASZ!$AX$54,ASZ!$AX$55)
Name GAA.av: OFFSET(ASZ!$AB$42,ASZ!$AX$45,ASZ!$AX$46,ASZ!$AX$47,ASZ!$AX$48)
Name GAA.rr: OFFSET(RCSOP!$AF$56,RCSOP!$AW$64,RCSOP!$AW$65,RCSOP!$AW$66,RCSOP!$AW$67)
Name GAA.rv: OFFSET(RCSOP!$AF$56,RCSOP!$AW$57,RCSOP!$AW$58,RCSOP!$AW$59,RCSOP!$AW$60)
Name games.a: ASZ!$U$43:$AI$390
Name games.an: OFFSET(ASZ!$AB$42,ASZ!$AY$66,ASZ!$AY$67,ASZ!$AY$68,ASZ!$AY$69)
Name games.av: OFFSET(ASZ!$AB$42,ASZ!$AX$66,ASZ!$AX$67,ASZ!$AX$68,ASZ!$AX$69)
Name games.r: RCSOP!$Y$57:$AM$142
Name games.rn: OFFSET(RCSOP!$AF$56,RCSOP!$AX$77,RCSOP!$AX$78,RCSOP!$AX$79,RCSOP!$AX$80)
Name games.rv: OFFSET(RCSOP!$AF$56,RCSOP!$AW$77,RCSOP!$AW$78,RCSOP!$AW$79,RCSOP!$AW$80)
Name gamesfav: ASZ!$AL$43:$AM$390
Name GBB.aa: OFFSET(ASZ!$AB$42,ASZ!$AY$52,ASZ!$AY$53,ASZ!$AY$54,ASZ!$AY$55)
Name GBB.av: OFFSET(ASZ!$AB$42,ASZ!$AY$45,ASZ!$AY$46,ASZ!$AY$47,ASZ!$AY$48)
Name GBB.rr: OFFSET(RCSOP!$AF$56,RCSOP!$AX$64,RCSOP!$AX$65,RCSOP!$AX$66,RCSOP!$AX$67)
Name GBB.rv: OFFSET(RCSOP!$AF$56,RCSOP!$AX$57,RCSOP!$AX$58,RCSOP!$AX$59,RCSOP!$AX$60)
Name gdays.a: Adatok!$E$1:$E$22
Name gdays.r: Adatok!$F$1:$F$5
Name goalname: Gszer!$AX$67:$AZ$597
Name goalrank: Gszer!$AX$67:$AX$597
Name home.aa: OFFSET([1]Sorsolás!$AA$42,[1]Sorsolás!$AU$52,[1]Sorsolás!$AU$53,[1]Sorsolás!$AU$54,[1]Sorsolás!$AU$55)
Name home.aa: OFFSET(ASZ!$AB$42,ASZ!$AV$52,ASZ!$AV$53,ASZ!$AV$54,ASZ!$AV$55)
Name home.av: OFFSET([1]Sorsolás!$AA$42,[1]Sorsolás!$AU$45,[1]Sorsolás!$AU$46,[1]Sorsolás!$AU$47,[1]Sorsolás!$AU$48)
Name home.av: OFFSET(ASZ!$AB$42,ASZ!$AV$45,ASZ!$AV$46,ASZ!$AV$47,ASZ!$AV$48)
Name home.rr: OFFSET(RCSOP!$AF$56,RCSOP!$AU$64,RCSOP!$AU$65,RCSOP!$AU$66,RCSOP!$AU$67)
Name home.rv: OFFSET(RCSOP!$AF$56,RCSOP!$AU$57,RCSOP!$AU$58,RCSOP!$AU$59,RCSOP!$AU$60)
Name index.a: ASZ!$AB$43:$AB$390
Name index.r: RCSOP!$AF$57:$AF$142
Name lossa.aa: OFFSET(ASZ!$AB$42,ASZ!$AU$52,ASZ!$AU$53,ASZ!$AU$54,ASZ!$AU$55)
Name lossa.av: OFFSET(ASZ!$AB$42,ASZ!$AU$45,ASZ!$AU$46,ASZ!$AU$47,ASZ!$AU$48)
Name lossa.rr: OFFSET(RCSOP!$AF$56,RCSOP!$AT$64,RCSOP!$AT$65,RCSOP!$AT$66,RCSOP!$AT$67)
Name lossa.rv: OFFSET(RCSOP!$AF$56,RCSOP!$AT$57,RCSOP!$AT$58,RCSOP!$AT$59,RCSOP!$AT$60)
Name lossh.aa: OFFSET(ASZ!$AB$42,ASZ!$AR$52,ASZ!$AR$53,ASZ!$AR$54,ASZ!$AR$55)
Name lossh.av: OFFSET(ASZ!$AB$42,ASZ!$AR$45,ASZ!$AR$46,ASZ!$AR$47,ASZ!$AR$48)
Name lossh.rr: OFFSET(RCSOP!$AF$56,RCSOP!$AQ$64,RCSOP!$AQ$65,RCSOP!$AQ$66,RCSOP!$AQ$67)
Name lossh.rv: OFFSET(RCSOP!$AF$56,RCSOP!$AQ$57,RCSOP!$AQ$58,RCSOP!$AQ$59,RCSOP!$AQ$60)
Name penalty.a: ASZTAB!$O$60:$R$69
Name penalty.r: RTAB!$O$61:$R$70
Name rank.a1: ASZTAB!$AU$68:$AV$91
Name rank.a2: ASZTAB!$AU$106:$AV$115

Sheet ASZ
B39: SORSOLÁS ÉS EREDMÉNYEK – ALAPSZAKASZ
C41: =CONCATENATE(" ",AB43,"."," forduló –") -> 1. forduló – | D41: =VLOOKUP(AB43,ASZ!$AQ$59:$AS$104,2,FALSE) -> 42088 | I41: =CONCATENATE(IF($AW$61,"pont: ","gól: "),SUM(F43:H54)," / átlag: ",TEXT(IF(COUNT(F43:H54)=0,"-",SUM(F43:H54)/COUNT(F43:H54)*2),"0,00")) -> gól: 28 / átlag: 5,60 | K41: FELJEGYZÉSEK | U41: game | V41: x | W41: f. | X41: home | Y41: away | Z41: A | AA41: B | AC41: winh | AD41: drawh | AE41: lossh | AF41: wina | AG41: drawa | AH41: lossa
C43: 42088 | D43: 19:00 – A pálya | E43: BBK | F43: 2 | G43: – | H43: 4 | I43: BHD | U43: =X43&Y43 -> BBKBHD | V43: =AND(F43<>"",H43<>"") -> TRUE | W43: =AB43 -> 1 | X43: =E43 -> BBK | Y43: =I43 -> BHD | Z43: =IF(V43,F43,"") -> 2 | AA43: =IF(V43,H43,"") -> 4 | AB43: 1 | AC43: =IF(Z43>AA43,X43,"") | AD43: =IF(AA43="","",IF(Z43=AA43,X43,"")) | AE43: =IF(AND($AW$61,Z43=0,AA43=20),X43&"ooo",IF(Z43<AA43,X43,"")) -> BBK | AF43: =IF(AA43>Z43,Y43,"") -> BHD | AG43: =IF(AA43="","",IF(Z43=AA43,Y43,"")) | AH43: =IF(AND($AW$61,Z43=20,AA43=0),Y43&"ooo",IF(Z43>AA43,Y43,"")) | AI43: =C43 -> 42088 | AL43: =IF(OR(X43=Kedvenc!$C$43,Y43=Kedvenc!$C$43),W43,"") | AM43: =IF(AL43="","",U43) | AP43: .av | BB43: =C43&D43 -> 4208819:00 – A pálya | BC43: =COUNTIF($BB$43:$BB$383,BB43) -> 1 | BD43: =U43 -> BBKBHD
C44: 42088 | D44: 19:45 – A pálya | E44: Zrínyigyöngye | F44: 4 | G44: – | H44: 0 | I44: Hercules-Ludovika | U44: =X44&Y44 -> ZrínyigyöngyeHercules-Ludovika | V44: =AND(F44<>"",H44<>"") -> TRUE | W44: =W43 -> 1 | X44: =E44 -> Zrínyigyöngye | Y44: =I44 -> Hercules-Ludovika | Z44: =IF(V44,F44,"") -> 4 | AA44: =IF(V44,H44,"") -> 0 | AC44: =IF(Z44>AA44,X44,"") -> Zrínyigyöngye | AD44: =IF(AA44="","",IF(Z44=AA44,X44,"")) | AE44: =IF(AND($AW$61,Z44=0,AA44=20),X44&"ooo",IF(Z44<AA44,X44,"")) | AF44: =IF(AA44>Z44,Y44,"") | AG44: =IF(AA44="","",IF(Z44=AA44,Y44,"")) | AH44: =IF(AND($AW$61,Z44=20,AA44=0),Y44&"ooo",IF(Z44>AA44,Y44,"")) -> Hercules-Ludovika | AI44: =C44 -> 42088 | AL44: =IF(OR(X44=Kedvenc!$C$43,Y44=Kedvenc!$C$43),W44,"") | AM44: =IF(AL44="","",U44) | AP44: winh | AQ44: drawh | AR44: lossh | AS44: wina | AT44: drawa | AU44: lossa | AV44: home | AW44: away | AX44: GHH | AY44: GAA | BB44: =C44&D44 -> 4208819:45 – A pálya | BC44: =COUNTIF($BB$43:$BB$383,BB44) -> 1 | BD44: =U44 -> ZrínyigyöngyeHercules-Ludovika
C45: 42088 | D45: 20:30 – A pálya | E45: Bőrdíszmű | F45: 3 | G45: – | H45: 5 | I45: Bakafogó-Honvéd-Sashegy SE | U45: =X45&Y45 -> BőrdíszműBakafogó-Honvéd-Sashegy SE | V45: =AND(F45<>"",H45<>"") -> TRUE | W45: =W44 -> 1 | X45: =E45 -> Bőrdíszmű | Y45: =I45 -> Bakafogó-Honvéd-Sashegy SE | Z45: =IF(V45,F45,"") -> 3 | AA45: =IF(V45,H45,"") -> 5 | AC45: =IF(Z45>AA45,X45,"") | AD45: =IF(AA45="","",IF(Z45=AA45,X45,"")) | AE45: =IF(AND($AW$61,Z45=0,AA45=20),X45&"ooo",IF(Z45<AA45,X45,"")) -> Bőrdíszmű | AF45: =IF(AA45>Z45,Y45,"") -> Bakafogó-Honvéd-Sashegy SE | AG45: =IF(AA45="","",IF(Z45=AA45,Y45,"")) | AH45: =IF(AND($AW$61,Z45=20,AA45=0),Y45&"ooo",IF(Z45>AA45,Y45,"")) | AI45: =C45 -> 42088 | AL45: =IF(OR(X45=Kedvenc!$C$43,Y45=Kedvenc!$C$43),W45,"") | AM45: =IF(AL45="","",U45) | AP45: =MATCH(ASZTAB!$P$43,index.a,0) -> 1 | AQ45: =MATCH(ASZTAB!$P$43,index.a,0) -> 1 | AR45: =MATCH(ASZTAB!$P$43,index.a,0) -> 1 | AS45: =MATCH(ASZTAB!$P$43,index.a,0) -> 1 | AT45: =MATCH(ASZTAB!$P$43,index.a,0) -> 1 | AU45: =MATCH(ASZTAB!$P$43,index.a,0) -> 1 | AV45: =MATCH(ASZTAB!$P$43,index.a,0) -> 1 | AW45: =MATCH(ASZTAB!$P$43,index.a,0) -> 1 | ... AY45: =MATCH(ASZTAB!$P$43,index.a,0) -> 1 | BB45: =C45&D45 -> 4208820:30 – A pálya | BC45: =COUNTIF($BB$43:$BB$383,BB45) -> 1 | BD45: =U45 -> BőrdíszműBakafogó-Honvéd-Sashegy SE
C46: 42088 | D46: 19:00 – B pálya | E46: Élelmesek | F46: 5 | G46: – | H46: 1 | I46: Carbonász | U46: =X46&Y46 -> ÉlelmesekCarbonász | V46: =AND(F46<>"",H46<>"") -> TRUE | W46: =W45 -> 1 | X46: =E46 -> Élelmesek | Y46: =I46 -> Carbonász | Z46: =IF(V46,F46,"") -> 5 | AA46: =IF(V46,H46,"") -> 1 | AC46: =IF(Z46>AA46,X46,"") -> Élelmesek | AD46: =IF(AA46="","",IF(Z46=AA46,X46,"")) | AE46: =IF(AND($AW$61,Z46=0,AA46=20),X46&"ooo",IF(Z46<AA46,X46,"")) | AF46: =IF(AA46>Z46,Y46,"") | AG46: =IF(AA46="","",IF(Z46=AA46,Y46,"")) | AH46: =IF(AND($AW$61,Z46=20,AA46=0),Y46&"ooo",IF(Z46>AA46,Y46,"")) -> Carbonász | AI46: =C46 -> 42088 | AL46: =IF(OR(X46=Kedvenc!$C$43,Y46=Kedvenc!$C$43),W46,"") | AM46: =IF(AL46="","",U46) | AP46: =MATCH(AP44,$AC$41:$AH$41,0) -> 1 | AQ46: =MATCH(AQ44,$AC$41:$AH$41,0) -> 2 | AR46: =MATCH(AR44,$AC$41:$AH$41,0) -> 3 | AS46: =MATCH(AS44,$AC$41:$AH$41,0) -> 4 | AT46: =MATCH(AT44,$AC$41:$AH$41,0) -> 5 | AU46: =MATCH(AU44,$AC$41:$AH$41,0) -> 6 | AV46: -4 | AW46: -3 | AX46: -2 | AY46: -1 | BB46: =C46&D46 -> 4208819:00 – B pálya | BC46: =COUNTIF($BB$43:$BB$383,BB46) -> 1 | BD46: =U46 -> ÉlelmesekCarbonász
C47: 42088 | D47: 19:45 – B pálya | E47: Vakana | F47: 3 | G47: – | H47: 1 | I47: Royal Guard's | U47: =X47&Y47 -> VakanaRoyal Guard's | V47: =AND(F47<>"",H47<>"") -> TRUE | W47: =W46 -> 1 | X47: =E47 -> Vakana | Y47: =I47 -> Royal Guard's | Z47: =IF(V47,F47,"") -> 3 | AA47: =IF(V47,H47,"") -> 1 | AC47: =IF(Z47>AA47,X47,"") -> Vakana | AD47: =IF(AA47="","",IF(Z47=AA47,X47,"")) | AE47: =IF(AND($AW$61,Z47=0,AA47=20),X47&"ooo",IF(Z47<AA47,X47,"")) | AF47: =IF(AA47>Z47,Y47,"") | AG47: =IF(AA47="","",IF(Z47=AA47,Y47,"")) | AH47: =IF(AND($AW$61,Z47=20,AA47=0),Y47&"ooo",IF(Z47>AA47,Y47,"")) -> Royal Guard's | AI47: =C47 -> 42088 | AL47: =IF(OR(X47=Kedvenc!$C$43,Y47=Kedvenc!$C$43),W47,"") | AM47: =IF(AL47="","",U47) | AP47: =MATCH(ASZTAB!$R$43,index.a,0)+ROUNDUP(ASZTAB!$X$68/2,0)-AP45+IF(ASZTAB!$X$71,16,0) -> 342 | AQ47: =MATCH(ASZTAB!$R$43,index.a,0)+ROUNDUP(ASZTAB!$X$68/2,0)-AQ45+IF(ASZTAB!$X$71,16,0) -> 342 | AR47: =MATCH(ASZTAB!$R$43,index.a,0)+ROUNDUP(ASZTAB!$X$68/2,0)-AR45+IF(ASZTAB!$X$71,16,0) -> 342 | AS47: =MATCH(ASZTAB!$R$43,index.a,0)+ROUNDUP(ASZTAB!$X$68/2,0)-AS45+IF(ASZTAB!$X$71,16,0) -> 342 | AT47: =MATCH(ASZTAB!$R$43,index.a,0)+ROUNDUP(ASZTAB!$X$68/2,0)-AT45+IF(ASZTAB!$X$71,16,0) -> 342 | AU47: =MATCH(ASZTAB!$R$43,index.a,0)+ROUNDUP(ASZTAB!$X$68/2,0)-AU45+IF(ASZTAB!$X$71,16,0) -> 342 | AV47: =MATCH(ASZTAB!$R$43,index.a,0)+ROUNDUP(ASZTAB!$X$68/2,0)-AV45+IF(ASZTAB!$X$71,16,0) -> 342 | AW47: =MATCH(ASZTAB!$R$43,index.a,0)+ROUNDUP(ASZTAB!$X$68/2,0)-AW45+IF(ASZTAB!$X$71,16,0) -> 342 | ... AY47: =MATCH(ASZTAB!$R$43,index.a,0)+ROUNDUP(ASZTAB!$X$68/2,0)-AY45+IF(ASZTAB!$X$71,16,0) -> 342 | BB47: =C47&D47 -> 4208819:45 – B pálya | BC47: =COUNTIF($BB$43:$BB$383,BB47) -> 1 | BD47: =U47 -> VakanaRoyal Guard's
E48: K&H | I48: szabadnapos | U48: =X48&Y48 -> K&Hszabadnapos | V48: =AND(F48<>"",H48<>"") -> FALSE | W48: =W47 -> 1 | X48: =E48 -> K&H | Y48: =I48 -> szabadnapos | Z48: =IF(V48,F48,"") | AA48: =IF(V48,H48,"") | AC48: =IF(Z48>AA48,X48,"") | AD48: =IF(AA48="","",IF(Z48=AA48,X48,"")) | AE48: =IF(AND($AW$61,Z48=0,AA48=20),X48&"ooo",IF(Z48<AA48,X48,"")) | AF48: =IF(AA48>Z48,Y48,"") | AG48: =IF(AA48="","",IF(Z48=AA48,Y48,"")) | AH48: =IF(AND($AW$61,Z48=20,AA48=0),Y48&"ooo",IF(Z48>AA48,Y48,"")) | AI48: =AI43 -> 42088 | AL48: =IF(OR(X48=Kedvenc!$C$43,Y48=Kedvenc!$C$43),W48,"") | AM48: =IF(AL48="","",U48) | AP48: 1 | AQ48: 1 | AR48: 1 | AS48: 1 | AT48: 1 | AU48: 1 | AV48: 1 | AW48: 1 | AX48: 1 | AY48: 1
U49: =X49&Y49 -> 00 | V49: =AND(F49<>"",H49<>"") -> FALSE | W49: =W48 -> 1 | X49: =E49 -> 0 | Y49: =I49 -> 0 | Z49: =IF(V49,F49,"") | AA49: =IF(V49,H49,"") | AC49: =IF(Z49>AA49,X49,"") | AD49: =IF(AA49="","",IF(Z49=AA49,X49,"")) | AE49: =IF(AND($AW$61,Z49=0,AA49=20),X49&"ooo",IF(Z49<AA49,X49,"")) | AF49: =IF(AA49>Z49,Y49,"") | AG49: =IF(AA49="","",IF(Z49=AA49,Y49,"")) | AH49: =IF(AND($AW$61,Z49=20,AA49=0),Y49&"ooo",IF(Z49>AA49,Y49,"")) | AI49: =C49 -> 0 | AL49: =IF(OR(X49=Kedvenc!$C$43,Y49=Kedvenc!$C$43),W49,"") | AM49: =IF(AL49="","",U49)
U50: =X50&Y50 -> 00 | V50: =AND(F50<>"",H50<>"") -> FALSE | W50: =W49 -> 1 | X50: =E50 -> 0 | Y50: =I50 -> 0 | Z50: =IF(V50,F50,"") | AA50: =IF(V50,H50,"") | AC50: =IF(Z50>AA50,X50,"") | AD50: =IF(AA50="","",IF(Z50=AA50,X50,"")) | AE50: =IF(AND($AW$61,Z50=0,AA50=20),X50&"ooo",IF(Z50<AA50,X50,"")) | AF50: =IF(AA50>Z50,Y50,"") | AG50: =IF(AA50="","",IF(Z50=AA50,Y50,"")) | AH50: =IF(AND($AW$61,Z50=20,AA50=0),Y50&"ooo",IF(Z50>AA50,Y50,"")) | AI50: =C50 -> 0 | AL50: =IF(OR(X50=Kedvenc!$C$43,Y50=Kedvenc!$C$43),W50,"") | AM50: =IF(AL50="","",U50) | AP50: .aa
U51: =X51&Y51 -> 00 | V51: =AND(F51<>"",H51<>"") -> FALSE | W51: =W50 -> 1 | X51: =E51 -> 0 | Y51: =I51 -> 0 | Z51: =IF(V51,F51,"") | AA51: =IF(V51,H51,"") | AC51: =IF(Z51>AA51,X51,"") | AD51: =IF(AA51="","",IF(Z51=AA51,X51,"")) | AE51: =IF(AND($AW$61,Z51=0,AA51=20),X51&"ooo",IF(Z51<AA51,X51,"")) | AF51: =IF(AA51>Z51,Y51,"") | AG51: =IF(AA51="","",IF(Z51=AA51,Y51,"")) | AH51: =IF(AND($AW$61,Z51=20,AA51=0),Y51&"ooo",IF(Z51>AA51,Y51,"")) | AI51: =C51 -> 0 | AL51: =IF(OR(X51=Kedvenc!$C$43,Y51=Kedvenc!$C$43),W51,"") | AM51: =IF(AL51="","",U51) | AP51: winh | AQ51: drawh | AR51: lossh | AS51: wina | AT51: drawa | AU51: lossa | AV51: home | AW51: away | AX51: GHH | AY51: GAA
U52: =X52&Y52 -> 00 | V52: =AND(F52<>"",H52<>"") -> FALSE | W52: =W51 -> 1 | X52: =E52 -> 0 | Y52: =I52 -> 0 | Z52: =IF(V52,F52,"") | AA52: =IF(V52,H52,"") | AC52: =IF(Z52>AA52,X52,"") | AD52: =IF(AA52="","",IF(Z52=AA52,X52,"")) | AE52: =IF(AND($AW$61,Z52=0,AA52=20),X52&"ooo",IF(Z52<AA52,X52,"")) | AF52: =IF(AA52>Z52,Y52,"") | AG52: =IF(AA52="","",IF(Z52=AA52,Y52,"")) | AH52: =IF(AND($AW$61,Z52=20,AA52=0),Y52&"ooo",IF(Z52>AA52,Y52,"")) | AI52: =C52 -> 0 | AL52: =IF(OR(X52=Kedvenc!$C$43,Y52=Kedvenc!$C$43),W52,"") | AM52: =IF(AL52="","",U52) | AP52: =MATCH(ASZTAB!$AJ$62,index.a,0) -> 1 | AQ52: =MATCH(ASZTAB!$AJ$62,index.a,0) -> 1 | AR52: =MATCH(ASZTAB!$AJ$62,index.a,0) -> 1 | AS52: =MATCH(ASZTAB!$AJ$62,index.a,0) -> 1 | AT52: =MATCH(ASZTAB!$AJ$62,index.a,0) -> 1 | AU52: =MATCH(ASZTAB!$AJ$62,index.a,0) -> 1 | AV52: =MATCH(ASZTAB!$AJ$62,index.a,0) -> 1 | AW52: =MATCH(ASZTAB!$AJ$62,index.a,0) -> 1 | ... AY52: =MATCH(ASZTAB!$AJ$62,index.a,0) -> 1
U53: =X53&Y53 -> 00 | V53: =AND(F53<>"",H53<>"") -> FALSE | W53: =W52 -> 1 | X53: =E53 -> 0 | Y53: =I53 -> 0 | Z53: =IF(V53,F53,"") | AA53: =IF(V53,H53,"") | AC53: =IF(Z53>AA53,X53,"") | AD53: =IF(AA53="","",IF(Z53=AA53,X53,"")) | AE53: =IF(AND($AW$61,Z53=0,AA53=20),X53&"ooo",IF(Z53<AA53,X53,"")) | AF53: =IF(AA53>Z53,Y53,"") | AG53: =IF(AA53="","",IF(Z53=AA53,Y53,"")) | AH53: =IF(AND($AW$61,Z53=20,AA53=0),Y53&"ooo",IF(Z53>AA53,Y53,"")) | AI53: =C53 -> 0 | AL53: =IF(OR(X53=Kedvenc!$C$43,Y53=Kedvenc!$C$43),W53,"") | AM53: =IF(AL53="","",U53) | AP53: =MATCH(AP51,$AC$41:$AH$41,0) -> 1 | AQ53: =MATCH(AQ51,$AC$41:$AH$41,0) -> 2 | AR53: =MATCH(AR51,$AC$41:$AH$41,0) -> 3 | AS53: =MATCH(AS51,$AC$41:$AH$41,0) -> 4 | AT53: =MATCH(AT51,$AC$41:$AH$41,0) -> 5 | AU53: =MATCH(AU51,$AC$41:$AH$41,0) -> 6 | AV53: -4 | AW53: -3 | AX53: -2 | AY53: -1
U54: =X54&Y54 -> 00 | V54: =AND(F54<>"",H54<>"") -> FALSE | W54: =W53 -> 1 | X54: =E54 -> 0 | Y54: =I54 -> 0 | Z54: =IF(V54,F54,"") | AA54: =IF(V54,H54,"") | AC54: =IF(Z54>AA54,X54,"") | AD54: =IF(AA54="","",IF(Z54=AA54,X54,"")) | AE54: =IF(AND($AW$61,Z54=0,AA54=20),X54&"ooo",IF(Z54<AA54,X54,"")) | AF54: =IF(AA54>Z54,Y54,"") | AG54: =IF(AA54="","",IF(Z54=AA54,Y54,"")) | AH54: =IF(AND($AW$61,Z54=20,AA54=0),Y54&"ooo",IF(Z54>AA54,Y54,"")) | AI54: =C54 -> 0 | AL54: =IF(OR(X54=Kedvenc!$C$43,Y54=Kedvenc!$C$43),W54,"") | AM54: =IF(AL54="","",U54) | AP54: =MATCH(ASZTAB!$AJ$65,index.a,0)+ROUNDUP(ASZTAB!$X$68/2,0)-AP52+IF(ASZTAB!$X$71,16,0) -> 342 | AQ54: =MATCH(ASZTAB!$AJ$65,index.a,0)+ROUNDUP(ASZTAB!$X$68/2,0)-AQ52+IF(ASZTAB!$X$71,16,0) -> 342 | AR54: =MATCH(ASZTAB!$AJ$65,index.a,0)+ROUNDUP(ASZTAB!$X$68/2,0)-AR52+IF(ASZTAB!$X$71,16,0) -> 342 | AS54: =MATCH(ASZTAB!$AJ$65,index.a,0)+ROUNDUP(ASZTAB!$X$68/2,0)-AS52+IF(ASZTAB!$X$71,16,0) -> 342 | AT54: =MATCH(ASZTAB!$AJ$65,index.a,0)+ROUNDUP(ASZTAB!$X$68/2,0)-AT52+IF(ASZTAB!$X$71,16,0) -> 342 | AU54: =MATCH(ASZTAB!$AJ$65,index.a,0)+ROUNDUP(ASZTAB!$X$68/2,0)-AU52+IF(ASZTAB!$X$71,16,0) -> 342 | AV54: =MATCH(ASZTAB!$AJ$65,index.a,0)+ROUNDUP(ASZTAB!$X$68/2,0)-AV52+IF(ASZTAB!$X$71,16,0) -> 342 | AW54: =MATCH(ASZTAB!$AJ$65,index.a,0)+ROUNDUP(ASZTAB!$X$68/2,0)-AW52+IF(ASZTAB!$X$71,16,0) -> 342 | ... AY54: =MATCH(ASZTAB!$AJ$65,index.a,0)+ROUNDUP(ASZTAB!$X$68/2,0)-AY52+IF(ASZTAB!$X$71,16,0) -> 342
AP55: 1 | AQ55: 1 | AR55: 1 | AS55: 1 | AT55: 1 | AU55: 1 | AV55: 1 | AW55: 1 | AX55: 1 | AY55: 1
C57: =CONCATENATE(" ",AB59,"."," forduló –") -> 2. forduló – | D57: =VLOOKUP(AB59,ASZ!$AQ$59:$AS$104,2,FALSE) -> 42095 | I57: =CONCATENATE(IF($AW$61,"pont: ","gól: "),SUM(F59:H70)," / átlag: ",TEXT(IF(COUNT(F59:H70)=0,"-",SUM(F59:H70)/COUNT(F59:H70)*2),"0,00")) -> gól: 14 / átlag: 2,80 | K57: FELJEGYZÉSEK | AR57: Naptár | AT57: ►▲▼
C59: 42095 | D59: 19:00 – A pálya | E59: K&H | F59: 2 | G59: – | H59: 1 | I59: Carbonász | U59: =X59&Y59 -> K&HCarbonász | V59: =AND(F59<>"",H59<>"") -> TRUE | W59: =AB59 -> 2 | X59: =E59 -> K&H | Y59: =I59 -> Carbonász | Z59: =IF(V59,F59,"") -> 2 | AA59: =IF(V59,H59,"") -> 1 | AB59: =IF(NOT(ASZTAB!$X$71),AB43+1,AB43+COUNTIF(AB29:AB58,AB43)-1) -> 2 | AC59: =IF(Z59>AA59,X59,"") -> K&H | AD59: =IF(AA59="","",IF(Z59=AA59,X59,"")) | AE59: =IF(AND($AW$61,Z59=0,AA59=20),X59&"ooo",IF(Z59<AA59,X59,"")) | AF59: =IF(AA59>Z59,Y59,"") | AG59: =IF(AA59="","",IF(Z59=AA59,Y59,"")) | AH59: =IF(AND($AW$61,Z59=20,AA59=0),Y59&"ooo",IF(Z59>AA59,Y59,"")) -> Carbonász | AI59: =C59 -> 42095 | AL59: =IF(OR(X59=Kedvenc!$C$43,Y59=Kedvenc!$C$43),W59,"") | AM59: =IF(AL59="","",U59) | AQ59: 1 | AR59: 42088 | AS59: =IF(AR59<TODAY(),1000,AQ59) -> 1000 | AT59: =IF(COUNT(OFFSET($AB$42,MATCH(AQ59,index.a,0),-2,12+IF(ASZTAB!$X$71,16,0),2))>=4,AQ59,-1000) -> 1 | AV59: Labdarúgás: | AW59: =ASZTAB!AJ42 -> TRUE | BB59: =C59&D59 -> 4209519:00 – A pálya | BC59: =COUNTIF($BB$43:$BB$383,BB59) -> 1 | BD59: =U59 -> K&HCarbonász
C60: 42095 | D60: 19:45 – A pálya | E60: Élelmesek | F60: 4 | G60: – | H60: 1 | I60: Bakafogó-Honvéd-Sashegy SE | U60: =X60&Y60 -> ÉlelmesekBakafogó-Honvéd-Sashegy SE | V60: =AND(F60<>"",H60<>"") -> TRUE | W60: =W59 -> 2 | X60: =E60 -> Élelmesek | Y60: =I60 -> Bakafogó-Honvéd-Sashegy SE | Z60: =IF(V60,F60,"") -> 4 | AA60: =IF(V60,H60,"") -> 1 | AC60: =IF(Z60>AA60,X60,"") -> Élelmesek | AD60: =IF(AA60="","",IF(Z60=AA60,X60,"")) | AE60: =IF(AND($AW$61,Z60=0,AA60=20),X60&"ooo",IF(Z60<AA60,X60,"")) | AF60: =IF(AA60>Z60,Y60,"") | AG60: =IF(AA60="","",IF(Z60=AA60,Y60,"")) | AH60: =IF(AND($AW$61,Z60=20,AA60=0),Y60&"ooo",IF(Z60>AA60,Y60,"")) -> Bakafogó-Honvéd-Sashegy SE | AI60: =C60 -> 42095 | AL60: =IF(OR(X60=Kedvenc!$C$43,Y60=Kedvenc!$C$43),W60,"") | AM60: =IF(AL60="","",U60) | AQ60: 2 | AR60: 42095 | AS60: =IF(AR60<TODAY(),1000,AQ60) -> 1000 | AT60: =IF(COUNT(OFFSET($AB$42,MATCH(AQ60,index.a,0),-2,12+IF(ASZTAB!$X$71,16,0),2))>=4,AQ60,-1000) -> 2 | AV60: Kézilabda: | AW60: =ASZTAB!AJ43 -> FALSE | BB60: =C60&D60 -> 4209519:45 – A pálya | BC60: =COUNTIF($BB$43:$BB$383,BB60) -> 1 | BD60: =U60 -> ÉlelmesekBakafogó-Honvéd-Sashegy SE
C61: 42095 | D61: 20:30 – A pálya | E61: Bőrdíszmű | F61: 0 | G61: – | H61: 1 | I61: Hercules-Ludovika | U61: =X61&Y61 -> BőrdíszműHercules-Ludovika | V61: =AND(F61<>"",H61<>"") -> TRUE | W61: =W60 -> 2 | X61: =E61 -> Bőrdíszmű | Y61: =I61 -> Hercules-Ludovika | Z61: =IF(V61,F61,"") -> 0 | AA61: =IF(V61,H61,"") -> 1 | AC61: =IF(Z61>AA61,X61,"") | AD61: =IF(AA61="","",IF(Z61=AA61,X61,"")) | AE61: =IF(AND($AW$61,Z61=0,AA61=20),X61&"ooo",IF(Z61<AA61,X61,"")) -> Bőrdíszmű | AF61: =IF(AA61>Z61,Y61,"") -> Hercules-Ludovika | AG61: =IF(AA61="","",IF(Z61=AA61,Y61,"")) | AH61: =IF(AND($AW$61,Z61=20,AA61=0),Y61&"ooo",IF(Z61>AA61,Y61,"")) | AI61: =C61 -> 42095 | AL61: =IF(OR(X61=Kedvenc!$C$43,Y61=Kedvenc!$C$43),W61,"") | AM61: =IF(AL61="","",U61) | AQ61: 3 | AR61: 42102 | AS61: =IF(AR61<TODAY(),1000,AQ61) -> 1000 | AT61: =IF(COUNT(OFFSET($AB$42,MATCH(AQ61,index.a,0),-2,12+IF(ASZTAB!$X$71,16,0),2))>=4,AQ61,-1000) -> 3 | AV61: Kosárlabda: | AW61: =ASZTAB!AJ44 -> FALSE | BB61: =C61&D61 -> 4209520:30 – A pálya | BC61: =COUNTIF($BB$43:$BB$383,BB61) -> 1 | BD61: =U61 -> BőrdíszműHercules-Ludovika
C62: 42095 | D62: 19:00 – B pálya | E62: BBK | F62: 3 | G62: – | H62: 0 | I62: Royal Guard's | U62: =X62&Y62 -> BBKRoyal Guard's | V62: =AND(F62<>"",H62<>"") -> TRUE | W62: =W61 -> 2 | X62: =E62 -> BBK | Y62: =I62 -> Royal Guard's | Z62: =IF(V62,F62,"") -> 3 | AA62: =IF(V62,H62,"") -> 0 | AC62: =IF(Z62>AA62,X62,"") -> BBK | AD62: =IF(AA62="","",IF(Z62=AA62,X62,"")) | AE62: =IF(AND($AW$61,Z62=0,AA62=20),X62&"ooo",IF(Z62<AA62,X62,"")) | AF62: =IF(AA62>Z62,Y62,"") | AG62: =IF(AA62="","",IF(Z62=AA62,Y62,"")) | AH62: =IF(AND($AW$61,Z62=20,AA62=0),Y62&"ooo",IF(Z62>AA62,Y62,"")) -> Royal Guard's | AI62: =C62 -> 42095 | AL62: =IF(OR(X62=Kedvenc!$C$43,Y62=Kedvenc!$C$43),W62,"") | AM62: =IF(AL62="","",U62) | AQ62: 4 | AR62: 42109 | AS62: =IF(AR62<TODAY(),1000,AQ62) -> 1000 | AT62: =IF(COUNT(OFFSET($AB$42,MATCH(AQ62,index.a,0),-2,12+IF(ASZTAB!$X$71,16,0),2))>=4,AQ62,-1000) -> 4 | AV62: Vízilabda: | AW62: =ASZTAB!AJ45 -> FALSE | BB62: =C62&D62 -> 4209519:00 – B pálya | BC62: =COUNTIF($BB$43:$BB$383,BB62) -> 1 | BD62: =U62 -> BBKRoyal Guard's
C63: 42095 | D63: 19:45 – B pálya | E63: Zrínyigyöngye | F63: 1 | G63: – | H63: 1 | I63: BHD | U63: =X63&Y63 -> ZrínyigyöngyeBHD | V63: =AND(F63<>"",H63<>"") -> TRUE | W63: =W62 -> 2 | X63: =E63 -> Zrínyigyöngye | Y63: =I63 -> BHD | Z63: =IF(V63,F63,"") -> 1 | AA63: =IF(V63,H63,"") -> 1 | AC63: =IF(Z63>AA63,X63,"") | AD63: =IF(AA63="","",IF(Z63=AA63,X63,"")) -> Zrínyigyöngye | AE63: =IF(AND($AW$61,Z63=0,AA63=20),X63&"ooo",IF(Z63<AA63,X63,"")) | AF63: =IF(AA63>Z63,Y63,"") | AG63: =IF(AA63="","",IF(Z63=AA63,Y63,"")) -> BHD | AH63: =IF(AND($AW$61,Z63=20,AA63=0),Y63&"ooo",IF(Z63>AA63,Y63,"")) | AI63: =C63 -> 42095 | AL63: =IF(OR(X63=Kedvenc!$C$43,Y63=Kedvenc!$C$43),W63,"") | AM63: =IF(AL63="","",U63) | AQ63: 5 | AR63: 42116 | AS63: =IF(AR63<TODAY(),1000,AQ63) -> 1000 | AT63: =IF(COUNT(OFFSET($AB$42,MATCH(AQ63,index.a,0),-2,12+IF(ASZTAB!$X$71,16,0),2))>=4,AQ63,-1000) -> 5 | BB63: =C63&D63 -> 4209519:45 – B pálya | BC63: =COUNTIF($BB$43:$BB$383,BB63) -> 1 | BD63: =U63 -> ZrínyigyöngyeBHD
E64: Vakana | I64: szabadnapos | U64: =X64&Y64 -> Vakanaszabadnapos | V64: =AND(F64<>"",H64<>"") -> FALSE | W64: =W63 -> 2 | X64: =E64 -> Vakana | Y64: =I64 -> szabadnapos | Z64: =IF(V64,F64,"") | AA64: =IF(V64,H64,"") | AC64: =IF(Z64>AA64,X64,"") | AD64: =IF(AA64="","",IF(Z64=AA64,X64,"")) | AE64: =IF(AND($AW$61,Z64=0,AA64=20),X64&"ooo",IF(Z64<AA64,X64,"")) | AF64: =IF(AA64>Z64,Y64,"") | AG64: =IF(AA64="","",IF(Z64=AA64,Y64,"")) | AH64: =IF(AND($AW$61,Z64=20,AA64=0),Y64&"ooo",IF(Z64>AA64,Y64,"")) | AI64: =AI59 -> 42095 | AL64: =IF(OR(X64=Kedvenc!$C$43,Y64=Kedvenc!$C$43),W64,"") | AM64: =IF(AL64="","",U64) | AQ64: 6 | AR64: 42123 | AS64: =IF(AR64<TODAY(),1000,AQ64) -> 1000 | AT64: =IF(COUNT(OFFSET($AB$42,MATCH(AQ64,index.a,0),-2,12+IF(ASZTAB!$X$71,16,0),2))>=4,AQ64,-1000) -> 6 | AW64: tám/véd
U65: =X65&Y65 -> 00 | V65: =AND(F65<>"",H65<>"") -> FALSE | W65: =W64 -> 2 | X65: =E65 -> 0 | Y65: =I65 -> 0 | Z65: =IF(V65,F65,"") | AA65: =IF(V65,H65,"") | AC65: =IF(Z65>AA65,X65,"") | AD65: =IF(AA65="","",IF(Z65=AA65,X65,"")) | AE65: =IF(AND($AW$61,Z65=0,AA65=20),X65&"ooo",IF(Z65<AA65,X65,"")) | AF65: =IF(AA65>Z65,Y65,"") | AG65: =IF(AA65="","",IF(Z65=AA65,Y65,"")) | AH65: =IF(AND($AW$61,Z65=20,AA65=0),Y65&"ooo",IF(Z65>AA65,Y65,"")) | AI65: =C65 -> 0 | AL65: =IF(OR(X65=Kedvenc!$C$43,Y65=Kedvenc!$C$43),W65,"") | AM65: =IF(AL65="","",U65) | AQ65: 7 | AR65: 42130 | AS65: =IF(AR65<TODAY(),1000,AQ65) -> 1000 | AT65: =IF(COUNT(OFFSET($AB$42,MATCH(AQ65,index.a,0),-2,12+IF(ASZTAB!$X$71,16,0),2))>=4,AQ65,-1000) -> 7 | AW65: round | AX65: gam.av | AY65: gam.an
U66: =X66&Y66 -> 00 | V66: =AND(F66<>"",H66<>"") -> FALSE | W66: =W65 -> 2 | X66: =E66 -> 0 | Y66: =I66 -> 0 | Z66: =IF(V66,F66,"") | AA66: =IF(V66,H66,"") | AC66: =IF(Z66>AA66,X66,"") | AD66: =IF(AA66="","",IF(Z66=AA66,X66,"")) | AE66: =IF(AND($AW$61,Z66=0,AA66=20),X66&"ooo",IF(Z66<AA66,X66,"")) | AF66: =IF(AA66>Z66,Y66,"") | AG66: =IF(AA66="","",IF(Z66=AA66,Y66,"")) | AH66: =IF(AND($AW$61,Z66=20,AA66=0),Y66&"ooo",IF(Z66>AA66,Y66,"")) | AI66: =C66 -> 0 | AL66: =IF(OR(X66=Kedvenc!$C$43,Y66=Kedvenc!$C$43),W66,"") | AM66: =IF(AL66="","",U66) | AQ66: 8 | AR66: 42137 | AS66: =IF(AR66<TODAY(),1000,AQ66) -> 1000 | AT66: =IF(COUNT(OFFSET($AB$42,MATCH(AQ66,index.a,0),-2,12+IF(ASZTAB!$X$71,16,0),2))>=4,AQ66,-1000) -> 8 | AW66: =MATCH($AT$107,index.a,0) -> 337 | AX66: =MATCH(ASZTAB!$P$43,index.a,0) -> 1 | AY66: =MATCH(ASZTAB!$AJ$62,index.a,0) -> 1
U67: =X67&Y67 -> 00 | V67: =AND(F67<>"",H67<>"") -> FALSE | W67: =W66 -> 2 | X67: =E67 -> 0 | Y67: =I67 -> 0 | Z67: =IF(V67,F67,"") | AA67: =IF(V67,H67,"") | AC67: =IF(Z67>AA67,X67,"") | AD67: =IF(AA67="","",IF(Z67=AA67,X67,"")) | AE67: =IF(AND($AW$61,Z67=0,AA67=20),X67&"ooo",IF(Z67<AA67,X67,"")) | AF67: =IF(AA67>Z67,Y67,"") | AG67: =IF(AA67="","",IF(Z67=AA67,Y67,"")) | AH67: =IF(AND($AW$61,Z67=20,AA67=0),Y67&"ooo",IF(Z67>AA67,Y67,"")) | AI67: =C67 -> 0 | AL67: =IF(OR(X67=Kedvenc!$C$43,Y67=Kedvenc!$C$43),W67,"") | AM67: =IF(AL67="","",U67) | AQ67: 9 | AR67: 42144 | AS67: =IF(AR67<TODAY(),1000,AQ67) -> 1000 | AT67: =IF(COUNT(OFFSET($AB$42,MATCH(AQ67,index.a,0),-2,12+IF(ASZTAB!$X$71,16,0),2))>=4,AQ67,-1000) -> 9 | AW67: -7 | AX67: -7 | AY67: -7
U68: =X68&Y68 -> 00 | V68: =AND(F68<>"",H68<>"") -> FALSE | W68: =W67 -> 2 | X68: =E68 -> 0 | Y68: =I68 -> 0 | Z68: =IF(V68,F68,"") | AA68: =IF(V68,H68,"") | AC68: =IF(Z68>AA68,X68,"") | AD68: =IF(AA68="","",IF(Z68=AA68,X68,"")) | AE68: =IF(AND($AW$61,Z68=0,AA68=20),X68&"ooo",IF(Z68<AA68,X68,"")) | AF68: =IF(AA68>Z68,Y68,"") | AG68: =IF(AA68="","",IF(Z68=AA68,Y68,"")) | AH68: =IF(AND($AW$61,Z68=20,AA68=0),Y68&"ooo",IF(Z68>AA68,Y68,"")) | AI68: =C68 -> 0 | AL68: =IF(OR(X68=Kedvenc!$C$43,Y68=Kedvenc!$C$43),W68,"") | AM68: =IF(AL68="","",U68) | AQ68: 10 | AR68: 42151 | AS68: =IF(AR68<TODAY(),1000,AQ68) -> 1000 | AT68: =IF(COUNT(OFFSET($AB$42,MATCH(AQ68,index.a,0),-2,12+IF(ASZTAB!$X$71,16,0),2))>=4,AQ68,-1000) -> 10 | AW68: =IF(ASZTAB!$X$71,28,12) -> 12 | AX68: =MATCH(ASZTAB!$R$43,index.a,0)+ROUNDUP(ASZTAB!$X$68/2,0)-AX66+IF(ASZTAB!$X$71,16,0) -> 342 | AY68: =MATCH(ASZTAB!$R$43-1,index.a,0)+ROUNDUP(ASZTAB!$X$68/2,0)-AY66+IF(ASZTAB!$X$71,16,0) -> 326
U69: =X69&Y69 -> 00 | V69: =AND(F69<>"",H69<>"") -> FALSE | W69: =W68 -> 2 | X69: =E69 -> 0 | Y69: =I69 -> 0 | Z69: =IF(V69,F69,"") | AA69: =IF(V69,H69,"") | AC69: =IF(Z69>AA69,X69,"") | AD69: =IF(AA69="","",IF(Z69=AA69,X69,"")) | AE69: =IF(AND($AW$61,Z69=0,AA69=20),X69&"ooo",IF(Z69<AA69,X69,"")) | AF69: =IF(AA69>Z69,Y69,"") | AG69: =IF(AA69="","",IF(Z69=AA69,Y69,"")) | AH69: =IF(AND($AW$61,Z69=20,AA69=0),Y69&"ooo",IF(Z69>AA69,Y69,"")) | AI69: =C69 -> 0 | AL69: =IF(OR(X69=Kedvenc!$C$43,Y69=Kedvenc!$C$43),W69,"") | AM69: =IF(AL69="","",U69) | AQ69: 11 | AR69: 42158 | AS69: =IF(AR69<TODAY(),1000,AQ69) -> 1000 | AT69: =IF(COUNT(OFFSET($AB$42,MATCH(AQ69,index.a,0),-2,12+IF(ASZTAB!$X$71,16,0),2))>=4,AQ69,-1000) -> 11 | AW69: 14 | AX69: 1 | AY69: 1
U70: =X70&Y70 -> 00 | V70: =AND(F70<>"",H70<>"") -> FALSE | W70: =W69 -> 2 | X70: =E70 -> 0 | Y70: =I70 -> 0 | Z70: =IF(V70,F70,"") | AA70: =IF(V70,H70,"") | AC70: =IF(Z70>AA70,X70,"") | AD70: =IF(AA70="","",IF(Z70=AA70,X70,"")) | AE70: =IF(AND($AW$61,Z70=0,AA70=20),X70&"ooo",IF(Z70<AA70,X70,"")) | AF70: =IF(AA70>Z70,Y70,"") | AG70: =IF(AA70="","",IF(Z70=AA70,Y70,"")) | AH70: =IF(AND($AW$61,Z70=20,AA70=0),Y70&"ooo",IF(Z70>AA70,Y70,"")) | AI70: =C70 -> 0 | AL70: =IF(OR(X70=Kedvenc!$C$43,Y70=Kedvenc!$C$43),W70,"") | AM70: =IF(AL70="","",U70) | AQ70: 12 | AR70: 42165 | AS70: =IF(AR70<TODAY(),1000,AQ70) -> 1000 | AT70: =IF(COUNT(OFFSET($AB$42,MATCH(AQ70,index.a,0),-2,12+IF(ASZTAB!$X$71,16,0),2))>=4,AQ70,-1000) -> 12
AQ71: 13 | AR71: 42172 | AS71: =IF(AR71<TODAY(),1000,AQ71) -> 1000 | AT71: =IF(COUNT(OFFSET($AB$42,MATCH(AQ71,index.a,0),-2,12+IF(ASZTAB!$X$71,16,0),2))>=4,AQ71,-1000) -> 13
AQ72: 14 | AR72: 42179 | AS72: =IF(AR72<TODAY(),1000,AQ72) -> 1000 | AT72: =IF(COUNT(OFFSET($AB$42,MATCH(AQ72,index.a,0),-2,12+IF(ASZTAB!$X$71,16,0),2))>=4,AQ72,-1000) -> 14
C73: =CONCATENATE(" ",AB75,"."," forduló –") -> 3. forduló – | D73: =VLOOKUP(AB75,ASZ!$AQ$59:$AS$104,2,FALSE) -> 42102 | I73: =CONCATENATE(IF($AW$61,"pont: ","gól: "),SUM(F75:H86)," / átlag: ",TEXT(IF(COUNT(F75:H86)=0,"-",SUM(F75:H86)/COUNT(F75:H86)*2),"0,00")) -> gól: 24 / átlag: 4,80 | K73: FELJEGYZÉSEK | AQ73: 15 | AR73: 42242 | AS73: =IF(AR73<TODAY(),1000,AQ73) -> 1000 | AT73: =IF(COUNT(OFFSET($AB$42,MATCH(AQ73,index.a,0),-2,12+IF(ASZTAB!$X$71,16,0),2))>=4,AQ73,-1000) -> 15
AQ74: 16 | AR74: 42249 | AS74: =IF(AR74<TODAY(),1000,AQ74) -> 1000 | AT74: =IF(COUNT(OFFSET($AB$42,MATCH(AQ74,index.a,0),-2,12+IF(ASZTAB!$X$71,16,0),2))>=4,AQ74,-1000) -> 16
C75: 42102 | D75: 19:45 – A pálya | E75: Zrínyigyöngye | F75: 1 | G75: – | H75: 3 | I75: BBK | U75: =X75&Y75 -> ZrínyigyöngyeBBK | V75: =AND(F75<>"",H75<>"") -> TRUE | W75: =AB75 -> 3 | X75: =E75 -> Zrínyigyöngye | Y75: =I75 -> BBK | Z75: =IF(V75,F75,"") -> 1 | AA75: =IF(V75,H75,"") -> 3 | AB75: =IF(NOT(ASZTAB!$X$71),AB59+1,AB59+COUNTIF(AB43:AB74,AB59)-1) -> 3 | AC75: =IF(Z75>AA75,X75,"") | AD75: =IF(AA75="","",IF(Z75=AA75,X75,"")) | AE75: =IF(AND($AW$61,Z75=0,AA75=20),X75&"ooo",IF(Z75<AA75,X75,"")) -> Zrínyigyöngye | AF75: =IF(AA75>Z75,Y75,"") -> BBK | AG75: =IF(AA75="","",IF(Z75=AA75,Y75,"")) | AH75: =IF(AND($AW$61,Z75=20,AA75=0),Y75&"ooo",IF(Z75>AA75,Y75,"")) | AI75: =C75 -> 42102 | AL75: =IF(OR(X75=Kedvenc!$C$43,Y75=Kedvenc!$C$43),W75,"") | AM75: =IF(AL75="","",U75) | AQ75: 17 | AR75: 42256 | AS75: =IF(AR75<TODAY(),1000,AQ75) -> 1000 | AT75: =IF(COUNT(OFFSET($AB$42,MATCH(AQ75,index.a,0),-2,12+IF(ASZTAB!$X$71,16,0),2))>=4,AQ75,-1000) -> 17 | BB75: =C75&D75 -> 4210219:45 – A pálya | BC75: =COUNTIF($BB$43:$BB$383,BB75) -> 1 | BD75: =U75 -> ZrínyigyöngyeBBK
C76: 42102 | D76: 20:30 – A pálya | E76: Bőrdíszmű | F76: 3 | G76: – | H76: 3 | I76: Carbonász | U76: =X76&Y76 -> BőrdíszműCarbonász | V76: =AND(F76<>"",H76<>"") -> TRUE | W76: =W75 -> 3 | X76: =E76 -> Bőrdíszmű | Y76: =I76 -> Carbonász | Z76: =IF(V76,F76,"") -> 3 | AA76: =IF(V76,H76,"") -> 3 | AC76: =IF(Z76>AA76,X76,"") | AD76: =IF(AA76="","",IF(Z76=AA76,X76,"")) -> Bőrdíszmű | AE76: =IF(AND($AW$61,Z76=0,AA76=20),X76&"ooo",IF(Z76<AA76,X76,"")) | AF76: =IF(AA76>Z76,Y76,"") | AG76: =IF(AA76="","",IF(Z76=AA76,Y76,"")) -> Carbonász | AH76: =IF(AND($AW$61,Z76=20,AA76=0),Y76&"ooo",IF(Z76>AA76,Y76,"")) | AI76: =C76 -> 42102 | AL76: =IF(OR(X76=Kedvenc!$C$43,Y76=Kedvenc!$C$43),W76,"") | AM76: =IF(AL76="","",U76) | AQ76: 18 | AR76: 42263 | AS76: =IF(AR76<TODAY(),1000,AQ76) -> 1000 | AT76: =IF(COUNT(OFFSET($AB$42,MATCH(AQ76,index.a,0),-2,12+IF(ASZTAB!$X$71,16,0),2))>=4,AQ76,-1000) -> 18 | BB76: =C76&D76 -> 4210220:30 – A pálya | BC76: =COUNTIF($BB$43:$BB$383,BB76) -> 1 | BD76: =U76 -> BőrdíszműCarbonász
C77: 42102 | D77: 19:00 – B pálya | E77: Hercules-Ludovika | F77: 1 | G77: – | H77: 0 | I77: Bakafogó-Honvéd-Sashegy SE | U77: =X77&Y77 -> Hercules-LudovikaBakafogó-Honvéd-Sashegy SE | V77: =AND(F77<>"",H77<>"") -> TRUE | W77: =W76 -> 3 | X77: =E77 -> Hercules-Ludovika | Y77: =I77 -> Bakafogó-Honvéd-Sashegy SE | Z77: =IF(V77,F77,"") -> 1 | AA77: =IF(V77,H77,"") -> 0 | AC77: =IF(Z77>AA77,X77,"") -> Hercules-Ludovika | AD77: =IF(AA77="","",IF(Z77=AA77,X77,"")) | AE77: =IF(AND($AW$61,Z77=0,AA77=20),X77&"ooo",IF(Z77<AA77,X77,"")) | AF77: =IF(AA77>Z77,Y77,"") | AG77: =IF(AA77="","",IF(Z77=AA77,Y77,"")) | AH77: =IF(AND($AW$61,Z77=20,AA77=0),Y77&"ooo",IF(Z77>AA77,Y77,"")) -> Bakafogó-Honvéd-Sashegy SE | AI77: =C77 -> 42102 | AL77: =IF(OR(X77=Kedvenc!$C$43,Y77=Kedvenc!$C$43),W77,"") | AM77: =IF(AL77="","",U77) | AQ77: 19 | AR77: 42270 | AS77: =IF(AR77<TODAY(),1000,AQ77) -> 1000 | AT77: =IF(COUNT(OFFSET($AB$42,MATCH(AQ77,index.a,0),-2,12+IF(ASZTAB!$X$71,16,0),2))>=4,AQ77,-1000) -> 19 | BB77: =C77&D77 -> 4210219:00 – B pálya | BC77: =COUNTIF($BB$43:$BB$383,BB77) -> 1 | BD77: =U77 -> Hercules-LudovikaBakafogó-Honvéd-Sashegy SE
C78: 42102 | D78: 19:45 – B pálya | E78: Vakana | F78: 0 | G78: – | H78: 3 | I78: BHD | U78: =X78&Y78 -> VakanaBHD | V78: =AND(F78<>"",H78<>"") -> TRUE | W78: =W77 -> 3 | X78: =E78 -> Vakana | Y78: =I78 -> BHD | Z78: =IF(V78,F78,"") -> 0 | AA78: =IF(V78,H78,"") -> 3 | AC78: =IF(Z78>AA78,X78,"") | AD78: =IF(AA78="","",IF(Z78=AA78,X78,"")) | AE78: =IF(AND($AW$61,Z78=0,AA78=20),X78&"ooo",IF(Z78<AA78,X78,"")) -> Vakana | AF78: =IF(AA78>Z78,Y78,"") -> BHD | AG78: =IF(AA78="","",IF(Z78=AA78,Y78,"")) | AH78: =IF(AND($AW$61,Z78=20,AA78=0),Y78&"ooo",IF(Z78>AA78,Y78,"")) | AI78: =C78 -> 42102 | AL78: =IF(OR(X78=Kedvenc!$C$43,Y78=Kedvenc!$C$43),W78,"") | AM78: =IF(AL78="","",U78) | AQ78: 20 | AR78: 42277 | AS78: =IF(AR78<TODAY(),1000,AQ78) -> 1000 | AT78: =IF(COUNT(OFFSET($AB$42,MATCH(AQ78,index.a,0),-2,12+IF(ASZTAB!$X$71,16,0),2))>=4,AQ78,-1000) -> 20 | BB78: =C78&D78 -> 4210219:45 – B pálya | BC78: =COUNTIF($BB$43:$BB$383,BB78) -> 1 | BD78: =U78 -> VakanaBHD
C79: 42088 | D79: 20:30 – B pálya | E79: K&H | F79: 10 | G79: – | H79: 0 | I79: Royal Guard's | K79: Előrehozva az első játéknapra | U79: =X79&Y79 -> K&HRoyal Guard's | V79: =AND(F79<>"",H79<>"") -> TRUE | W79: =W78 -> 3 | X79: =E79 -> K&H | Y79: =I79 -> Royal Guard's | Z79: =IF(V79,F79,"") -> 10 | AA79: =IF(V79,H79,"") -> 0 | AC79: =IF(Z79>AA79,X79,"") -> K&H | AD79: =IF(AA79="","",IF(Z79=AA79,X79,"")) | AE79: =IF(AND($AW$61,Z79=0,AA79=20),X79&"ooo",IF(Z79<AA79,X79,"")) | AF79: =IF(AA79>Z79,Y79,"") | AG79: =IF(AA79="","",IF(Z79=AA79,Y79,"")) | AH79: =IF(AND($AW$61,Z79=20,AA79=0),Y79&"ooo",IF(Z79>AA79,Y79,"")) -> Royal Guard's | AI79: =C79 -> 42088 | AL79: =IF(OR(X79=Kedvenc!$C$43,Y79=Kedvenc!$C$43),W79,"") | AM79: =IF(AL79="","",U79) | AQ79: 21 | AR79: 42284 | AS79: =IF(AR79<TODAY(),1000,AQ79) -> 1000 | AT79: =IF(COUNT(OFFSET($AB$42,MATCH(AQ79,index.a,0),-2,12+IF(ASZTAB!$X$71,16,0),2))>=4,AQ79,-1000) -> 21 | BB79: =C79&D79 -> 4208820:30 – B pálya | BC79: =COUNTIF($BB$43:$BB$383,BB79) -> 1 | BD79: =U79 -> K&HRoyal Guard's
E80: Élelmesek | I80: szabadnapos | U80: =X80&Y80 -> Élelmesekszabadnapos | V80: =AND(F80<>"",H80<>"") -> FALSE | W80: =W79 -> 3 | X80: =E80 -> Élelmesek | Y80: =I80 -> szabadnapos | Z80: =IF(V80,F80,"") | AA80: =IF(V80,H80,"") | AC80: =IF(Z80>AA80,X80,"") | AD80: =IF(AA80="","",IF(Z80=AA80,X80,"")) | AE80: =IF(AND($AW$61,Z80=0,AA80=20),X80&"ooo",IF(Z80<AA80,X80,"")) | AF80: =IF(AA80>Z80,Y80,"") | AG80: =IF(AA80="","",IF(Z80=AA80,Y80,"")) | AH80: =IF(AND($AW$61,Z80=20,AA80=0),Y80&"ooo",IF(Z80>AA80,Y80,"")) | AI80: =AI75 -> 42102 | AL80: =IF(OR(X80=Kedvenc!$C$43,Y80=Kedvenc!$C$43),W80,"") | AM80: =IF(AL80="","",U80) | AQ80: 22 | AR80: 42291 | AS80: =IF(AR80<TODAY(),1000,AQ80) -> 1000 | AT80: =IF(COUNT(OFFSET($AB$42,MATCH(AQ80,index.a,0),-2,12+IF(ASZTAB!$X$71,16,0),2))>=4,AQ80,-1000) -> 22
U81: =X81&Y81 -> 00 | V81: =AND(F81<>"",H81<>"") -> FALSE | W81: =W80 -> 3 | X81: =E81 -> 0 | Y81: =I81 -> 0 | Z81: =IF(V81,F81,"") | AA81: =IF(V81,H81,"") | AC81: =IF(Z81>AA81,X81,"") | AD81: =IF(AA81="","",IF(Z81=AA81,X81,"")) | AE81: =IF(AND($AW$61,Z81=0,AA81=20),X81&"ooo",IF(Z81<AA81,X81,"")) | AF81: =IF(AA81>Z81,Y81,"") | AG81: =IF(AA81="","",IF(Z81=AA81,Y81,"")) | AH81: =IF(AND($AW$61,Z81=20,AA81=0),Y81&"ooo",IF(Z81>AA81,Y81,"")) | AI81: =C81 -> 0 | AL81: =IF(OR(X81=Kedvenc!$C$43,Y81=Kedvenc!$C$43),W81,"") | AM81: =IF(AL81="","",U81)
U82: =X82&Y82 -> 00 | V82: =AND(F82<>"",H82<>"") -> FALSE | W82: =W81 -> 3 | X82: =E82 -> 0 | Y82: =I82 -> 0 | Z82: =IF(V82,F82,"") | AA82: =IF(V82,H82,"") | AC82: =IF(Z82>AA82,X82,"") | AD82: =IF(AA82="","",IF(Z82=AA82,X82,"")) | AE82: =IF(AND($AW$61,Z82=0,AA82=20),X82&"ooo",IF(Z82<AA82,X82,"")) | AF82: =IF(AA82>Z82,Y82,"") | AG82: =IF(AA82="","",IF(Z82=AA82,Y82,"")) | AH82: =IF(AND($AW$61,Z82=20,AA82=0),Y82&"ooo",IF(Z82>AA82,Y82,"")) | AI82: =C82 -> 0 | AL82: =IF(OR(X82=Kedvenc!$C$43,Y82=Kedvenc!$C$43),W82,"") | AM82: =IF(AL82="","",U82)
...

Sheet ASZTAB
B39: TABELLA – ALAPSZAKASZ
E41: AZ ALAPSZAKASZ ÁLLÁSA | F41: M | G41: Gy | H41: D | I41: V | J41: L–K | K41: Gk | M41: P | O41: ELEMZÉSI LEHETŐSÉGEK | W41: CSAPATOK | AB41: BÜNTETÉSEK CSAPATNÉVSORHOZ ÉRVÉNYESÍTŐ LISTA | AI41: SPORTÁG | AN41: ÖSSZEVONANDÓ ADATOK | AY41: .av1 | BC41: .av1 | BD41: M | BE41: Gy | BF41: D | BG41: V | BH41: L | BI41: K | BJ41: Gk | BK41: Pa | BL41: P- | BM41: P | BN41: Pko | BO41: Rel | BP41: hely | BQ41: eee | BS41: NK | BT41: Gy | BU41: D | BV41: V | BW41: L | BX41: K | BZ41: NK | CA41: Gy | CB41: D | CC41: V | CD41: L | CE41: K | CI41: DB | CJ41: P.aa1 | CK41: REL.aa1 | CO41: =IF(CN42=0,"xxx",VLOOKUP(CN42,CI42:CL65,IF($AJ$44,3,2),FALSE)) -> 20 | CQ41: I.-10 | CR41: =IF(CN43=0,"xxx",VLOOKUP(CN43,CI42:CL65,IF($AJ$44,3,2),FALSE)) -> 25 | CT41: I.-7 | CU41: =IF(CN44=0,"xxx",VLOOKUP(CN44,CI42:CL65,IF($AJ$44,3,2),FALSE)) -> 52 | CW41: I.-5 | CX41: =IF(CN45=0,"xxx",VLOOKUP(CN45,CI42:CL65,IF($AJ$44,3,2),FALSE)) -> xxx | CZ41: I.-4 | DA41: =IF(CN46=0,"xxx",VLOOKUP(CN46,CI42:CL65,IF($AJ$44,3,2),FALSE)) -> xxx | DC41: I.-3 | DD41: =IF(CN47=0,"xxx",VLOOKUP(CN47,CI42:CL65,IF($AJ$44,3,2),FALSE)) -> xxx | DF41: I.-2 | DI41: =OR(NOT($AJ$44),COUNTIF(DN41:DN150,"")=100-(DP41-1)*DP41,COUNTIF(DN41:DN150,"")=100-(DP41-1)*DP41/2) -> TRUE | DJ41: g. | DK41: w. | DL41: draw | DN41: F | DO41: A | DP41: =COUNT(CQ42:CQ51) -> 2 | DR41: I.-10 | DV41: multiple | DW41: mgy | DX41: gy | DZ41: l | EA41: k | EC41: PA | EE41: score | EI41: finom | EJ41: sorr | EK41: eee | EM41: DB | EN41: score | EO41: GY | ES41: =IF(ER42=0,"xxx",VLOOKUP(ER42,EM42:EP51,IF($AJ$54,2,3),FALSE)) -> xxx | EV41: =IF(ER43=0,"xxx",VLOOKUP(ER43,EM42:EP51,IF($AJ$54,2,3),FALSE)) -> xxx | EY41: =IF(ER44=0,"xxx",VLOOKUP(ER44,EM42:EP51,IF($AJ$54,2,3),FALSE)) -> xxx | FG41: ÁTVITT EREDMÉNYEK | FQ41: g. | FR41: wh | FS41: dh | FT41: lh | FU41: wa | FV41: da | FW41: la | FX41: F | FY41: A | GB41: 1.
C42: =IF(OR(NOT($AJ$72),D42="►"),"",TEXT(ABS(VLOOKUP(AN42,$AN$146:$AQ$169,3,FALSE)-VLOOKUP(AN42,$AN$146:$AQ$169,4,FALSE)),"0")) | D42: =IF($AJ$72,VLOOKUP(AN42,$AN$146:$AO$169,2,FALSE),"") -> ► | E42: =CONCATENATE(AO42,". ",AN42) -> 1. BBK | F42: =VLOOKUP($AN42,table.n.av1,2,FALSE) -> 20 | G42: =IF(VLOOKUP($AN42,table.n.av1,3,FALSE)=0,"–",VLOOKUP($AN42,table.n.av1,3,FALSE)) -> 17 | H42: =IF(VLOOKUP($AN42,table.n.av1,4,FALSE)=0,"–",VLOOKUP($AN42,table.n.av1,4,FALSE)) -> 1 | I42: =IF(VLOOKUP($AN42,table.n.av1,5,FALSE)=0,"–",VLOOKUP($AN42,table.n.av1,5,FALSE)) -> 2 | J42: =CONCATENATE(AP42,"–",AQ42) -> 86–30 | K42: =IF(VLOOKUP($AN42,table.n.av1,8,FALSE)=0,0,IF(VLOOKUP($AN42,table.n.av1,8,FALSE)>0,CONCATENATE("+",VLOOKUP($AN42,table.n.av1,8,FALSE)," "),CONCATENATE("–",VLOOKUP($AN42,table.n.av1,8,FALSE)*-1," "))) -> +56 | M42: =VLOOKUP($AN42,table.n.av1,IF($AJ$44,12,11),FALSE) -> 52 | O42: Részleges tabella megtekintése a következő két forduló közötti periódusra: | W42: Csapatok (Adatok): | X42: =Adatok!A1 -> Bakafogó-Honvéd-Sashegy SE | AB42: =IF(X42=0,0,BP42) -> 0.04 | AC42: =X42 -> Bakafogó-Honvéd-Sashegy SE | AD42: =LARGE($AB$42:$AB$76,BB42) -> 0.04 | AE42: =IF(AD42=0,0,VLOOKUP(AD42,$AB$42:$AC$76,2,FALSE)) -> Bakafogó-Honvéd-Sashegy SE | AI42: Labdarúgás: | AJ42: =AND(NOT(AJ43),NOT(AJ44),NOT(AJ45)) -> TRUE | AN42: =IF(VLOOKUP($AY42,INDIRECT(CONCATENATE($AJ$59,1)),3,FALSE)=0,"–",VLOOKUP($AY42,INDIRECT(CONCATENATE($AJ$59,1)),3,FALSE)) -> BBK | AO42: =AZ42 -> 1 | AP42: =VLOOKUP($AN42,table.n.av1,6,FALSE) -> 86 | AQ42: =VLOOKUP($AN42,table.n.av1,7,FALSE) -> 30 | AY42: =LARGE(IF($AJ$58=1,$BA$42:$BA$65,$BA$119:$BA$142),BB42) -> 52256086 | AZ42: 1 | BA42: =IF($AJ$44,BO42*100,IF($AJ$43,BM42*10,BM42))*1000000+IF($AJ$52,BE42*10000,0)+IF($AJ$44,BK42,BJ42)*1000/IF(OR($AJ$43,$AJ$52),10,1)+IF($AJ$44,0,IF($AJ$43,BH42/10,BH42))+BP42+IF($AJ$70,BQ42,0)-IF(BC42=0,1000000000,0) -> 20376041 | BB42: 1 | BC42: =X42 -> Bakafogó-Honvéd-Sashegy SE | BD42: =BE42+BF42+BG42 -> 20 | BE42: =IF($AJ$57=1,BT42+CA42,IF($AJ$57=2,BT42,IF($AJ$57=3,CA42,""))) -> 6 | BF42: =IF($AJ$57=1,BU42+CB42,IF($AJ$57=2,BU42,IF($AJ$57=3,CB42,""))) -> 2 | BG42: =IF($AJ$57=1,BV42+CC42,IF($AJ$57=2,BV42,IF($AJ$57=3,CC42,""))) -> 12 | BH42: =IF($AJ$57=1,BW42+CD42,IF($AJ$57=2,BW42,IF($AJ$57=3,CD42,""))) -> 41 | BI42: =IF($AJ$57=1,BX42+CE42,IF($AJ$57=2,BX42,IF($AJ$57=3,CE42,""))) -> 65 | BJ42: =BH42-BI42 -> -24 | BK42: =IF(BI42=0,0,BH42/BI42) -> 0.63076923 | BL42: =IF($AJ$71,IF(ISNA(VLOOKUP(BC42,penalty.a,2,FALSE)),0,VLOOKUP(BC42,penalty.a,2,FALSE)),0) -> 0 | BM42: =$AJ$48*BE42+BF42-BL42 -> 20 | BN42: =BE42*2+BG42-BL42 -> 24 | BO42: =IF(BD42=0,BN42,IF(BN42=0,0,BN42/BD42/2)) -> 0.6 | BP42: 0.04 | BQ42: =IF(ISNA(VLOOKUP(BC42,eee.av,16,FALSE)),0,VLOOKUP(BC42,eee.av,16,FALSE)) -> 400000 | BS42: =COUNTIF(lossh.av,CONCATENATE($BC42,"ooo")) -> 0 | BT42: =COUNTIF(winh.av,$BC42) -> 3 | BU42: =COUNTIF(drawh.av,$BC42) -> 2 | BV42: =COUNTIF(lossh.av,$BC42)+BS42 -> 5 | BW42: =SUMIF(home.av,$BC42,GAA.av) -> 21 | BX42: =SUMIF(home.av,$BC42,GBB.av) -> 31 | BZ42: =COUNTIF(lossa.av,CONCATENATE($BC42,"ooo")) -> 0 | CA42: =COUNTIF(wina.av,$BC42) -> 3 | CB42: =COUNTIF(drawa.av,$BC42) -> 0 | CC42: =COUNTIF(lossa.av,$BC42)+BZ42 -> 7 | CD42: =SUMIF(away.av,$BC42,GBB.av) -> 20 | CE42: =SUMIF(away.av,$BC42,GAA.av) -> 34 | CI42: =IF($AJ$44,COUNTIF($BO$68:$BO$91,CK42)*IF(CK42=0,0,1),COUNTIF($BM$68:$BM$91,CJ42)*IF(CJ42=0,0,1))+CL42/1000 -> 2.001 | CJ42: =LARGE($BM$68:$BM$91,CL42) -> 52 | CK42: =LARGE($BO$68:$BO$91,CL42) -> 0.9 | CL42: 1 | CN42: =IF(LARGE(CI42:CI65,CL42)<2,0,LARGE(CI42:CI65,CL42)) -> 2.007 | CO42: =IF(OR(CO41=$BM68,CO41=$BO68),$BC68,"") -> Bakafogó-Honvéd-Sashegy SE | CP42: =IF(CO42="","",$CL42) -> 1 | CQ42: =IF(ISERR(LARGE(CP42:CP65,$CL42)),"",LARGE(CP42:CP65,$CL42)) -> 10 | CR42: =IF(OR(CR41=$BM68,CR41=$BO68),$BC68,"") | CS42: =IF(CR42="","",$CL42) | CT42: =IF(ISERR(LARGE(CS42:CS65,$CL42)),"",LARGE(CS42:CS65,$CL42)) -> 7 | CU42: =IF(OR(CU41=$BM68,CU41=$BO68),$BC68,"") | CV42: =IF(CU42="","",$CL42) | CW42: =IF(ISERR(LARGE(CV42:CV65,$CL42)),"",LARGE(CV42:CV65,$CL42)) -> 8 | CX42: =IF(OR(CX41=$BM68,CX41=$BO68),$BC68,"") | CY42: =IF(CX42="","",$CL42) | CZ42: =IF(ISERR(LARGE(CY42:CY65,$CL42)),"",LARGE(CY42:CY65,$CL42)) | DA42: =IF(OR(DA41=$BM68,DA41=$BO68),$BC68,"") | DB42: =IF(DA42="","",$CL42) | DC42: =IF(ISERR(LARGE(DB42:DB65,$CL42)),"",LARGE(DB42:DB65,$CL42)) | DD42: =IF(OR(DD41=$BM68,DD41=$BO68),$BC68,"") | DE42: =IF(DD42="","",$CL42) | DF42: =IF(ISERR(LARGE(DE42:DE65,$CL42)),"",LARGE(DE42:DE65,$CL42)) | DI42: =IF(CQ42="","",VLOOKUP(CQ42,xxx.aa1,4,FALSE)) -> Vakana | DJ42: =IF(OR(DI42="",DP42="",DI42=DP42),"",CONCATENATE(DI42,DP42)) | DK42: =IF($DJ42="","",CONCATENATE(VLOOKUP($DJ42,games.a,9,FALSE),VLOOKUP($DJ42,games.a,12,FALSE))) | DL42: =IF($DJ42="","",VLOOKUP($DJ42,games.a,10,FALSE)) | DM42: =IF($DJ42="","",VLOOKUP($DJ42,games.a,13,FALSE)) | DN42: =IF($DJ42="","",VLOOKUP($DJ42,games.a,6,FALSE)) | DO42: =IF($DJ42="","",VLOOKUP($DJ42,games.a,7,FALSE)) | DP42: =DI42 -> Vakana | DV42: =IF(AND($AJ$44,DI41,DP41<>2),DI42,"") | DW42: =IF(DV42="",-1,COUNTIF(xxgy.aa,DV42)) -> -1 | DX42: =IF($DV42="",0,COUNTIF(yygy.aa,$DV42)) -> 0 | DZ42: =IF($DV42="",0,1)*(SUMIF(yyo.aa,$DV42,yyl.aa)+SUMIF(yyi.aa,$DV42,yyk.aa)) -> 0 | EA42: =IF($DV42="",0,1)*(SUMIF(yyo.aa,$DV42,yyk.aa)+SUMIF(yyi.aa,$DV42,yyl.aa)) -> 0 | EC42: =IF(EA42=0,0,DZ42/EA42) -> 0 | EE42: =DW42*1000000+DX42*1000+EC42 -> -1000000 | EI42: =IF(OR(ISERR(EE42),ISNA(EE42),DW42<0),0,EE42) -> 0 | EJ42: =IF(EI42=0,0,RANK(EI42,EI42:EI51,1)) -> 0 | EK42: =EJ42*40000*IF(COUNTIF($FC$42:$FC$65,DV42)>0,0,1) -> 0 | EM42: =IF($AJ$54,COUNTIF(EE53:EE62,EN42)*IF(EN42=0,0,1),COUNTIF(DW42:DW51,EO42)*IF(EO42<0,0,1))+EP42/1000 -> 0.001 | EN42: 0 | EO42: =LARGE(DW42:DW51,EP42) -> -1 | EP42: 1 | ER42: =IF(LARGE(EM42:EM51,EP42)<1,0,LARGE(EM42:EM51,EP42)) -> 0 | ES42: =IF(DW42=ES41,DV42,IF(EE53=ES41,DV53,"")) | ET42: =IF(ES42="","",EP42) | EU42: =IF(ISERR(LARGE(ET42:ET51,EP42)),"",LARGE(ET42:ET51,EP42)) | EV42: =IF(DW42=EV41,DV42,IF(EE53=EV41,DV53,"")) | EW42: =IF(EV42="","",EP42) | EX42: =IF(ISERR(LARGE(EW42:EW51,EP42)),"",LARGE(EW42:EW51,EP42)) | EY42: =IF(DW42=EY41,DV42,IF(EE53=EY41,DV53,"")) | EZ42: =IF(EY42="","",EP42) | FA42: =IF(ISERR(LARGE(EZ42:EZ51,EP42)),"",LARGE(EZ42:EZ51,EP42)) | FJ42: 1. sorozat: | FK42: FALSE | FP42: =IF(OR(NOT($FK$42),FK44=""),"",FK44) | FQ42: =IF(OR(FP42="",FZ42="",FP42=FZ42),"",CONCATENATE(FP42,FZ42)) | FR42: =IF($FQ42="","",VLOOKUP($FQ42,games.a,9,FALSE)) | FS42: =IF($FQ42="","",VLOOKUP($FQ42,games.a,10,FALSE)) | FT42: =IF($FQ42="","",VLOOKUP($FQ42,games.a,11,FALSE)) | FU42: =IF($FQ42="","",VLOOKUP($FQ42,games.a,12,FALSE)) | FV42: =IF($FQ42="","",VLOOKUP($FQ42,games.a,13,FALSE)) | FW42: =IF($FQ42="","",VLOOKUP($FQ42,games.a,14,FALSE)) | FX42: =IF($FQ42="","",VLOOKUP($FQ42,games.a,6,FALSE)) | FY42: =IF($FQ42="","",VLOOKUP($FQ42,games.a,7,FALSE)) | FZ42: =FP42
C43: =IF(OR(NOT($AJ$72),D43="►"),"",TEXT(ABS(VLOOKUP(AN43,$AN$146:$AQ$169,3,FALSE)-VLOOKUP(AN43,$AN$146:$AQ$169,4,FALSE)),"0")) | D43: =IF($AJ$72,VLOOKUP(AN43,$AN$146:$AO$169,2,FALSE),"") -> ► | E43: =CONCATENATE(AO43,". ",AN43) -> 2. K&H | F43: =VLOOKUP($AN43,table.n.av1,2,FALSE) -> 20 | G43: =IF(VLOOKUP($AN43,table.n.av1,3,FALSE)=0,"–",VLOOKUP($AN43,table.n.av1,3,FALSE)) -> 17 | H43: =IF(VLOOKUP($AN43,table.n.av1,4,FALSE)=0,"–",VLOOKUP($AN43,table.n.av1,4,FALSE)) -> 1 | I43: =IF(VLOOKUP($AN43,table.n.av1,5,FALSE)=0,"–",VLOOKUP($AN43,table.n.av1,5,FALSE)) -> 2 | J43: =CONCATENATE(AP43,"–",AQ43) -> 107–24 | K43: =IF(VLOOKUP($AN43,table.n.av1,8,FALSE)=0,0,IF(VLOOKUP($AN43,table.n.av1,8,FALSE)>0,CONCATENATE("+",VLOOKUP($AN43,table.n.av1,8,FALSE)," "),CONCATENATE("–",VLOOKUP($AN43,table.n.av1,8,FALSE)*-1," "))) -> +83 | M43: =VLOOKUP($AN43,table.n.av1,IF($AJ$44,12,11),FALSE) -> 52 | P43: 1 | Q43: – | R43: 22 | X43: =Adatok!A2 -> BBK | AB43: =IF(X43=0,0,BP43) -> 0.039 | AC43: =X43 -> BBK | AD43: =LARGE($AB$42:$AB$76,BB43) -> 0.039 | AE43: =IF(AD43=0,0,VLOOKUP(AD43,$AB$42:$AC$76,2,FALSE)) -> BBK | AI43: Kézilabda: | AJ43: FALSE | AN43: =IF(VLOOKUP($AY43,INDIRECT(CONCATENATE($AJ$59,1)),3,FALSE)=0,"–",VLOOKUP($AY43,INDIRECT(CONCATENATE($AJ$59,1)),3,FALSE)) -> K&H | AO43: =AZ43 -> 2 | AP43: =VLOOKUP($AN43,table.n.av1,6,FALSE) -> 107 | AQ43: =VLOOKUP($AN43,table.n.av1,7,FALSE) -> 24 | AY43: =LARGE(IF($AJ$58=1,$BA$42:$BA$65,$BA$119:$BA$142),BB43) -> 52083107 | AZ43: =IF(BC43=0,"",IF(ABS(AY42-AY43)<0.03,AZ42,BB43)) -> 2 | BA43: =IF($AJ$44,BO43*100,IF($AJ$43,BM43*10,BM43))*1000000+IF($AJ$52,BE43*10000,0)+IF($AJ$44,BK43,BJ43)*1000/IF(OR($AJ$43,$AJ$52),10,1)+IF($AJ$44,0,IF($AJ$43,BH43/10,BH43))+BP43+IF($AJ$70,BQ43,0)-IF(BC43=0,1000000000,0) -> 52256086 | BB43: 2 | BC43: =X43 -> BBK | BD43: =BE43+BF43+BG43 -> 20 | BE43: =IF($AJ$57=1,BT43+CA43,IF($AJ$57=2,BT43,IF($AJ$57=3,CA43,""))) -> 17 | BF43: =IF($AJ$57=1,BU43+CB43,IF($AJ$57=2,BU43,IF($AJ$57=3,CB43,""))) -> 1 | BG43: =IF($AJ$57=1,BV43+CC43,IF($AJ$57=2,BV43,IF($AJ$57=3,CC43,""))) -> 2 | BH43: =IF($AJ$57=1,BW43+CD43,IF($AJ$57=2,BW43,IF($AJ$57=3,CD43,""))) -> 86 | BI43: =IF($AJ$57=1,BX43+CE43,IF($AJ$57=2,BX43,IF($AJ$57=3,CE43,""))) -> 30 | BJ43: =BH43-BI43 -> 56 | BK43: =IF(BI43=0,0,BH43/BI43) -> 2.8666667 | BL43: =IF($AJ$71,IF(ISNA(VLOOKUP(BC43,penalty.a,2,FALSE)),0,VLOOKUP(BC43,penalty.a,2,FALSE)),0) -> 0 | BM43: =$AJ$48*BE43+BF43-BL43 -> 52 | BN43: =BE43*2+BG43-BL43 -> 36 | BO43: =IF(BD43=0,BN43,IF(BN43=0,0,BN43/BD43/2)) -> 0.9 | BP43: 0.039 | BQ43: =IF(ISNA(VLOOKUP(BC43,eee.av,16,FALSE)),0,VLOOKUP(BC43,eee.av,16,FALSE)) -> 200000 | BS43: =COUNTIF(lossh.av,CONCATENATE($BC43,"ooo")) -> 0 | BT43: =COUNTIF(winh.av,$BC43) -> 7 | BU43: =COUNTIF(drawh.av,$BC43) -> 1 | BV43: =COUNTIF(lossh.av,$BC43)+BS43 -> 2 | BW43: =SUMIF(home.av,$BC43,GAA.av) -> 35 | BX43: =SUMIF(home.av,$BC43,GBB.av) -> 16 | BZ43: =COUNTIF(lossa.av,CONCATENATE($BC43,"ooo")) -> 0 | CA43: =COUNTIF(wina.av,$BC43) -> 10 | CB43: =COUNTIF(drawa.av,$BC43) -> 0 | CC43: =COUNTIF(lossa.av,$BC43)+BZ43 -> 0 | CD43: =SUMIF(away.av,$BC43,GBB.av) -> 51 | CE43: =SUMIF(away.av,$BC43,GAA.av) -> 14 | CI43: =IF($AJ$44,COUNTIF($BO$68:$BO$91,CK43)*IF(OR(CK43=CK42,CK43=0),0,1),COUNTIF($BM$68:$BM$91,CJ43)*IF(OR(CJ43=CJ42,CJ43=0),0,1))+CL43/1000 -> 0.002 | CJ43: =LARGE($BM$68:$BM$91,CL43) -> 52 | CK43: =LARGE($BO$68:$BO$91,CL43) -> 0.9 | CL43: 2 | CN43: =IF(LARGE(CI42:CI65,CL43)<2,0,LARGE(CI42:CI65,CL43)) -> 2.005 | CO43: =IF(OR(CO41=$BM69,CO41=$BO69),$BC69,"") | CP43: =IF(CO43="","",$CL43) | CQ43: =IF(ISERR(LARGE(CP42:CP65,$CL43)),"",LARGE(CP42:CP65,$CL43)) -> 1 | CR43: =IF(OR(CR41=$BM69,CR41=$BO69),$BC69,"") | CS43: =IF(CR43="","",$CL43) | CT43: =IF(ISERR(LARGE(CS42:CS65,$CL43)),"",LARGE(CS42:CS65,$CL43)) -> 6 | CU43: =IF(OR(CU41=$BM69,CU41=$BO69),$BC69,"") -> BBK | CV43: =IF(CU43="","",$CL43) -> 2 | CW43: =IF(ISERR(LARGE(CV42:CV65,$CL43)),"",LARGE(CV42:CV65,$CL43)) -> 2 | CX43: =IF(OR(CX41=$BM69,CX41=$BO69),$BC69,"") | CY43: =IF(CX43="","",$CL43) | CZ43: =IF(ISERR(LARGE(CY42:CY65,$CL43)),"",LARGE(CY42:CY65,$CL43)) | DA43: =IF(OR(DA41=$BM69,DA41=$BO69),$BC69,"") | DB43: =IF(DA43="","",$CL43) | DC43: =IF(ISERR(LARGE(DB42:DB65,$CL43)),"",LARGE(DB42:DB65,$CL43)) | DD43: =IF(OR(DD41=$BM69,DD41=$BO69),$BC69,"") | DE43: =IF(DD43="","",$CL43) | DF43: =IF(ISERR(LARGE(DE42:DE65,$CL43)),"",LARGE(DE42:DE65,$CL43)) | DI43: =IF(CQ43="","",VLOOKUP(CQ43,xxx.aa1,4,FALSE)) -> Bakafogó-Honvéd-Sashegy SE | DJ43: =IF(OR(DI43="",DP43="",DI43=DP43),"",CONCATENATE(DI43,DP43)) -> Bakafogó-Honvéd-Sashegy SEVakana | DK43: =IF($DJ43="","",CONCATENATE(VLOOKUP($DJ43,games.a,9,FALSE),VLOOKUP($DJ43,games.a,12,FALSE))) | DL43: =IF($DJ43="","",VLOOKUP($DJ43,games.a,10,FALSE)) -> Bakafogó-Honvéd-Sashegy SE | DM43: =IF($DJ43="","",VLOOKUP($DJ43,games.a,13,FALSE)) -> Vakana | DN43: =IF($DJ43="","",VLOOKUP($DJ43,games.a,6,FALSE)) -> 4 | DO43: =IF($DJ43="","",VLOOKUP($DJ43,games.a,7,FALSE)) -> 4 | DP43: =DP42 -> Vakana | DV43: =IF(AND($AJ$44,DI41,DP41<>2),DI43,"") | DW43: =IF(DV43="",-1,COUNTIF(xxgy.aa,DV43)) -> -1 | DX43: =IF($DV43="",0,COUNTIF(yygy.aa,$DV43)) -> 0 | DZ43: =IF($DV43="",0,1)*(SUMIF(yyo.aa,$DV43,yyl.aa)+SUMIF(yyi.aa,$DV43,yyk.aa)) -> 0 | EA43: =IF($DV43="",0,1)*(SUMIF(yyo.aa,$DV43,yyk.aa)+SUMIF(yyi.aa,$DV43,yyl.aa)) -> 0 | EC43: =IF(EA43=0,0,DZ43/EA43) -> 0 | EE43: =DW43*1000000+DX43*1000+EC43 -> -1000000 | EI43: =IF(OR(ISERR(EE43),ISNA(EE43),DW43<0),0,EE43) -> 0 | EJ43: =IF(EI43=0,0,RANK(EI43,EI42:EI51,1)) -> 0 | EK43: =EJ43*40000*IF(COUNTIF($FC$42:$FC$65,DV43)>0,0,1) -> 0 | EM43: =IF($AJ$54,COUNTIF(EE53:EE62,EN42)*IF(OR(EN43=0,EN43=EN42),0,1),COUNTIF(DW42:DW51,EO43)*IF(OR(EO43=EO42,EO43<0),0,1))+EP43/1000 -> 0.002 | EN43: 0 | EO43: =LARGE(DW42:DW51,EP43) -> -1 | EP43: 2 | ER43: =IF(LARGE(EM42:EM51,EP43)<1,0,LARGE(EM42:EM51,EP43)) -> 0 | ES43: =IF(DW43=ES41,DV43,IF(EE54=ES41,DV54,"")) | ET43: =IF(ES43="","",EP43) | EU43: =IF(ISERR(LARGE(ET42:ET51,EP43)),"",LARGE(ET42:ET51,EP43)) | EV43: =IF(DW43=EV41,DV43,IF(EE54=EV41,DV54,"")) | EW43: =IF(EV43="","",EP43) | EX43: =IF(ISERR(LARGE(EW42:EW51,EP43)),"",LARGE(EW42:EW51,EP43)) | EY43: =IF(DW43=EY41,DV43,IF(EE54=EY41,DV54,"")) | EZ43: =IF(EY43="","",EP43) | FA43: =IF(ISERR(LARGE(EZ42:EZ51,EP43)),"",LARGE(EZ42:EZ51,EP43)) | FP43: =IF(OR(NOT($FK$42),FK45=""),"",FK45) | FQ43: =IF(OR(FP43="",FZ43="",FP43=FZ43),"",CONCATENATE(FP43,FZ43)) | FR43: =IF($FQ43="","",VLOOKUP($FQ43,games.a,9,FALSE)) | FS43: =IF($FQ43="","",VLOOKUP($FQ43,games.a,10,FALSE)) | FT43: =IF($FQ43="","",VLOOKUP($FQ43,games.a,11,FALSE)) | FU43: =IF($FQ43="","",VLOOKUP($FQ43,games.a,12,FALSE)) | FV43: =IF($FQ43="","",VLOOKUP($FQ43,games.a,13,FALSE)) | FW43: =IF($FQ43="","",VLOOKUP($FQ43,games.a,14,FALSE)) | FX43: =IF($FQ43="","",VLOOKUP($FQ43,games.a,6,FALSE)) | FY43: =IF($FQ43="","",VLOOKUP($FQ43,games.a,7,FALSE)) | FZ43: =FZ42
C44: =IF(OR(NOT($AJ$72),D44="►"),"",TEXT(ABS(VLOOKUP(AN44,$AN$146:$AQ$169,3,FALSE)-VLOOKUP(AN44,$AN$146:$AQ$169,4,FALSE)),"0")) | D44: =IF($AJ$72,VLOOKUP(AN44,$AN$146:$AO$169,2,FALSE),"") -> ► | E44: =CONCATENATE(AO44,". ",AN44) -> 3. BHD | F44: =VLOOKUP($AN44,table.n.av1,2,FALSE) -> 20 | G44: =IF(VLOOKUP($AN44,table.n.av1,3,FALSE)=0,"–",VLOOKUP($AN44,table.n.av1,3,FALSE)) -> 14 | H44: =IF(VLOOKUP($AN44,table.n.av1,4,FALSE)=0,"–",VLOOKUP($AN44,table.n.av1,4,FALSE)) -> 3 | I44: =IF(VLOOKUP($AN44,table.n.av1,5,FALSE)=0,"–",VLOOKUP($AN44,table.n.av1,5,FALSE)) -> 3 | J44: =CONCATENATE(AP44,"–",AQ44) -> 70–32 | K44: =IF(VLOOKUP($AN44,table.n.av1,8,FALSE)=0,0,IF(VLOOKUP($AN44,table.n.av1,8,FALSE)>0,CONCATENATE("+",VLOOKUP($AN44,table.n.av1,8,FALSE)," "),CONCATENATE("–",VLOOKUP($AN44,table.n.av1,8,FALSE)*-1," "))) -> +38 | M44: =VLOOKUP($AN44,table.n.av1,IF($AJ$44,12,11),FALSE) -> 45 | X44: =Adatok!A3 -> BHD | AB44: =IF(X44=0,0,BP44) -> 0.038 | AC44: =X44 -> BHD | AD44: =LARGE($AB$42:$AB$76,BB44) -> 0.038 | AE44: =IF(AD44=0,0,VLOOKUP(AD44,$AB$42:$AC$76,2,FALSE)) -> BHD | AI44: Kosárlabda: | AJ44: FALSE | AN44: =IF(VLOOKUP($AY44,INDIRECT(CONCATENATE($AJ$59,1)),3,FALSE)=0,"–",VLOOKUP($AY44,INDIRECT(CONCATENATE($AJ$59,1)),3,FALSE)) -> BHD | AO44: =AZ44 -> 3 | AP44: =VLOOKUP($AN44,table.n.av1,6,FALSE) -> 70 | AQ44: =VLOOKUP($AN44,table.n.av1,7,FALSE) -> 32 | AY44: =LARGE(IF($AJ$58=1,$BA$42:$BA$65,$BA$119:$BA$142),BB44) -> 45038070 | AZ44: =IF(BC44=0,"",IF(ABS(AY43-AY44)<0.03,AZ43,BB44)) -> 3 | BA44: =IF($AJ$44,BO44*100,IF($AJ$43,BM44*10,BM44))*1000000+IF($AJ$52,BE44*10000,0)+IF($AJ$44,BK44,BJ44)*1000/IF(OR($AJ$43,$AJ$52),10,1)+IF($AJ$44,0,IF($AJ$43,BH44/10,BH44))+BP44+IF($AJ$70,BQ44,0)-IF(BC44=0,1000000000,0) -> 45038070 | BB44: 3 | BC44: =X44 -> BHD | BD44: =BE44+BF44+BG44 -> 20 | BE44: =IF($AJ$57=1,BT44+CA44,IF($AJ$57=2,BT44,IF($AJ$57=3,CA44,""))) -> 14 | BF44: =IF($AJ$57=1,BU44+CB44,IF($AJ$57=2,BU44,IF($AJ$57=3,CB44,""))) -> 3 | BG44: =IF($AJ$57=1,BV44+CC44,IF($AJ$57=2,BV44,IF($AJ$57=3,CC44,""))) -> 3 | BH44: =IF($AJ$57=1,BW44+CD44,IF($AJ$57=2,BW44,IF($AJ$57=3,CD44,""))) -> 70 | BI44: =IF($AJ$57=1,BX44+CE44,IF($AJ$57=2,BX44,IF($AJ$57=3,CE44,""))) -> 32 | BJ44: =BH44-BI44 -> 38 | BK44: =IF(BI44=0,0,BH44/BI44) -> 2.1875 | BL44: =IF($AJ$71,IF(ISNA(VLOOKUP(BC44,penalty.a,2,FALSE)),0,VLOOKUP(BC44,penalty.a,2,FALSE)),0) -> 0 | BM44: =$AJ$48*BE44+BF44-BL44 -> 45 | BN44: =BE44*2+BG44-BL44 -> 31 | BO44: =IF(BD44=0,BN44,IF(BN44=0,0,BN44/BD44/2)) -> 0.775 | BP44: 0.038 | BQ44: =IF(ISNA(VLOOKUP(BC44,eee.av,16,FALSE)),0,VLOOKUP(BC44,eee.av,16,FALSE)) -> 0 | BS44: =COUNTIF(lossh.av,CONCATENATE($BC44,"ooo")) -> 0 | BT44: =COUNTIF(winh.av,$BC44) -> 8 | BU44: =COUNTIF(drawh.av,$BC44) -> 0 | BV44: =COUNTIF(lossh.av,$BC44)+BS44 -> 2 | BW44: =SUMIF(home.av,$BC44,GAA.av) -> 42 | BX44: =SUMIF(home.av,$BC44,GBB.av) -> 21 | BZ44: =COUNTIF(lossa.av,CONCATENATE($BC44,"ooo")) -> 0 | CA44: =COUNTIF(wina.av,$BC44) -> 6 | CB44: =COUNTIF(drawa.av,$BC44) -> 3 | CC44: =COUNTIF(lossa.av,$BC44)+BZ44 -> 1 | CD44: =SUMIF(away.av,$BC44,GBB.av) -> 28 | CE44: =SUMIF(away.av,$BC44,GAA.av) -> 11 | CI44: =IF($AJ$44,COUNTIF($BO$68:$BO$91,CK44)*IF(OR(CK44=CK43,CK44=0),0,1),COUNTIF($BM$68:$BM$91,CJ44)*IF(OR(CJ44=CJ43,CJ44=0),0,1))+CL44/1000 -> 1.003 | CJ44: =LARGE($BM$68:$BM$91,CL44) -> 45 | CK44: =LARGE($BO$68:$BO$91,CL44) -> 0.775 | CL44: 3 | CN44: =IF(LARGE(CI42:CI65,CL44)<2,0,LARGE(CI42:CI65,CL44)) -> 2.001 | CO44: =IF(OR(CO41=$BM70,CO41=$BO70),$BC70,"") | CP44: =IF(CO44="","",$CL44) | CQ44: =IF(ISERR(LARGE(CP42:CP65,$CL44)),"",LARGE(CP42:CP65,$CL44)) | CR44: =IF(OR(CR41=$BM70,CR41=$BO70),$BC70,"") | CS44: =IF(CR44="","",$CL44) | CT44: =IF(ISERR(LARGE(CS42:CS65,$CL44)),"",LARGE(CS42:CS65,$CL44)) | CU44: =IF(OR(CU41=$BM70,CU41=$BO70),$BC70,"") | CV44: =IF(CU44="","",$CL44) | CW44: =IF(ISERR(LARGE(CV42:CV65,$CL44)),"",LARGE(CV42:CV65,$CL44)) | CX44: =IF(OR(CX41=$BM70,CX41=$BO70),$BC70,"") | CY44: =IF(CX44="","",$CL44) | CZ44: =IF(ISERR(LARGE(CY42:CY65,$CL44)),"",LARGE(CY42:CY65,$CL44)) | DA44: =IF(OR(DA41=$BM70,DA41=$BO70),$BC70,"") | DB44: =IF(DA44="","",$CL44) | DC44: =IF(ISERR(LARGE(DB42:DB65,$CL44)),"",LARGE(DB42:DB65,$CL44)) | DD44: =IF(OR(DD41=$BM70,DD41=$BO70),$BC70,"") | DE44: =IF(DD44="","",$CL44) | DI44: =IF(CQ44="","",VLOOKUP(CQ44,xxx.aa1,4,FALSE)) | DJ44: =IF(OR(DI44="",DP44="",DI44=DP44),"",CONCATENATE(DI44,DP44)) | DK44: =IF($DJ44="","",CONCATENATE(VLOOKUP($DJ44,games.a,9,FALSE),VLOOKUP($DJ44,games.a,12,FALSE))) | DL44: =IF($DJ44="","",VLOOKUP($DJ44,games.a,10,FALSE)) | DM44: =IF($DJ44="","",VLOOKUP($DJ44,games.a,13,FALSE)) | DN44: =IF($DJ44="","",VLOOKUP($DJ44,games.a,6,FALSE)) | DO44: =IF($DJ44="","",VLOOKUP($DJ44,games.a,7,FALSE)) | DP44: =DP43 -> Vakana | DV44: =IF(AND($AJ$44,DI41,DP41<>2),DI44,"") | DW44: =IF(DV44="",-1,COUNTIF(xxgy.aa,DV44)) -> -1 | DX44: =IF($DV44="",0,COUNTIF(yygy.aa,$DV44)) -> 0 | DZ44: =IF($DV44="",0,1)*(SUMIF(yyo.aa,$DV44,yyl.aa)+SUMIF(yyi.aa,$DV44,yyk.aa)) -> 0 | EA44: =IF($DV44="",0,1)*(SUMIF(yyo.aa,$DV44,yyk.aa)+SUMIF(yyi.aa,$DV44,yyl.aa)) -> 0 | EC44: =IF(EA44=0,0,DZ44/EA44) -> 0 | EE44: =DW44*1000000+DX44*1000+EC44 -> -1000000 | EI44: =IF(OR(ISERR(EE44),ISNA(EE44),DW44<0),0,EE44) -> 0 | EJ44: =IF(EI44=0,0,RANK(EI44,EI42:EI51,1)) -> 0 | EK44: =EJ44*40000*IF(COUNTIF($FC$42:$FC$65,DV44)>0,0,1) -> 0 | EM44: =IF($AJ$54,COUNTIF(EE53:EE62,EN43)*IF(OR(EN44=0,EN44=EN43),0,1),COUNTIF(DW42:DW51,EO44)*IF(OR(EO44=EO43,EO44<0),0,1))+EP44/1000 -> 0.003 | EN44: 0 | EO44: =LARGE(DW42:DW51,EP44) -> -1 | EP44: 3 | ER44: =IF(LARGE(EM42:EM51,EP44)<1,0,LARGE(EM42:EM51,EP44)) -> 0 | ES44: =IF(DW44=ES41,DV44,IF(EE55=ES41,DV55,"")) | ET44: =IF(ES44="","",EP44) | EU44: =IF(ISERR(LARGE(ET42:ET51,EP44)),"",LARGE(ET42:ET51,EP44)) | EV44: =IF(DW44=EV41,DV44,IF(EE55=EV41,DV55,"")) | EW44: =IF(EV44="","",EP44) | EY44: =IF(DW44=EY41,DV44,IF(EE55=EY41,DV55,"")) | EZ44: =IF(EY44="","",EP44) | FI44: =CONCATENATE("rank.a",FH44) -> rank.a | FJ44: =AND($FK$42,FG44<>"",FH44<>"",IF(FH44=2,$AJ$75,$AJ$69)) -> FALSE | FK44: =IF(NOT(FJ44),"",VLOOKUP(FG44,INDIRECT(FI44),2,FALSE)) | FP44: =IF(OR(NOT($FK$42),FK46=""),"",FK46) | FQ44: =IF(OR(FP44="",FZ44="",FP44=FZ44),"",CONCATENATE(FP44,FZ44)) | FR44: =IF($FQ44="","",VLOOKUP($FQ44,games.a,9,FALSE)) | FS44: =IF($FQ44="","",VLOOKUP($FQ44,games.a,10,FALSE)) | FT44: =IF($FQ44="","",VLOOKUP($FQ44,games.a,11,FALSE)) | FU44: =IF($FQ44="","",VLOOKUP($FQ44,games.a,12,FALSE)) | FV44: =IF($FQ44="","",VLOOKUP($FQ44,games.a,13,FALSE)) | FW44: =IF($FQ44="","",VLOOKUP($FQ44,games.a,14,FALSE)) | FX44: =IF($FQ44="","",VLOOKUP($FQ44,games.a,6,FALSE)) | FY44: =IF($FQ44="","",VLOOKUP($FQ44,games.a,7,FALSE)) | FZ44: =FZ43
