Workbook
Name away.aa: OFFSET([1]Sorsolás!$AA$42,[1]Sorsolás!$AV$52,[1]Sorsolás!$AV$53,[1]Sorsolás!$AV$54,[1]Sorsolás!$AV$55)
Name away.aa: OFFSET(ASZ!$AB$42,ASZ!$AW$52,ASZ!$AW$53,ASZ!$AW$54,ASZ!$AW$55)
Name away.av: OFFSET([1]Sorsolás!$AA$42,[1]Sorsolás!$AV$45,[1]Sorsolás!$AV$46,[1]Sorsolás!$AV$47,[1]Sorsolás!$AV$48)
Name away.av: OFFSET(ASZ!$AB$42,ASZ!$AW$45,ASZ!$AW$46,ASZ!$AW$47,ASZ!$AW$48)
Name away.rr: OFFSET(RCSOP!$AF$56,RCSOP!$AV$64,RCSOP!$AV$65,RCSOP!$AV$66,RCSOP!$AV$67)
Name away.rv: OFFSET(RCSOP!$AF$56,RCSOP!$AV$57,RCSOP!$AV$58,RCSOP!$AV$59,RCSOP!$AV$60)
Name calend: Adatok!$C$1:$C$37
Name drawa.aa: OFFSET(ASZ!$AB$42,ASZ!$AT$52,ASZ!$AT$53,ASZ!$AT$54,ASZ!$AT$55)
Name drawa.av: OFFSET(ASZ!$AB$42,ASZ!$AT$45,ASZ!$AT$46,ASZ!$AT$47,ASZ!$AT$48)
Name drawa.rr: OFFSET(RCSOP!$AF$56,RCSOP!$AS$64,RCSOP!$AS$65,RCSOP!$AS$66,RCSOP!$AS$67)
Name drawa.rv: OFFSET(RCSOP!$AF$56,RCSOP!$AS$57,RCSOP!$AS$58,RCSOP!$AS$59,RCSOP!$AS$60)
Name drawh.aa: OFFSET(ASZ!$AB$42,ASZ!$AQ$52,ASZ!$AQ$53,ASZ!$AQ$54,ASZ!$AQ$55)
Name drawh.av: OFFSET(ASZ!$AB$42,ASZ!$AQ$45,ASZ!$AQ$46,ASZ!$AQ$47,ASZ!$AQ$48)
Name drawh.rr: OFFSET(RCSOP!$AF$56,RCSOP!$AP$64,RCSOP!$AP$65,RCSOP!$AP$66,RCSOP!$AP$67)
Name drawh.rv: OFFSET(RCSOP!$AF$56,RCSOP!$AP$57,RCSOP!$AP$58,RCSOP!$AP$59,RCSOP!$AP$60)
Name eee.aa: ASZTAB!$DV$41:$EK$340
Name eee.an: ASZTAB!$DV$643:$EK$941
Name eee.av: ASZTAB!$DV$342:$EK$641
Name eee.rn: RTAB!$DG$595:$DV$865
Name eee.rr: RTAB!$DG$41:$DV$310
Name eee.rv: RTAB!$DG$318:$DV$588
Name GAA.aa: OFFSET(ASZ!$AB$42,ASZ!$AX$52,ASZ!$AX$53,ASZ!$AX$54,ASZ!$AX$55)
Name GAA.av: OFFSET(ASZ!$AB$42,ASZ!$AX$45,ASZ!$AX$46,ASZ!$AX$47,ASZ!$AX$48)
Name GAA.rr: OFFSET(RCSOP!$AF$56,RCSOP!$AW$64,RCSOP!$AW$65,RCSOP!$AW$66,RCSOP!$AW$67)
Name GAA.rv: OFFSET(RCSOP!$AF$56,RCSOP!$AW$57,RCSOP!$AW$58,RCSOP!$AW$59,RCSOP!$AW$60)
Name games.a: ASZ!$U$43:$AI$390
Name games.an: OFFSET(ASZ!$AB$42,ASZ!$AY$66,ASZ!$AY$67,ASZ!$AY$68,ASZ!$AY$69)
Name games.av: OFFSET(ASZ!$AB$42,ASZ!$AX$66,ASZ!$AX$67,ASZ!$AX$68,ASZ!$AX$69)
Name games.r: RCSOP!$Y$57:$AM$142
Name games.rn: OFFSET(RCSOP!$AF$56,RCSOP!$AX$77,RCSOP!$AX$78,RCSOP!$AX$79,RCSOP!$AX$80)
Name games.rv: OFFSET(RCSOP!$AF$56,RCSOP!$AW$77,RCSOP!$AW$78,RCSOP!$AW$79,RCSOP!$AW$80)
Name gamesfav: ASZ!$AL$43:$AM$390
Name GBB.aa: OFFSET(ASZ!$AB$42,ASZ!$AY$52,ASZ!$AY$53,ASZ!$AY$54,ASZ!$AY$55)
Name GBB.av: OFFSET(ASZ!$AB$42,ASZ!$AY$45,ASZ!$AY$46,ASZ!$AY$47,ASZ!$AY$48)
Name GBB.rr: OFFSET(RCSOP!$AF$56,RCSOP!$AX$64,RCSOP!$AX$65,RCSOP!$AX$66,RCSOP!$AX$67)
Name GBB.rv: OFFSET(RCSOP!$AF$56,RCSOP!$AX$57,RCSOP!$AX$58,RCSOP!$AX$59,RCSOP!$AX$60)
Name gdays.a: Adatok!$E$1:$E$22
Name gdays.r: Adatok!$F$1:$F$5
Name goalname: Gszer!$AX$67:$AZ$597
Name goalrank: Gszer!$AX$67:$AX$597
Name home.aa: OFFSET([1]Sorsolás!$AA$42,[1]Sorsolás!$AU$52,[1]Sorsolás!$AU$53,[1]Sorsolás!$AU$54,[1]Sorsolás!$AU$55)
Name home.aa: OFFSET(ASZ!$AB$42,ASZ!$AV$52,ASZ!$AV$53,ASZ!$AV$54,ASZ!$AV$55)
Name home.av: OFFSET([1]Sorsolás!$AA$42,[1]Sorsolás!$AU$45,[1]Sorsolás!$AU$46,[1]Sorsolás!$AU$47,[1]Sorsolás!$AU$48)
Name home.av: OFFSET(ASZ!$AB$42,ASZ!$AV$45,ASZ!$AV$46,ASZ!$AV$47,ASZ!$AV$48)
Name home.rr: OFFSET(RCSOP!$AF$56,RCSOP!$AU$64,RCSOP!$AU$65,RCSOP!$AU$66,RCSOP!$AU$67)
Name home.rv: OFFSET(RCSOP!$AF$56,RCSOP!$AU$57,RCSOP!$AU$58,RCSOP!$AU$59,RCSOP!$AU$60)
Name index.a: ASZ!$AB$43:$AB$390
Name index.r: RCSOP!$AF$57:$AF$142
Name lossa.aa: OFFSET(ASZ!$AB$42,ASZ!$AU$52,ASZ!$AU$53,ASZ!$AU$54,ASZ!$AU$55)
Name lossa.av: OFFSET(ASZ!$AB$42,ASZ!$AU$45,ASZ!$AU$46,ASZ!$AU$47,ASZ!$AU$48)
Name lossa.rr: OFFSET(RCSOP!$AF$56,RCSOP!$AT$64,RCSOP!$AT$65,RCSOP!$AT$66,RCSOP!$AT$67)
Name lossa.rv: OFFSET(RCSOP!$AF$56,RCSOP!$AT$57,RCSOP!$AT$58,RCSOP!$AT$59,RCSOP!$AT$60)
Name lossh.aa: OFFSET(ASZ!$AB$42,ASZ!$AR$52,ASZ!$AR$53,ASZ!$AR$54,ASZ!$AR$55)
Name lossh.av: OFFSET(ASZ!$AB$42,ASZ!$AR$45,ASZ!$AR$46,ASZ!$AR$47,ASZ!$AR$48)
Name lossh.rr: OFFSET(RCSOP!$AF$56,RCSOP!$AQ$64,RCSOP!$AQ$65,RCSOP!$AQ$66,RCSOP!$AQ$67)
Name lossh.rv: OFFSET(RCSOP!$AF$56,RCSOP!$AQ$57,RCSOP!$AQ$58,RCSOP!$AQ$59,RCSOP!$AQ$60)
Name penalty.a: ASZTAB!$O$60:$R$69
Name penalty.r: RTAB!$O$61:$R$70
Name rank.a1: ASZTAB!$AU$68:$AV$91
Name rank.a2: ASZTAB!$AU$106:$AV$115

Sheet ASZ
B39: SORSOLÁS ÉS EREDMÉNYEK – ALAPSZAKASZ
C41: =CONCATENATE(" ",AB43,"."," forduló –") -> 1. forduló – | D41: =VLOOKUP(AB43,ASZ!$AQ$59:$AS$104,2,FALSE) -> 42088 | I41: =CONCATENATE(IF($AW$61,"pont: ","gól: "),SUM(F43:H54)," / átlag: ",TEXT(IF(COUNT(F43:H54)=0,"-",SUM(F43:H54)/COUNT(F43:H54)*2),"0,00")) -> gól: 28 / átlag: 5,60 | K41: FELJEGYZÉSEK | U41: game | V41: x | W41: f. | X41: home | Y41: away | Z41: A | AA41: B | AC41: winh | AD41: drawh | AE41: lossh | AF41: wina | AG41: drawa | AH41: lossa
C43: 42088 | D43: 19:00 – A pálya | E43: BBK | F43: 2 | G43: – | H43: 4 | I43: BHD | U43: =X43&Y43 -> BBKBHD | V43: =AND(F43<>"",H43<>"") -> TRUE | W43: =AB43 -> 1 | X43: =E43 -> BBK | Y43: =I43 -> BHD | Z43: =IF(V43,F43,"") -> 2 | AA43: =IF(V43,H43,"") -> 4 | AB43: 1 | AC43: =IF(Z43>AA43,X43,"") | AD43: =IF(AA43="","",IF(Z43=AA43,X43,"")) | AE43: =IF(AND($AW$61,Z43=0,AA43=20),X43&"ooo",IF(Z43<AA43,X43,"")) -> BBK | AF43: =IF(AA43>Z43,Y43,"") -> BHD | AG43: =IF(AA43="","",IF(Z43=AA43,Y43,"")) | AH43: =IF(AND($AW$61,Z43=20,AA43=0),Y43&"ooo",IF(Z43>AA43,Y43,"")) | AI43: =C43 -> 42088 | AL43: =IF(OR(X43=Kedvenc!$C$43,Y43=Kedvenc!$C$43),W43,"") | AM43: =IF(AL43="","",U43) | AP43: .av | BB43: =C43&D43 -> 4208819:00 – A pálya | BC43: =COUNTIF($BB$43:$BB$383,BB43) -> 1 | BD43: =U43 -> BBKBHD
C44: 42088 | D44: 19:45 – A pálya | E44: Zrínyigyöngye | F44: 4 | G44: – | H44: 0 | I44: Hercules-Ludovika | U44: =X44&Y44 -> ZrínyigyöngyeHercules-Ludovika | V44: =AND(F44<>"",H44<>"") -> TRUE | W44: =W43 -> 1 | X44: =E44 -> Zrínyigyöngye | Y44: =I44 -> Hercules-Ludovika | Z44: =IF(V44,F44,"") -> 4 | AA44: =IF(V44,H44,"") -> 0 | AC44: =IF(Z44>AA44,X44,"") -> Zrínyigyöngye | AD44: =IF(AA44="","",IF(Z44=AA44,X44,"")) | AE44: =IF(AND($AW$61,Z44=0,AA44=20),X44&"ooo",IF(Z44<AA44,X44,"")) | AF44: =IF(AA44>Z44,Y44,"") | AG44: =IF(AA44="","",IF(Z44=AA44,Y44,"")) | AH44: =IF(AND($AW$61,Z44=20,AA44=0),Y44&"ooo",IF(Z44>AA44,Y44,"")) -> Hercules-Ludovika | AI44: =C44 -> 42088 | AL44: =IF(OR(X44=Kedvenc!$C$43,Y44=Kedvenc!$C$43),W44,"") | AM44: =IF(AL44="","",U44) | AP44: winh | AQ44: drawh | AR44: lossh | AS44: wina | AT44: drawa | AU44: lossa | AV44: home | AW44: away | AX44: GHH | AY44: GAA | BB44: =C44&D44 -> 4208819:45 – A pálya | BC44: =COUNTIF($BB$43:$BB$383,BB44) -> 1 | BD44: =U44 -> ZrínyigyöngyeHercules-Ludovika
C45: 42088 | D45: 20:30 – A pálya | E45: Bőrdíszmű | F45: 3 | G45: – | H45: 5 | I45: Bakafogó-Honvéd-Sashegy SE | U45: =X45&Y45 -> BőrdíszműBakafogó-Honvéd-Sashegy SE | V45: =AND(F45<>"",H45<>"") -> TRUE | W45: =W44 -> 1 | X45: =E45 -> Bőrdíszmű | Y45: =I45 -> Bakafogó-Honvéd-Sashegy SE | Z45: =IF(V45,F45,"") -> 3 | AA45: =IF(V45,H45,"") -> 5 | AC45: =IF(Z45>AA45,X45,"") | AD45: =IF(AA45="","",IF(Z45=AA45,X45,"")) | AE45: =IF(AND($AW$61,Z45=0,AA45=20),X45&"ooo",IF(Z45<AA45,X45,"")) -> Bőrdíszmű | AF45: =IF(AA45>Z45,Y45,"") -> Bakafogó-Honvéd-Sashegy SE | AG45: =IF(AA45="","",IF(Z45=AA45,Y45,"")) | AH45: =IF(AND($AW$61,Z45=20,AA45=0),Y45&"ooo",IF(Z45>AA45,Y45,"")) | AI45: =C45 -> 42088 | AL45: =IF(OR(X45=Kedvenc!$C$43,Y45=Kedvenc!$C$43),W45,"") | AM45: =IF(AL45="","",U45) | AP45: =MATCH(ASZTAB!$P$43,index.a,0) -> 1 | AQ45: =MATCH(ASZTAB!$P$43,index.a,0) -> 1 | AR45: =MATCH(ASZTAB!$P$43,index.a,0) -> 1 | AS45: =MATCH(ASZTAB!$P$43,index.a,0) -> 1 | AT45: =MATCH(ASZTAB!$P$43,index.a,0) -> 1 | AU45: =MATCH(ASZTAB!$P$43,index.a,0) -> 1 | AV45: =MATCH(ASZTAB!$P$43,index.a,0) -> 1 | AW45: =MATCH(ASZTAB!$P$43,index.a,0) -> 1 | ... AY45: =MATCH(ASZTAB!$P$43,index.a,0) -> 1 | BB45: =C45&D45 -> 4208820:30 – A pálya | BC45: =COUNTIF($BB$43:$BB$383,BB45) -> 1 | BD45: =U45 -> BőrdíszműBakafogó-Honvéd-Sashegy SE
C46: 42088 | D46: 19:00 – B pálya | E46: Élelmesek | F46: 5 | G46: – | H46: 1 | I46: Carbonász | U46: =X46&Y46 -> ÉlelmesekCarbonász | V46: =AND(F46<>"",H46<>"") -> TRUE | W46: =W45 -> 1 | X46: =E46 -> Élelmesek | Y46: =I46 -> Carbonász | Z46: =IF(V46,F46,"") -> 5 | AA46: =IF(V46,H46,"") -> 1 | AC46: =IF(Z46>AA46,X46,"") -> Élelmesek | AD46: =IF(AA46="","",IF(Z46=AA46,X46,"")) | AE46: =IF(AND($AW$61,Z46=0,AA46=20),X46&"ooo",IF(Z46<AA46,X46,"")) | AF46: =IF(AA46>Z46,Y46,"") | AG46: =IF(AA46="","",IF(Z46=AA46,Y46,"")) | AH46: =IF(AND($AW$61,Z46=20,AA46=0),Y46&"ooo",IF(Z46>AA46,Y46,"")) -> Carbonász | AI46: =C46 -> 42088 | AL46: =IF(OR(X46=Kedvenc!$C$43,Y46=Kedvenc!$C$43),W46,"") | AM46: =IF(AL46="","",U46) | AP46: =MATCH(AP44,$AC$41:$AH$41,0) -> 1 | AQ46: =MATCH(AQ44,$AC$41:$AH$41,0) -> 2 | AR46: =MATCH(AR44,$AC$41:$AH$41,0) -> 3 | AS46: =MATCH(AS44,$AC$41:$AH$41,0) -> 4 | AT46: =MATCH(AT44,$AC$41:$AH$41,0) -> 5 | AU46: =MATCH(AU44,$AC$41:$AH$41,0) -> 6 | AV46: -4 | AW46: -3 | AX46: -2 | AY46: -1 | BB46: =C46&D46 -> 4208819:00 – B pálya | BC46: =COUNTIF($BB$43:$BB$383,BB46) -> 1 | BD46: =U46 -> ÉlelmesekCarbonász
C47: 42088 | D47: 19:45 – B pálya | E47: Vakana | F47: 3 | G47: – | H47: 1 | I47: Royal Guard's | U47: =X47&Y47 -> VakanaRoyal Guard's | V47: =AND(F47<>"",H47<>"") -> TRUE | W47: =W46 -> 1 | X47: =E47 -> Vakana | Y47: =I47 -> Royal Guard's | Z47: =IF(V47,F47,"") -> 3 | AA47: =IF(V47,H47,"") -> 1 | AC47: =IF(Z47>AA47,X47,"") -> Vakana | AD47: =IF(AA47="","",IF(Z47=AA47,X47,"")) | AE47: =IF(AND($AW$61,Z47=0,AA47=20),X47&"ooo",IF(Z47<AA47,X47,"")) | AF47: =IF(AA47>Z47,Y47,"") | AG47: =IF(AA47="","",IF(Z47=AA47,Y47,"")) | AH47: =IF(AND($AW$61,Z47=20,AA47=0),Y47&"ooo",IF(Z47>AA47,Y47,"")) -> Royal Guard's | AI47: =C47 -> 42088 | AL47: =IF(OR(X47=Kedvenc!$C$43,Y47=Kedvenc!$C$43),W47,"") | AM47: =IF(AL47="","",U47) | AP47: =MATCH(ASZTAB!$R$43,index.a,0)+ROUNDUP(ASZTAB!$X$68/2,0)-AP45+IF(ASZTAB!$X$71,16,0) -> 342 | AQ47: =MATCH(ASZTAB!$R$43,index.a,0)+ROUNDUP(ASZTAB!$X$68/2,0)-AQ45+IF(ASZTAB!$X$71,16,0) -> 342 | AR47: =MATCH(ASZTAB!$R$43,index.a,0)+ROUNDUP(ASZTAB!$X$68/2,0)-AR45+IF(ASZTAB!$X$71,16,0) -> 342 | AS47: =MATCH(ASZTAB!$R$43,index.a,0)+ROUNDUP(ASZTAB!$X$68/2,0)-AS45+IF(ASZTAB!$X$71,16,0) -> 342 | AT47: =MATCH(ASZTAB!$R$43,index.a,0)+ROUNDUP(ASZTAB!$X$68/2,0)-AT45+IF(ASZTAB!$X$71,16,0) -> 342 | AU47: =MATCH(ASZTAB!$R$43,index.a,0)+ROUNDUP(ASZTAB!$X$68/2,0)-AU45+IF(ASZTAB!$X$71,16,0) -> 342 | AV47: =MATCH(ASZTAB!$R$43,index.a,0)+ROUNDUP(ASZTAB!$X$68/2,0)-AV45+IF(ASZTAB!$X$71,16,0) -> 342 | AW47: =MATCH(ASZTAB!$R$43,index.a,0)+ROUNDUP(ASZTAB!$X$68/2,0)-AW45+IF(ASZTAB!$X$71,16,0) -> 342 | ... AY47: =MATCH(ASZTAB!$R$43,index.a,0)+ROUNDUP(ASZTAB!$X$68/2,0)-AY45+IF(ASZTAB!$X$71,16,0) -> 342 | BB47: =C47&D47 -> 4208819:45 – B pálya | BC47: =COUNTIF($BB$43:$BB$383,BB47) -> 1 | BD47: =U47 -> VakanaRoyal Guard's
E48: K&H | I48: szabadnapos | U48: =X48&Y48 -> K&Hszabadnapos | V48: =AND(F48<>"",H48<>"") -> FALSE | W48: =W47 -> 1 | X48: =E48 -> K&H | Y48: =I48 -> szabadnapos | Z48: =IF(V48,F48,"") | AA48: =IF(V48,H48,"") | AC48: =IF(Z48>AA48,X48,"") | AD48: =IF(AA48="","",IF(Z48=AA48,X48,"")) | AE48: =IF(AND($AW$61,Z48=0,AA48=20),X48&"ooo",IF(Z48<AA48,X48,"")) | AF48: =IF(AA48>Z48,Y48,"") | AG48: =IF(AA48="","",IF(Z48=AA48,Y48,"")) | AH48: =IF(AND($AW$61,Z48=20,AA48=0),Y48&"ooo",IF(Z48>AA48,Y48,"")) | AI48: =AI43 -> 42088 | AL48: =IF(OR(X48=Kedvenc!$C$43,Y48=Kedvenc!$C$43),W48,"") | AM48: =IF(AL48="","",U48) | AP48: 1 | AQ48: 1 | AR48: 1 | AS48: 1 | AT48: 1 | AU48: 1 | AV48: 1 | AW48: 1 | AX48: 1 | AY48: 1
U49: =X49&Y49 -> 00 | V49: =AND(F49<>"",H49<>"") -> FALSE | W49: =W48 -> 1 | X49: =E49 -> 0 | Y49: =I49 -> 0 | Z49: =IF(V49,F49,"") | AA49: =IF(V49,H49,"") | AC49: =IF(Z49>AA49,X49,"") | AD49: =IF(AA49="","",IF(Z49=AA49,X49,"")) | AE49: =IF(AND($AW$61,Z49=0,AA49=20),X49&"ooo",IF(Z49<AA49,X49,"")) | AF49: =IF(AA49>Z49,Y49,"") | AG49: =IF(AA49="","",IF(Z49=AA49,Y49,"")) | AH49: =IF(AND($AW$61,Z49=20,AA49=0),Y49&"ooo",IF(Z49>AA49,Y49,"")) | AI49: =C49 -> 0 | AL49: =IF(OR(X49=Kedvenc!$C$43,Y49=Kedvenc!$C$43),W49,"") | AM49: =IF(AL49="","",U49)
U50: =X50&Y50 -> 00 | V50: =AND(F50<>"",H50<>"") -> FALSE | W50: =W49 -> 1 | X50: =E50 -> 0 | Y50: =I50 -> 0 | Z50: =IF(V50,F50,"") | AA50: =IF(V50,H50,"") | AC50: =IF(Z50>AA50,X50,"") | AD50: =IF(AA50="","",IF(Z50=AA50,X50,"")) | AE50: =IF(AND($AW$61,Z50=0,AA50=20),X50&"ooo",IF(Z50<AA50,X50,"")) | AF50: =IF(AA50>Z50,Y50,"") | AG50: =IF(AA50="","",IF(Z50=AA50,Y50,"")) | AH50: =IF(AND($AW$61,Z50=20,AA50=0),Y50&"ooo",IF(Z50>AA50,Y50,"")) | AI50: =C50 -> 0 | AL50: =IF(OR(X50=Kedvenc!$C$43,Y50=Kedvenc!$C$43),W50,"") | AM50: =IF(AL50="","",U50) | AP50: .aa
U51: =X51&Y51 -> 00 | V51: =AND(F51<>"",H51<>"") -> FALSE | W51: =W50 -> 1 | X51: =E51 -> 0 | Y51: =I51 -> 0 | Z51: =IF(V51,F51,"") | AA51: =IF(V51,H51,"") | AC51: =IF(Z51>AA51,X51,"") | AD51: =IF(AA51="","",IF(Z51=AA51,X51,"")) | AE51: =IF(AND($AW$61,Z51=0,AA51=20),X51&"ooo",IF(Z51<AA51,X51,"")) | AF51: =IF(AA51>Z51,Y51,"") | AG51: =IF(AA51="","",IF(Z51=AA51,Y51,"")) | AH51: =IF(AND($AW$61,Z51=20,AA51=0),Y51&"ooo",IF(Z51>AA51,Y51,"")) | AI51: =C51 -> 0 | AL51: =IF(OR(X51=Kedvenc!$C$43,Y51=Kedvenc!$C$43),W51,"") | AM51: =IF(AL51="","",U51) | AP51: winh | AQ51: drawh | AR51: lossh | AS51: wina | AT51: drawa | AU51: lossa | AV51: home | AW51: away | AX51: GHH | AY51: GAA
U52: =X52&Y52 -> 00 | V52: =AND(F52<>"",H52<>"") -> FALSE | W52: =W51 -> 1 | X52: =E52 -> 0 | Y52: =I52 -> 0 | Z52: =IF(V52,F52,"") | AA52: =IF(V52,H52,"") | AC52: =IF(Z52>AA52,X52,"") | AD52: =IF(AA52="","",IF(Z52=AA52,X52,"")) | AE52: =IF(AND($AW$61,Z52=0,AA52=20),X52&"ooo",IF(Z52<AA52,X52,"")) | AF52: =IF(AA52>Z52,Y52,"") | AG52: =IF(AA52="","",IF(Z52=AA52,Y52,"")) | AH52: =IF(AND($AW$61,Z52=20,AA52=0),Y52&"ooo",IF(Z52>AA52,Y52,"")) | AI52: =C52 -> 0 | AL52: =IF(OR(X52=Kedvenc!$C$43,Y52=Kedvenc!$C$43),W52,"") | AM52: =IF(AL52="","",U52) | AP52: =MATCH(ASZTAB!$AJ$62,index.a,0) -> 1 | AQ52: =MATCH(ASZTAB!$AJ$62,index.a,0) -> 1 | AR52: =MATCH(ASZTAB!$AJ$62,index.a,0) -> 1 | AS52: =MATCH(ASZTAB!$AJ$62,index.a,0) -> 1 | AT52: =MATCH(ASZTAB!$AJ$62,index.a,0) -> 1 | AU52: =MATCH(ASZTAB!$AJ$62,index.a,0) -> 1 | AV52: =MATCH(ASZTAB!$AJ$62,index.a,0) -> 1 | AW52: =MATCH(ASZTAB!$AJ$62,index.a,0) -> 1 | ... AY52: =MATCH(ASZTAB!$AJ$62,index.a,0) -> 1
U53: =X53&Y53 -> 00 | V53: =AND(F53<>"",H53<>"") -> FALSE | W53: =W52 -> 1 | X53: =E53 -> 0 | Y53: =I53 -> 0 | Z53: =IF(V53,F53,"") | AA53: =IF(V53,H53,"") | AC53: =IF(Z53>AA53,X53,"") | AD53: =IF(AA53="","",IF(Z53=AA53,X53,"")) | AE53: =IF(AND($AW$61,Z53=0,AA53=20),X53&"ooo",IF(Z53<AA53,X53,"")) | AF53: =IF(AA53>Z53,Y53,"") | AG53: =IF(AA53="","",IF(Z53=AA53,Y53,"")) | AH53: =IF(AND($AW$61,Z53=20,AA53=0),Y53&"ooo",IF(Z53>AA53,Y53,"")) | AI53: =C53 -> 0 | AL53: =IF(OR(X53=Kedvenc!$C$43,Y53=Kedvenc!$C$43),W53,"") | AM53: =IF(AL53="","",U53) | AP53: =MATCH(AP51,$AC$41:$AH$41,0) -> 1 | AQ53: =MATCH(AQ51,$AC$41:$AH$41,0) -> 2 | AR53: =MATCH(AR51,$AC$41:$AH$41,0) -> 3 | AS53: =MATCH(AS51,$AC$41:$AH$41,0) -> 4 | AT53: =MATCH(AT51,$AC$41:$AH$41,0) -> 5 | AU53: =MATCH(AU51,$AC$41:$AH$41,0) -> 6 | AV53: -4 | AW53: -3 | AX53: -2 | AY53: -1
U54: =X54&Y54 -> 00 | V54: =AND(F54<>"",H54<>"") -> FALSE | W54: =W53 -> 1 | X54: =E54 -> 0 | Y54: =I54 -> 0 | Z54: =IF(V54,F54,"") | AA54: =IF(V54,H54,"") | AC54: =IF(Z54>AA54,X54,"") | AD54: =IF(AA54="","",IF(Z54=AA54,X54,"")) | AE54: =IF(AND($AW$61,Z54=0,AA54=20),X54&"ooo",IF(Z54<AA54,X54,"")) | AF54: =IF(AA54>Z54,Y54,"") | AG54: =IF(AA54="","",IF(Z54=AA54,Y54,"")) | AH54: =IF(AND($AW$61,Z54=20,AA54=0),Y54&"ooo",IF(Z54>AA54,Y54,"")) | AI54: =C54 -> 0 | AL54: =IF(OR(X54=Kedvenc!$C$43,Y54=Kedvenc!$C$43),W54,"") | AM54: =IF(AL54="","",U54) | AP54: =MATCH(ASZTAB!$AJ$65,index.a,0)+ROUNDUP(ASZTAB!$X$68/2,0)-AP52+IF(ASZTAB!$X$71,16,0) -> 342 | AQ54: =MATCH(ASZTAB!$AJ$65,index.a,0)+ROUNDUP(ASZTAB!$X$68/2,0)-AQ52+IF(ASZTAB!$X$71,16,0) -> 342 | AR54: =MATCH(ASZTAB!$AJ$65,index.a,0)+ROUNDUP(ASZTAB!$X$68/2,0)-AR52+IF(ASZTAB!$X$71,16,0) -> 342 | AS54: =MATCH(ASZTAB!$AJ$65,index.a,0)+ROUNDUP(ASZTAB!$X$68/2,0)-AS52+IF(ASZTAB!$X$71,16,0) -> 342 | AT54: =MATCH(ASZTAB!$AJ$65,index.a,0)+ROUNDUP(ASZTAB!$X$68/2,0)-AT52+IF(ASZTAB!$X$71,16,0) -> 342 | AU54: =MATCH(ASZTAB!$AJ$65,index.a,0)+ROUNDUP(ASZTAB!$X$68/2,0)-AU52+IF(ASZTAB!$X$71,16,0) -> 342 | AV54: =MATCH(ASZTAB!$AJ$65,index.a,0)+ROUNDUP(ASZTAB!$X$68/2,0)-AV52+IF(ASZTAB!$X$71,16,0) -> 342 | AW54: =MATCH(ASZTAB!$AJ$65,index.a,0)+ROUNDUP(ASZTAB!$X$68/2,0)-AW52+IF(ASZTAB!$X$71,16,0) -> 342 | ... AY54: =MATCH(ASZTAB!$AJ$65,index.a,0)+ROUNDUP(ASZTAB!$X$68/2,0)-AY52+IF(ASZTAB!$X$71,16,0) -> 342
AP55: 1 | AQ55: 1 | AR55: 1 | AS55: 1 | AT55: 1 | AU55: 1 | AV55: 1 | AW55: 1 | AX55: 1 | AY55: 1
C57: =CONCATENATE(" ",AB59,"."," forduló –") -> 2. forduló – | D57: =VLOOKUP(AB59,ASZ!$AQ$59:$AS$104,2,FALSE) -> 42095 | I57: =CONCATENATE(IF($AW$61,"pont: ","gól: "),SUM(F59:H70)," / átlag: ",TEXT(IF(COUNT(F59:H70)=0,"-",SUM(F59:H70)/COUNT(F59:H70)*2),"0,00")) -> gól: 14 / átlag: 2,80 | K57: FELJEGYZÉSEK | AR57: Naptár | AT57: ►▲▼
C59: 42095 | D59: 19:00 – A pálya | E59: K&H | F59: 2 | G59: – | H59: 1 | I59: Carbonász | U59: =X59&Y59 -> K&HCarbonász | V59: =AND(F59<>"",H59<>"") -> TRUE | W59: =AB59 -> 2 | X59: =E59 -> K&H | Y59: =I59 -> Carbonász | Z59: =IF(V59,F59,"") -> 2 | AA59: =IF(V59,H59,"") -> 1 | AB59: =IF(NOT(ASZTAB!$X$71),AB43+1,AB43+COUNTIF(AB29:AB58,AB43)-1) -> 2 | AC59: =IF(Z59>AA59,X59,"") -> K&H | AD59: =IF(AA59="","",IF(Z59=AA59,X59,"")) | AE59: =IF(AND($AW$61,Z59=0,AA59=20),X59&"ooo",IF(Z59<AA59,X59,"")) | AF59: =IF(AA59>Z59,Y59,"") | AG59: =IF(AA59="","",IF(Z59=AA59,Y59,"")) | AH59: =IF(AND($AW$61,Z59=20,AA59=0),Y59&"ooo",IF(Z59>AA59,Y59,"")) -> Carbonász | AI59: =C59 -> 42095 | AL59: =IF(OR(X59=Kedvenc!$C$43,Y59=Kedvenc!$C$43),W59,"") | AM59: =IF(AL59="","",U59) | AQ59: 1 | AR59: 42088 | AS59: =IF(AR59<TODAY(),1000,AQ59) -> 1000 | AT59: =IF(COUNT(OFFSET($AB$42,MATCH(AQ59,index.a,0),-2,12+IF(ASZTAB!$X$71,16,0),2))>=4,AQ59,-1000) -> 1 | AV59: Labdarúgás: | AW59: =ASZTAB!AJ42 -> TRUE | BB59: =C59&D59 -> 4209519:00 – A pálya | BC59: =COUNTIF($BB$43:$BB$383,BB59) -> 1 | BD59: =U59 -> K&HCarbonász
C60: 42095 | D60: 19:45 – A pálya | E60: Élelmesek | F60: 4 | G60: – | H60: 1 | I60: Bakafogó-Honvéd-Sashegy SE | U60: =X60&Y60 -> ÉlelmesekBakafogó-Honvéd-Sashegy SE | V60: =AND(F60<>"",H60<>"") -> TRUE | W60: =W59 -> 2 | X60: =E60 -> Élelmesek | Y60: =I60 -> Bakafogó-Honvéd-Sashegy SE | Z60: =IF(V60,F60,"") -> 4 | AA60: =IF(V60,H60,"") -> 1 | AC60: =IF(Z60>AA60,X60,"") -> Élelmesek | AD60: =IF(AA60="","",IF(Z60=AA60,X60,"")) | AE60: =IF(AND($AW$61,Z60=0,AA60=20),X60&"ooo",IF(Z60<AA60,X60,"")) | AF60: =IF(AA60>Z60,Y60,"") | AG60: =IF(AA60="","",IF(Z60=AA60,Y60,"")) | AH60: =IF(AND($AW$61,Z60=20,AA60=0),Y60&"ooo",IF(Z60>AA60,Y60,"")) -> Bakafogó-Honvéd-Sashegy SE | AI60: =C60 -> 42095 | AL60: =IF(OR(X60=Kedvenc!$C$43,Y60=Kedvenc!$C$43),W60,"") | AM60: =IF(AL60="","",U60) | AQ60: 2 | AR60: 42095 | AS60: =IF(AR60<TODAY(),1000,AQ60) -> 1000 | AT60: =IF(COUNT(OFFSET($AB$42,MATCH(AQ60,index.a,0),-2,12+IF(ASZTAB!$X$71,16,0),2))>=4,AQ60,-1000) -> 2 | AV60: Kézilabda: | AW60: =ASZTAB!AJ43 -> FALSE | BB60: =C60&D60 -> 4209519:45 – A pálya | BC60: =COUNTIF($BB$43:$BB$383,BB60) -> 1 | BD60: =U60 -> ÉlelmesekBakafogó-Honvéd-Sashegy SE
C61: 42095 | D61: 20:30 – A pálya | E61: Bőrdíszmű | F61: 0 | G61: – | H61: 1 | I61: Hercules-Ludovika | U61: =X61&Y61 -> BőrdíszműHercules-Ludovika | V61: =AND(F61<>"",H61<>"") -> TRUE | W61: =W60 -> 2 | X61: =E61 -> Bőrdíszmű | Y61: =I61 -> Hercules-Ludovika | Z61: =IF(V61,F61,"") -> 0 | AA61: =IF(V61,H61,"") -> 1 | AC61: =IF(Z61>AA61,X61,"") | AD61: =IF(AA61="","",IF(Z61=AA61,X61,"")) | AE61: =IF(AND($AW$61,Z61=0,AA61=20),X61&"ooo",IF(Z61<AA61,X61,"")) -> Bőrdíszmű | AF61: =IF(AA61>Z61,Y61,"") -> Hercules-Ludovika | AG61: =IF(AA61="","",IF(Z61=AA61,Y61,"")) | AH61: =IF(AND($AW$61,Z61=20,AA61=0),Y61&"ooo",IF(Z61>AA61,Y61,"")) | AI61: =C61 -> 42095 | AL61: =IF(OR(X61=Kedvenc!$C$43,Y61=Kedvenc!$C$43),W61,"") | AM61: =IF(AL61="","",U61) | AQ61: 3 | AR61: 42102 | AS61: =IF(AR61<TODAY(),1000,AQ61) -> 1000 | AT61: =IF(COUNT(OFFSET($AB$42,MATCH(AQ61,index.a,0),-2,12+IF(ASZTAB!$X$71,16,0),2))>=4,AQ61,-1000) -> 3 | AV61: Kosárlabda: | AW61: =ASZTAB!AJ44 -> FALSE | BB61: =C61&D61 -> 4209520:30 – A pálya | BC61: =COUNTIF($BB$43:$BB$383,BB61) -> 1 | BD61: =U61 -> BőrdíszműHercules-Ludovika
C62: 42095 | D62: 19:00 – B pálya | E62: BBK | F62: 3 | G62: – | H62: 0 | I62: Royal Guard's | U62: =X62&Y62 -> BBKRoyal Guard's | V62: =AND(F62<>"",H62<>"") -> TRUE | W62: =W61 -> 2 | X62: =E62 -> BBK | Y62: =I62 -> Royal Guard's | Z62: =IF(V62,F62,"") -> 3 | AA62: =IF(V62,H62,"") -> 0 | AC62: =IF(Z62>AA62,X62,"") -> BBK | AD62: =IF(AA62="","",IF(Z62=AA62,X62,"")) | AE62: =IF(AND($AW$61,Z62=0,AA62=20),X62&"ooo",IF(Z62<AA62,X62,"")) | AF62: =IF(AA62>Z62,Y62,"") | AG62: =IF(AA62="","",IF(Z62=AA62,Y62,"")) | AH62: =IF(AND($AW$61,Z62=20,AA62=0),Y62&"ooo",IF(Z62>AA62,Y62,"")) -> Royal Guard's | AI62: =C62 -> 42095 | AL62: =IF(OR(X62=Kedvenc!$C$43,Y62=Kedvenc!$C$43),W62,"") | AM62: =IF(AL62="","",U62) | AQ62: 4 | AR62: 42109 | AS62: =IF(AR62<TODAY(),1000,AQ62) -> 1000 | AT62: =IF(COUNT(OFFSET($AB$42,MATCH(AQ62,index.a,0),-2,12+IF(ASZTAB!$X$71,16,0),2))>=4,AQ62,-1000) -> 4 | AV62: Vízilabda: | AW62: =ASZTAB!AJ45 -> FALSE | BB62: =C62&D62 -> 4209519:00 – B pálya | BC62: =COUNTIF($BB$43:$BB$383,BB62) -> 1 | BD62: =U62 -> BBKRoyal Guard's
C63: 42095 | D63: 19:45 – B pálya | E63: Zrínyigyöngye | F63: 1 | G63: – | H63: 1 | I63: BHD | U63: =X63&Y63 -> ZrínyigyöngyeBHD | V63: =AND(F63<>"",H63<>"") -> TRUE | W63: =W62 -> 2 | X63: =E63 -> Zrínyigyöngye | Y63: =I63 -> BHD | Z63: =IF(V63,F63,"") -> 1 | AA63: =IF(V63,H63,"") -> 1 | AC63: =IF(Z63>AA63,X63,"") | AD63: =IF(AA63="","",IF(Z63=AA63,X63,"")) -> Zrínyigyöngye | AE63: =IF(AND($AW$61,Z63=0,AA63=20),X63&"ooo",IF(Z63<AA63,X63,"")) | AF63: =IF(AA63>Z63,Y63,"") | AG63: =IF(AA63="","",IF(Z63=AA63,Y63,"")) -> BHD | AH63: =IF(AND($AW$61,Z63=20,AA63=0),Y63&"ooo",IF(Z63>AA63,Y63,"")) | AI63: =C63 -> 42095 | AL63: =IF(OR(X63=Kedvenc!$C$43,Y63=Kedvenc!$C$43),W63,"") | AM63: =IF(AL63="","",U63) | AQ63: 5 | AR63: 42116 | AS63: =IF(AR63<TODAY(),1000,AQ63) -> 1000 | AT63: =IF(COUNT(OFFSET($AB$42,MATCH(AQ63,index.a,0),-2,12+IF(ASZTAB!$X$71,16,0),2))>=4,AQ63,-1000) -> 5 | BB63: =C63&D63 -> 4209519:45 – B pálya | BC63: =COUNTIF($BB$43:$BB$383,BB63) -> 1 | BD63: =U63 -> ZrínyigyöngyeBHD
E64: Vakana | I64: szabadnapos | U64: =X64&Y64 -> Vakanaszabadnapos | V64: =AND(F64<>"",H64<>"") -> FALSE | W64: =W63 -> 2 | X64: =E64 -> Vakana | Y64: =I64 -> szabadnapos | Z64: =IF(V64,F64,"") | AA64: =IF(V64,H64,"") | AC64: =IF(Z64>AA64,X64,"") | AD64: =IF(AA64="","",IF(Z64=AA64,X64,"")) | AE64: =IF(AND($AW$61,Z64=0,AA64=20),X64&"ooo",IF(Z64<AA64,X64,"")) | AF64: =IF(AA64>Z64,Y64,"") | AG64: =IF(AA64="","",IF(Z64=AA64,Y64,"")) | AH64: =IF(AND($AW$61,Z64=20,AA64=0),Y64&"ooo",IF(Z64>AA64,Y64,"")) | AI64: =AI59 -> 42095 | AL64: =IF(OR(X64=Kedvenc!$C$43,Y64=Kedvenc!$C$43),W64,"") | AM64: =IF(AL64="","",U64) | AQ64: 6 | AR64: 42123 | AS64: =IF(AR64<TODAY(),1000,AQ64) -> 1000 | AT64: =IF(COUNT(OFFSET($AB$42,MATCH(AQ64,index.a,0),-2,12+IF(ASZTAB!$X$71,16,0),2))>=4,AQ64,-1000) -> 6 | AW64: tám/véd
U65: =X65&Y65 -> 00 | V65: =AND(F65<>"",H65<>"") -> FALSE | W65: =W64 -> 2 | X65: =E65 -> 0 | Y65: =I65 -> 0 | Z65: =IF(V65,F65,"") | AA65: =IF(V65,H65,"") | AC65: =IF(Z65>AA65,X65,"") | AD65: =IF(AA65="","",IF(Z65=AA65,X65,"")) | AE65: =IF(AND($AW$61,Z65=0,AA65=20),X65&"ooo",IF(Z65<AA65,X65,"")) | AF65: =IF(AA65>Z65,Y65,"") | AG65: =IF(AA65="","",IF(Z65=AA65,Y65,"")) | AH65: =IF(AND($AW$61,Z65=20,AA65=0),Y65&"ooo",IF(Z65>AA65,Y65,"")) | AI65: =C65 -> 0 | AL65: =IF(OR(X65=Kedvenc!$C$43,Y65=Kedvenc!$C$43),W65,"") | AM65: =IF(AL65="","",U65) | AQ65: 7 | AR65: 42130 | AS65: =IF(AR65<TODAY(),1000,AQ65) -> 1000 | AT65: =IF(COUNT(OFFSET($AB$42,MATCH(AQ65,index.a,0),-2,12+IF(ASZTAB!$X$71,16,0),2))>=4,AQ65,-1000) -> 7 | AW65: round | AX65: gam.av | AY65: gam.an
U66: =X66&Y66 -> 00 | V66: =AND(F66<>"",H66<>"") -> FALSE | W66: =W65 -> 2 | X66: =E66 -> 0 | Y66: =I66 -> 0 | Z66: =IF(V66,F66,"") | AA66: =IF(V66,H66,"") | AC66: =IF(Z66>AA66,X66,"") | AD66: =IF(AA66="","",IF(Z66=AA66,X66,"")) | AE66: =IF(AND($AW$61,Z66=0,AA66=20),X66&"ooo",IF(Z66<AA66,X66,"")) | AF66: =IF(AA66>Z66,Y66,"") | AG66: =IF(AA66="","",IF(Z66=AA66,Y66,"")) | AH66: =IF(AND($AW$61,Z66=20,AA66=0),Y66&"ooo",IF(Z66>AA66,Y66,"")) | AI66: =C66 -> 0 | AL66: =IF(OR(X66=Kedvenc!$C$43,Y66=Kedvenc!$C$43),W66,"") | AM66: =IF(AL66="","",U66) | AQ66: 8 | AR66: 42137 | AS66: =IF(AR66<TODAY(),1000,AQ66) -> 1000 | AT66: =IF(COUNT(OFFSET($AB$42,MATCH(AQ66,index.a,0),-2,12+IF(ASZTAB!$X$71,16,0),2))>=4,AQ66,-1000) -> 8 | AW66: =MATCH($AT$107,index.a,0) -> 337 | AX66: =MATCH(ASZTAB!$P$43,index.a,0) -> 1 | AY66: =MATCH(ASZTAB!$AJ$62,index.a,0) -> 1
U67: =X67&Y67 -> 00 | V67: =AND(F67<>"",H67<>"") -> FALSE | W67: =W66 -> 2 | X67: =E67 -> 0 | Y67: =I67 -> 0 | Z67: =IF(V67,F67,"") | AA67: =IF(V67,H67,"") | AC67: =IF(Z67>AA67,X67,"") | AD67: =IF(AA67="","",IF(Z67=AA67,X67,"")) | AE67: =IF(AND($AW$61,Z67=0,AA67=20),X67&"ooo",IF(Z67<AA67,X67,"")) | AF67: =IF(AA67>Z67,Y67,"") | AG67: =IF(AA67="","",IF(Z67=AA67,Y67,"")) | AH67: =IF(AND($AW$61,Z67=20,AA67=0),Y67&"ooo",IF(Z67>AA67,Y67,"")) | AI67: =C67 -> 0 | AL67: =IF(OR(X67=Kedvenc!$C$43,Y67=Kedvenc!$C$43),W67,"") | AM67: =IF(AL67="","",U67) | AQ67: 9 | AR67: 42144 | AS67: =IF(AR67<TODAY(),1000,AQ67) -> 1000 | AT67: =IF(COUNT(OFFSET($AB$42,MATCH(AQ67,index.a,0),-2,12+IF(ASZTAB!$X$71,16,0),2))>=4,AQ67,-1000) -> 9 | AW67: -7 | AX67: -7 | AY67: -7
U68: =X68&Y68 -> 00 | V68: =AND(F68<>"",H68<>"") -> FALSE | W68: =W67 -> 2 | X68: =E68 -> 0 | Y68: =I68 -> 0 | Z68: =IF(V68,F68,"") | AA68: =IF(V68,H68,"") | AC68: =IF(Z68>AA68,X68,"") | AD68: =IF(AA68="","",IF(Z68=AA68,X68,"")) | AE68: =IF(AND($AW$61,Z68=0,AA68=20),X68&"ooo",IF(Z68<AA68,X68,"")) | AF68: =IF(AA68>Z68,Y68,"") | AG68: =IF(AA68="","",IF(Z68=AA68,Y68,"")) | AH68: =IF(AND($AW$61,Z68=20,AA68=0),Y68&"ooo",IF(Z68>AA68,Y68,"")) | AI68: =C68 -> 0 | AL68: =IF(OR(X68=Kedvenc!$C$43,Y68=Kedvenc!$C$43),W68,"") | AM68: =IF(AL68="","",U68) | AQ68: 10 | AR68: 42151 | AS68: =IF(AR68<TODAY(),1000,AQ68) -> 1000 | AT68: =IF(COUNT(OFFSET($AB$42,MATCH(AQ68,index.a,0),-2,12+IF(ASZTAB!$X$71,16,0),2))>=4,AQ68,-1000) -> 10 | AW68: =IF(ASZTAB!$X$71,28,12) -> 12 | AX68: =MATCH(ASZTAB!$R$43,index.a,0)+ROUNDUP(ASZTAB!$X$68/2,0)-AX66+IF(ASZTAB!$X$71,16,0) -> 342 | AY68: =MATCH(ASZTAB!$R$43-1,index.a,0)+ROUNDUP(ASZTAB!$X$68/2,0)-AY66+IF(ASZTAB!$X$71,16,0) -> 326
U69: =X69&Y69 -> 00 | V69: =AND(F69<>"",H69<>"") -> FALSE | W69: =W68 -> 2 | X69: =E69 -> 0 | Y69: =I69 -> 0 | Z69: =IF(V69,F69,"") | AA69: =IF(V69,H69,"") | AC69: =IF(Z69>AA69,X69,"") | AD69: =IF(AA69="","",IF(Z69=AA69,X69,"")) | AE69: =IF(AND($AW$61,Z69=0,AA69=20),X69&"ooo",IF(Z69<AA69,X69,"")) | AF69: =IF(AA69>Z69,Y69,"") | AG69: =IF(AA69="","",IF(Z69=AA69,Y69,"")) | AH69: =IF(AND($AW$61,Z69=20,AA69=0),Y69&"ooo",IF(Z69>AA69,Y69,"")) | AI69: =C69 -> 0 | AL69: =IF(OR(X69=Kedvenc!$C$43,Y69=Kedvenc!$C$43),W69,"") | AM69: =IF(AL69="","",U69) | AQ69: 11 | AR69: 42158 | AS69: =IF(AR69<TODAY(),1000,AQ69) -> 1000 | AT69: =IF(COUNT(OFFSET($AB$42,MATCH(AQ69,index.a,0),-2,12+IF(ASZTAB!$X$71,16,0),2))>=4,AQ69,-1000) -> 11 | AW69: 14 | AX69: 1 | AY69: 1
U70: =X70&Y70 -> 00 | V70: =AND(F70<>"",H70<>"") -> FALSE | W70: =W69 -> 2 | X70: =E70 -> 0 | Y70: =I70 -> 0 | Z70: =IF(V70,F70,"") | AA70: =IF(V70,H70,"") | AC70: =IF(Z70>AA70,X70,"") | AD70: =IF(AA70="","",IF(Z70=AA70,X70,"")) | AE70: =IF(AND($AW$61,Z70=0,AA70=20),X70&"ooo",IF(Z70<AA70,X70,"")) | AF70: =IF(AA70>Z70,Y70,"") | AG70: =IF(AA70="","",IF(Z70=AA70,Y70,"")) | AH70: =IF(AND($AW$61,Z70=20,AA70=0),Y70&"ooo",IF(Z70>AA70,Y70,"")) | AI70: =C70 -> 0 | AL70: =IF(OR(X70=Kedvenc!$C$43,Y70=Kedvenc!$C$43),W70,"") | AM70: =IF(AL70="","",U70) | AQ70: 12 | AR70: 42165 | AS70: =IF(AR70<TODAY(),1000,AQ70) -> 1000 | AT70: =IF(COUNT(OFFSET($AB$42,MATCH(AQ70,index.a,0),-2,12+IF(ASZTAB!$X$71,16,0),2))>=4,AQ70,-1000) -> 12
AQ71: 13 | AR71: 42172 | AS71: =IF(AR71<TODAY(),1000,AQ71) -> 1000 | AT71: =IF(COUNT(OFFSET($AB$42,MATCH(AQ71,index.a,0),-2,12+IF(ASZTAB!$X$71,16,0),2))>=4,AQ71,-1000) -> 13
AQ72: 14 | AR72: 42179 | AS72: =IF(AR72<TODAY(),1000,AQ72) -> 1000 | AT72: =IF(COUNT(OFFSET($AB$42,MATCH(AQ72,index.a,0),-2,12+IF(ASZTAB!$X$71,16,0),2))>=4,AQ72,-1000) -> 14
C73: =CONCATENATE(" ",AB75,"."," forduló –") -> 3. forduló – | D73: =VLOOKUP(AB75,ASZ!$AQ$59:$AS$104,2,FALSE) -> 42102 | I73: =CONCATENATE(IF($AW$61,"pont: ","gól: "),SUM(F75:H86)," / átlag: ",TEXT(IF(COUNT(F75:H86)=0,"-",SUM(F75:H86)/COUNT(F75:H86)*2),"0,00")) -> gól: 24 / átlag: 4,80 | K73: FELJEGYZÉSEK | AQ73: 15 | AR73: 42242 | AS73: =IF(AR73<TODAY(),1000,AQ73) -> 1000 | AT73: =IF(COUNT(OFFSET($AB$42,MATCH(AQ73,index.a,0),-2,12+IF(ASZTAB!$X$71,16,0),2))>=4,AQ73,-1000) -> 15
AQ74: 16 | AR74: 42249 | AS74: =IF(AR74<TODAY(),1000,AQ74) -> 1000 | AT74: =IF(COUNT(OFFSET($AB$42,MATCH(AQ74,index.a,0),-2,12+IF(ASZTAB!$X$71,16,0),2))>=4,AQ74,-1000) -> 16
C75: 42102 | D75: 19:45 – A pálya | E75: Zrínyigyöngye | F75: 1 | G75: – | H75: 3 | I75: BBK | U75: =X75&Y75 -> ZrínyigyöngyeBBK | V75: =AND(F75<>"",H75<>"") -> TRUE | W75: =AB75 -> 3 | X75: =E75 -> Zrínyigyöngye | Y75: =I75 -> BBK | Z75: =IF(V75,F75,"") -> 1 | AA75: =IF(V75,H75,"") -> 3 | AB75: =IF(NOT(ASZTAB!$X$71),AB59+1,AB59+COUNTIF(AB43:AB74,AB59)-1) -> 3 | AC75: =IF(Z75>AA75,X75,"") | AD75: =IF(AA75="","",IF(Z75=AA75,X75,"")) | AE75: =IF(AND($AW$61,Z75=0,AA75=20),X75&"ooo",IF(Z75<AA75,X75,"")) -> Zrínyigyöngye | AF75: =IF(AA75>Z75,Y75,"") -> BBK | AG75: =IF(AA75="","",IF(Z75=AA75,Y75,"")) | AH75: =IF(AND($AW$61,Z75=20,AA75=0),Y75&"ooo",IF(Z75>AA75,Y75,"")) | AI75: =C75 -> 42102 | AL75: =IF(OR(X75=Kedvenc!$C$43,Y75=Kedvenc!$C$43),W75,"") | AM75: =IF(AL75="","",U75) | AQ75: 17 | AR75: 42256 | AS75: =IF(AR75<TODAY(),1000,AQ75) -> 1000 | AT75: =IF(COUNT(OFFSET($AB$42,MATCH(AQ75,index.a,0),-2,12+IF(ASZTAB!$X$71,16,0),2))>=4,AQ75,-1000) -> 17 | BB75: =C75&D75 -> 4210219:45 – A pálya | BC75: =COUNTIF($BB$43:$BB$383,BB75) -> 1 | BD75: =U75 -> ZrínyigyöngyeBBK
C76: 42102 | D76: 20:30 – A pálya | E76: Bőrdíszmű | F76: 3 | G76: – | H76: 3 | I76: Carbonász | U76: =X76&Y76 -> BőrdíszműCarbonász | V76: =AND(F76<>"",H76<>"") -> TRUE | W76: =W75 -> 3 | X76: =E76 -> Bőrdíszmű | Y76: =I76 -> Carbonász | Z76: =IF(V76,F76,"") -> 3 | AA76: =IF(V76,H76,"") -> 3 | AC76: =IF(Z76>AA76,X76,"") | AD76: =IF(AA76="","",IF(Z76=AA76,X76,"")) -> Bőrdíszmű | AE76: =IF(AND($AW$61,Z76=0,AA76=20),X76&"ooo",IF(Z76<AA76,X76,"")) | AF76: =IF(AA76>Z76,Y76,"") | AG76: =IF(AA76="","",IF(Z76=AA76,Y76,"")) -> Carbonász | AH76: =IF(AND($AW$61,Z76=20,AA76=0),Y76&"ooo",IF(Z76>AA76,Y76,"")) | AI76: =C76 -> 42102 | AL76: =IF(OR(X76=Kedvenc!$C$43,Y76=Kedvenc!$C$43),W76,"") | AM76: =IF(AL76="","",U76) | AQ76: 18 | AR76: 42263 | AS76: =IF(AR76<TODAY(),1000,AQ76) -> 1000 | AT76: =IF(COUNT(OFFSET($AB$42,MATCH(AQ76,index.a,0),-2,12+IF(ASZTAB!$X$71,16,0),2))>=4,AQ76,-1000) -> 18 | BB76: =C76&D76 -> 4210220:30 – A pálya | BC76: =COUNTIF($BB$43:$BB$383,BB76) -> 1 | BD76: =U76 -> BőrdíszműCarbonász
C77: 42102 | D77: 19:00 – B pálya | E77: Hercules-Ludovika | F77: 1 | G77: – | H77: 0 | I77: Bakafogó-Honvéd-Sashegy SE | U77: =X77&Y77 -> Hercules-LudovikaBakafogó-Honvéd-Sashegy SE | V77: =AND(F77<>"",H77<>"") -> TRUE | W77: =W76 -> 3 | X77: =E77 -> Hercules-Ludovika | Y77: =I77 -> Bakafogó-Honvéd-Sashegy SE | Z77: =IF(V77,F77,"") -> 1 | AA77: =IF(V77,H77,"") -> 0 | AC77: =IF(Z77>AA77,X77,"") -> Hercules-Ludovika | AD77: =IF(AA77="","",IF(Z77=AA77,X77,"")) | AE77: =IF(AND($AW$61,Z77=0,AA77=20),X77&"ooo",IF(Z77<AA77,X77,"")) | AF77: =IF(AA77>Z77,Y77,"") | AG77: =IF(AA77="","",IF(Z77=AA77,Y77,"")) | AH77: =IF(AND($AW$61,Z77=20,AA77=0),Y77&"ooo",IF(Z77>AA77,Y77,"")) -> Bakafogó-Honvéd-Sashegy SE | AI77: =C77 -> 42102 | AL77: =IF(OR(X77=Kedvenc!$C$43,Y77=Kedvenc!$C$43),W77,"") | AM77: =IF(AL77="","",U77) | AQ77: 19 | AR77: 42270 | AS77: =IF(AR77<TODAY(),1000,AQ77) -> 1000 | AT77: =IF(COUNT(OFFSET($AB$42,MATCH(AQ77,index.a,0),-2,12+IF(ASZTAB!$X$71,16,0),2))>=4,AQ77,-1000) -> 19 | BB77: =C77&D77 -> 4210219:00 – B pálya | BC77: =COUNTIF($BB$43:$BB$383,BB77) -> 1 | BD77: =U77 -> Hercules-LudovikaBakafogó-Honvéd-Sashegy SE
C78: 42102 | D78: 19:45 – B pálya | E78: Vakana | F78: 0 | G78: – | H78: 3 | I78: BHD | U78: =X78&Y78 -> VakanaBHD | V78: =AND(F78<>"",H78<>"") -> TRUE | W78: =W77 -> 3 | X78: =E78 -> Vakana | Y78: =I78 -> BHD | Z78: =IF(V78,F78,"") -> 0 | AA78: =IF(V78,H78,"") -> 3 | AC78: =IF(Z78>AA78,X78,"") | AD78: =IF(AA78="","",IF(Z78=AA78,X78,"")) | AE78: =IF(AND($AW$61,Z78=0,AA78=20),X78&"ooo",IF(Z78<AA78,X78,"")) -> Vakana | AF78: =IF(AA78>Z78,Y78,"") -> BHD | AG78: =IF(AA78="","",IF(Z78=AA78,Y78,"")) | AH78: =IF(AND($AW$61,Z78=20,AA78=0),Y78&"ooo",IF(Z78>AA78,Y78,"")) | AI78: =C78 -> 42102 | AL78: =IF(OR(X78=Kedvenc!$C$43,Y78=Kedvenc!$C$43),W78,"") | AM78: =IF(AL78="","",U78) | AQ78: 20 | AR78: 42277 | AS78: =IF(AR78<TODAY(),1000,AQ78) -> 1000 | AT78: =IF(COUNT(OFFSET($AB$42,MATCH(AQ78,index.a,0),-2,12+IF(ASZTAB!$X$71,16,0),2))>=4,AQ78,-1000) -> 20 | BB78: =C78&D78 -> 4210219:45 – B pálya | BC78: =COUNTIF($BB$43:$BB$383,BB78) -> 1 | BD78: =U78 -> VakanaBHD
C79: 42088 | D79: 20:30 – B pálya | E79: K&H | F79: 10 | G79: – | H79: 0 | I79: Royal Guard's | K79: Előrehozva az első játéknapra | U79: =X79&Y79 -> K&HRoyal Guard's | V79: =AND(F79<>"",H79<>"") -> TRUE | W79: =W78 -> 3 | X79: =E79 -> K&H | Y79: =I79 -> Royal Guard's | Z79: =IF(V79,F79,"") -> 10 | AA79: =IF(V79,H79,"") -> 0 | AC79: =IF(Z79>AA79,X79,"") -> K&H | AD79: =IF(AA79="","",IF(Z79=AA79,X79,"")) | AE79: =IF(AND($AW$61,Z79=0,AA79=20),X79&"ooo",IF(Z79<AA79,X79,"")) | AF79: =IF(AA79>Z79,Y79,"") | AG79: =IF(AA79="","",IF(Z79=AA79,Y79,"")) | AH79: =IF(AND($AW$61,Z79=20,AA79=0),Y79&"ooo",IF(Z79>AA79,Y79,"")) -> Royal Guard's | AI79: =C79 -> 42088 | AL79: =IF(OR(X79=Kedvenc!$C$43,Y79=Kedvenc!$C$43),W79,"") | AM79: =IF(AL79="","",U79) | AQ79: 21 | AR79: 42284 | AS79: =IF(AR79<TODAY(),1000,AQ79) -> 1000 | AT79: =IF(COUNT(OFFSET($AB$42,MATCH(AQ79,index.a,0),-2,12+IF(ASZTAB!$X$71,16,0),2))>=4,AQ79,-1000) -> 21 | BB79: =C79&D79 -> 4208820:30 – B pálya | BC79: =COUNTIF($BB$43:$BB$383,BB79) -> 1 | BD79: =U79 -> K&HRoyal Guard's
E80: Élelmesek | I80: szabadnapos | U80: =X80&Y80 -> Élelmesekszabadnapos | V80: =AND(F80<>"",H80<>"") -> FALSE | W80: =W79 -> 3 | X80: =E80 -> Élelmesek | Y80: =I80 -> szabadnapos | Z80: =IF(V80,F80,"") | AA80: =IF(V80,H80,"") | AC80: =IF(Z80>AA80,X80,"") | AD80: =IF(AA80="","",IF(Z80=AA80,X80,"")) | AE80: =IF(AND($AW$61,Z80=0,AA80=20),X80&"ooo",IF(Z80<AA80,X80,"")) | AF80: =IF(AA80>Z80,Y80,"") | AG80: =IF(AA80="","",IF(Z80=AA80,Y80,"")) | AH80: =IF(AND($AW$61,Z80=20,AA80=0),Y80&"ooo",IF(Z80>AA80,Y80,"")) | AI80: =AI75 -> 42102 | AL80: =IF(OR(X80=Kedvenc!$C$43,Y80=Kedvenc!$C$43),W80,"") | AM80: =IF(AL80="","",U80) | AQ80: 22 | AR80: 42291 | AS80: =IF(AR80<TODAY(),1000,AQ80) -> 1000 | AT80: =IF(COUNT(OFFSET($AB$42,MATCH(AQ80,index.a,0),-2,12+IF(ASZTAB!$X$71,16,0),2))>=4,AQ80,-1000) -> 22
U81: =X81&Y81 -> 00 | V81: =AND(F81<>"",H81<>"") -> FALSE | W81: =W80 -> 3 | X81: =E81 -> 0 | Y81: =I81 -> 0 | Z81: =IF(V81,F81,"") | AA81: =IF(V81,H81,"") | AC81: =IF(Z81>AA81,X81,"") | AD81: =IF(AA81="","",IF(Z81=AA81,X81,"")) | AE81: =IF(AND($AW$61,Z81=0,AA81=20),X81&"ooo",IF(Z81<AA81,X81,"")) | AF81: =IF(AA81>Z81,Y81,"") | AG81: =IF(AA81="","",IF(Z81=AA81,Y81,"")) | AH81: =IF(AND($AW$61,Z81=20,AA81=0),Y81&"ooo",IF(Z81>AA81,Y81,"")) | AI81: =C81 -> 0 | AL81: =IF(OR(X81=Kedvenc!$C$43,Y81=Kedvenc!$C$43),W81,"") | AM81: =IF(AL81="","",U81)
U82: =X82&Y82 -> 00 | V82: =AND(F82<>"",H82<>"") -> FALSE | W82: =W81 -> 3 | X82: =E82 -> 0 | Y82: =I82 -> 0 | Z82: =IF(V82,F82,"") | AA82: =IF(V82,H82,"") | AC82: =IF(Z82>AA82,X82,"") | AD82: =IF(AA82="","",IF(Z82=AA82,X82,"")) | AE82: =IF(AND($AW$61,Z82=0,AA82=20),X82&"ooo",IF(Z82<AA82,X82,"")) | AF82: =IF(AA82>Z82,Y82,"") | AG82: =IF(AA82="","",IF(Z82=AA82,Y82,"")) | AH82: =IF(AND($AW$61,Z82=20,AA82=0),Y82&"ooo",IF(Z82>AA82,Y82,"")) | AI82: =C82 -> 0 | AL82: =IF(OR(X82=Kedvenc!$C$43,Y82=Kedvenc!$C$43),W82,"") | AM82: =IF(AL82="","",U82)
U83: =X83&Y83 -> 00 | V83: =AND(F83<>"",H83<>"") -> FALSE | W83: =W82 -> 3 | X83: =E83 -> 0 | Y83: =I83 -> 0 | Z83: =IF(V83,F83,"") | AA83: =IF(V83,H83,"") | AC83: =IF(Z83>AA83,X83,"") | AD83: =IF(AA83="","",IF(Z83=AA83,X83,"")) | AE83: =IF(AND($AW$61,Z83=0,AA83=20),X83&"ooo",IF(Z83<AA83,X83,"")) | AF83: =IF(AA83>Z83,Y83,"") | AG83: =IF(AA83="","",IF(Z83=AA83,Y83,"")) | AH83: =IF(AND($AW$61,Z83=20,AA83=0),Y83&"ooo",IF(Z83>AA83,Y83,"")) | AI83: =C83 -> 0 | AL83: =IF(OR(X83=Kedvenc!$C$43,Y83=Kedvenc!$C$43),W83,"") | AM83: =IF(AL83="","",U83)
U84: =X84&Y84 -> 00 | V84: =AND(F84<>"",H84<>"") -> FALSE | W84: =W83 -> 3 | X84: =E84 -> 0 | Y84: =I84 -> 0 | Z84: =IF(V84,F84,"") | AA84: =IF(V84,H84,"") | AC84: =IF(Z84>AA84,X84,"") | AD84: =IF(AA84="","",IF(Z84=AA84,X84,"")) | AE84: =IF(AND($AW$61,Z84=0,AA84=20),X84&"ooo",IF(Z84<AA84,X84,"")) | AF84: =IF(AA84>Z84,Y84,"") | AG84: =IF(AA84="","",IF(Z84=AA84,Y84,"")) | AH84: =IF(AND($AW$61,Z84=20,AA84=0),Y84&"ooo",IF(Z84>AA84,Y84,"")) | AI84: =C84 -> 0 | AL84: =IF(OR(X84=Kedvenc!$C$43,Y84=Kedvenc!$C$43),W84,"") | AM84: =IF(AL84="","",U84)
U85: =X85&Y85 -> 00 | V85: =AND(F85<>"",H85<>"") -> FALSE | W85: =W84 -> 3 | X85: =E85 -> 0 | Y85: =I85 -> 0 | Z85: =IF(V85,F85,"") | AA85: =IF(V85,H85,"") | AC85: =IF(Z85>AA85,X85,"") | AD85: =IF(AA85="","",IF(Z85=AA85,X85,"")) | AE85: =IF(AND($AW$61,Z85=0,AA85=20),X85&"ooo",IF(Z85<AA85,X85,"")) | AF85: =IF(AA85>Z85,Y85,"") | AG85: =IF(AA85="","",IF(Z85=AA85,Y85,"")) | AH85: =IF(AND($AW$61,Z85=20,AA85=0),Y85&"ooo",IF(Z85>AA85,Y85,"")) | AI85: =C85 -> 0 | AL85: =IF(OR(X85=Kedvenc!$C$43,Y85=Kedvenc!$C$43),W85,"") | AM85: =IF(AL85="","",U85)
U86: =X86&Y86 -> 00 | V86: =AND(F86<>"",H86<>"") -> FALSE | W86: =W85 -> 3 | X86: =E86 -> 0 | Y86: =I86 -> 0 | Z86: =IF(V86,F86,"") | AA86: =IF(V86,H86,"") | AC86: =IF(Z86>AA86,X86,"") | AD86: =IF(AA86="","",IF(Z86=AA86,X86,"")) | AE86: =IF(AND($AW$61,Z86=0,AA86=20),X86&"ooo",IF(Z86<AA86,X86,"")) | AF86: =IF(AA86>Z86,Y86,"") | AG86: =IF(AA86="","",IF(Z86=AA86,Y86,"")) | AH86: =IF(AND($AW$61,Z86=20,AA86=0),Y86&"ooo",IF(Z86>AA86,Y86,"")) | AI86: =C86 -> 0 | AL86: =IF(OR(X86=Kedvenc!$C$43,Y86=Kedvenc!$C$43),W86,"") | AM86: =IF(AL86="","",U86)
C89: =CONCATENATE(" ",AB91,"."," forduló –") -> 4. forduló – | D89: =VLOOKUP(AB91,ASZ!$AQ$59:$AS$104,2,FALSE) -> 42109 | I89: =CONCATENATE(IF($AW$61,"pont: ","gól: "),SUM(F91:H102)," / átlag: ",TEXT(IF(COUNT(F91:H102)=0,"-",SUM(F91:H102)/COUNT(F91:H102)*2),"0,00")) -> gól: 25 / átlag: 5,00 | K89: FELJEGYZÉSEK
C91: 42109 | D91: 19:00 – A pálya | E91: Zrínyigyöngye | F91: 6 | G91: – | H91: 1 | I91: Bőrdíszmű | U91: =X91&Y91 -> ZrínyigyöngyeBőrdíszmű | V91: =AND(F91<>"",H91<>"") -> TRUE | W91: =AB91 -> 4 | X91: =E91 -> Zrínyigyöngye | Y91: =I91 -> Bőrdíszmű | Z91: =IF(V91,F91,"") -> 6 | AA91: =IF(V91,H91,"") -> 1 | AB91: =IF(NOT(ASZTAB!$X$71),AB75+1,AB75+COUNTIF(AB59:AB90,AB75)-1) -> 4 | AC91: =IF(Z91>AA91,X91,"") -> Zrínyigyöngye | AD91: =IF(AA91="","",IF(Z91=AA91,X91,"")) | AE91: =IF(AND($AW$61,Z91=0,AA91=20),X91&"ooo",IF(Z91<AA91,X91,"")) | AF91: =IF(AA91>Z91,Y91,"") | AG91: =IF(AA91="","",IF(Z91=AA91,Y91,"")) | AH91: =IF(AND($AW$61,Z91=20,AA91=0),Y91&"ooo",IF(Z91>AA91,Y91,"")) -> Bőrdíszmű | AI91: =C91 -> 42109 | AL91: =IF(OR(X91=Kedvenc!$C$43,Y91=Kedvenc!$C$43),W91,"") | AM91: =IF(AL91="","",U91) | BB91: =C91&D91 -> 4210919:00 – A pálya | BC91: =COUNTIF($BB$43:$BB$383,BB91) -> 1 | BD91: =U91 -> ZrínyigyöngyeBőrdíszmű
C92: 42109 | D92: 19:45 – A pálya | E92: Élelmesek | F92: 1 | G92: – | H92: 1 | I92: Hercules-Ludovika | U92: =X92&Y92 -> ÉlelmesekHercules-Ludovika | V92: =AND(F92<>"",H92<>"") -> TRUE | W92: =W91 -> 4 | X92: =E92 -> Élelmesek | Y92: =I92 -> Hercules-Ludovika | Z92: =IF(V92,F92,"") -> 1 | AA92: =IF(V92,H92,"") -> 1 | AC92: =IF(Z92>AA92,X92,"") | AD92: =IF(AA92="","",IF(Z92=AA92,X92,"")) -> Élelmesek | AE92: =IF(AND($AW$61,Z92=0,AA92=20),X92&"ooo",IF(Z92<AA92,X92,"")) | AF92: =IF(AA92>Z92,Y92,"") | AG92: =IF(AA92="","",IF(Z92=AA92,Y92,"")) -> Hercules-Ludovika | AH92: =IF(AND($AW$61,Z92=20,AA92=0),Y92&"ooo",IF(Z92>AA92,Y92,"")) | AI92: =C92 -> 42109 | AL92: =IF(OR(X92=Kedvenc!$C$43,Y92=Kedvenc!$C$43),W92,"") | AM92: =IF(AL92="","",U92) | BB92: =C92&D92 -> 4210919:45 – A pálya | BC92: =COUNTIF($BB$43:$BB$383,BB92) -> 1 | BD92: =U92 -> ÉlelmesekHercules-Ludovika
C93: 42109 | D93: 20:30 – A pálya | E93: K&H | F93: 7 | G93: – | H93: 0 | I93: Bakafogó-Honvéd-Sashegy SE | U93: =X93&Y93 -> K&HBakafogó-Honvéd-Sashegy SE | V93: =AND(F93<>"",H93<>"") -> TRUE | W93: =W92 -> 4 | X93: =E93 -> K&H | Y93: =I93 -> Bakafogó-Honvéd-Sashegy SE | Z93: =IF(V93,F93,"") -> 7 | AA93: =IF(V93,H93,"") -> 0 | AC93: =IF(Z93>AA93,X93,"") -> K&H | AD93: =IF(AA93="","",IF(Z93=AA93,X93,"")) | AE93: =IF(AND($AW$61,Z93=0,AA93=20),X93&"ooo",IF(Z93<AA93,X93,"")) | AF93: =IF(AA93>Z93,Y93,"") | AG93: =IF(AA93="","",IF(Z93=AA93,Y93,"")) | AH93: =IF(AND($AW$61,Z93=20,AA93=0),Y93&"ooo",IF(Z93>AA93,Y93,"")) -> Bakafogó-Honvéd-Sashegy SE | AI93: =C93 -> 42109 | AL93: =IF(OR(X93=Kedvenc!$C$43,Y93=Kedvenc!$C$43),W93,"") | AM93: =IF(AL93="","",U93) | BB93: =C93&D93 -> 4210920:30 – A pálya | BC93: =COUNTIF($BB$43:$BB$383,BB93) -> 1 | BD93: =U93 -> K&HBakafogó-Honvéd-Sashegy SE
C94: 42109 | D94: 19:00 – B pálya | E94: Vakana | F94: 1 | G94: – | H94: 2 | I94: Carbonász | U94: =X94&Y94 -> VakanaCarbonász | V94: =AND(F94<>"",H94<>"") -> TRUE | W94: =W93 -> 4 | X94: =E94 -> Vakana | Y94: =I94 -> Carbonász | Z94: =IF(V94,F94,"") -> 1 | AA94: =IF(V94,H94,"") -> 2 | AC94: =IF(Z94>AA94,X94,"") | AD94: =IF(AA94="","",IF(Z94=AA94,X94,"")) | AE94: =IF(AND($AW$61,Z94=0,AA94=20),X94&"ooo",IF(Z94<AA94,X94,"")) -> Vakana | AF94: =IF(AA94>Z94,Y94,"") -> Carbonász | AG94: =IF(AA94="","",IF(Z94=AA94,Y94,"")) | AH94: =IF(AND($AW$61,Z94=20,AA94=0),Y94&"ooo",IF(Z94>AA94,Y94,"")) | AI94: =C94 -> 42109 | AL94: =IF(OR(X94=Kedvenc!$C$43,Y94=Kedvenc!$C$43),W94,"") | AM94: =IF(AL94="","",U94) | BB94: =C94&D94 -> 4210919:00 – B pálya | BC94: =COUNTIF($BB$43:$BB$383,BB94) -> 1 | BD94: =U94 -> VakanaCarbonász
C95: 42123 | D95: 20:30 – B pálya | E95: BHD | F95: 4 | G95: – | H95: 2 | I95: Royal Guard's | K95: Elhalasztva a 6. játéknapra | U95: =X95&Y95 -> BHDRoyal Guard's | V95: =AND(F95<>"",H95<>"") -> TRUE | W95: =W94 -> 4 | X95: =E95 -> BHD | Y95: =I95 -> Royal Guard's | Z95: =IF(V95,F95,"") -> 4 | AA95: =IF(V95,H95,"") -> 2 | AC95: =IF(Z95>AA95,X95,"") -> BHD | AD95: =IF(AA95="","",IF(Z95=AA95,X95,"")) | AE95: =IF(AND($AW$61,Z95=0,AA95=20),X95&"ooo",IF(Z95<AA95,X95,"")) | AF95: =IF(AA95>Z95,Y95,"") | AG95: =IF(AA95="","",IF(Z95=AA95,Y95,"")) | AH95: =IF(AND($AW$61,Z95=20,AA95=0),Y95&"ooo",IF(Z95>AA95,Y95,"")) -> Royal Guard's | AI95: =C95 -> 42123 | AL95: =IF(OR(X95=Kedvenc!$C$43,Y95=Kedvenc!$C$43),W95,"") | AM95: =IF(AL95="","",U95) | BB95: =C95&D95 -> 4212320:30 – B pálya | BC95: =COUNTIF($BB$43:$BB$383,BB95) -> 1 | BD95: =U95 -> BHDRoyal Guard's
E96: BBK | I96: szabadnapos | U96: =X96&Y96 -> BBKszabadnapos | V96: =AND(F96<>"",H96<>"") -> FALSE | W96: =W95 -> 4 | X96: =E96 -> BBK | Y96: =I96 -> szabadnapos | Z96: =IF(V96,F96,"") | AA96: =IF(V96,H96,"") | AC96: =IF(Z96>AA96,X96,"") | AD96: =IF(AA96="","",IF(Z96=AA96,X96,"")) | AE96: =IF(AND($AW$61,Z96=0,AA96=20),X96&"ooo",IF(Z96<AA96,X96,"")) | AF96: =IF(AA96>Z96,Y96,"") | AG96: =IF(AA96="","",IF(Z96=AA96,Y96,"")) | AH96: =IF(AND($AW$61,Z96=20,AA96=0),Y96&"ooo",IF(Z96>AA96,Y96,"")) | AI96: =AI91 -> 42109 | AL96: =IF(OR(X96=Kedvenc!$C$43,Y96=Kedvenc!$C$43),W96,"") | AM96: =IF(AL96="","",U96)
U97: =X97&Y97 -> 00 | V97: =AND(F97<>"",H97<>"") -> FALSE | W97: =W96 -> 4 | X97: =E97 -> 0 | Y97: =I97 -> 0 | Z97: =IF(V97,F97,"") | AA97: =IF(V97,H97,"") | AC97: =IF(Z97>AA97,X97,"") | AD97: =IF(AA97="","",IF(Z97=AA97,X97,"")) | AE97: =IF(AND($AW$61,Z97=0,AA97=20),X97&"ooo",IF(Z97<AA97,X97,"")) | AF97: =IF(AA97>Z97,Y97,"") | AG97: =IF(AA97="","",IF(Z97=AA97,Y97,"")) | AH97: =IF(AND($AW$61,Z97=20,AA97=0),Y97&"ooo",IF(Z97>AA97,Y97,"")) | AI97: =C97 -> 0 | AL97: =IF(OR(X97=Kedvenc!$C$43,Y97=Kedvenc!$C$43),W97,"") | AM97: =IF(AL97="","",U97)
U98: =X98&Y98 -> 00 | V98: =AND(F98<>"",H98<>"") -> FALSE | W98: =W97 -> 4 | X98: =E98 -> 0 | Y98: =I98 -> 0 | Z98: =IF(V98,F98,"") | AA98: =IF(V98,H98,"") | AC98: =IF(Z98>AA98,X98,"") | AD98: =IF(AA98="","",IF(Z98=AA98,X98,"")) | AE98: =IF(AND($AW$61,Z98=0,AA98=20),X98&"ooo",IF(Z98<AA98,X98,"")) | AF98: =IF(AA98>Z98,Y98,"") | AG98: =IF(AA98="","",IF(Z98=AA98,Y98,"")) | AH98: =IF(AND($AW$61,Z98=20,AA98=0),Y98&"ooo",IF(Z98>AA98,Y98,"")) | AI98: =C98 -> 0 | AL98: =IF(OR(X98=Kedvenc!$C$43,Y98=Kedvenc!$C$43),W98,"") | AM98: =IF(AL98="","",U98)
U99: =X99&Y99 -> 00 | V99: =AND(F99<>"",H99<>"") -> FALSE | W99: =W98 -> 4 | X99: =E99 -> 0 | Y99: =I99 -> 0 | Z99: =IF(V99,F99,"") | AA99: =IF(V99,H99,"") | AC99: =IF(Z99>AA99,X99,"") | AD99: =IF(AA99="","",IF(Z99=AA99,X99,"")) | AE99: =IF(AND($AW$61,Z99=0,AA99=20),X99&"ooo",IF(Z99<AA99,X99,"")) | AF99: =IF(AA99>Z99,Y99,"") | AG99: =IF(AA99="","",IF(Z99=AA99,Y99,"")) | AH99: =IF(AND($AW$61,Z99=20,AA99=0),Y99&"ooo",IF(Z99>AA99,Y99,"")) | AI99: =C99 -> 0 | AL99: =IF(OR(X99=Kedvenc!$C$43,Y99=Kedvenc!$C$43),W99,"") | AM99: =IF(AL99="","",U99)
U100: =X100&Y100 -> 00 | V100: =AND(F100<>"",H100<>"") -> FALSE | W100: =W99 -> 4 | X100: =E100 -> 0 | Y100: =I100 -> 0 | Z100: =IF(V100,F100,"") | AA100: =IF(V100,H100,"") | AC100: =IF(Z100>AA100,X100,"") | AD100: =IF(AA100="","",IF(Z100=AA100,X100,"")) | AE100: =IF(AND($AW$61,Z100=0,AA100=20),X100&"ooo",IF(Z100<AA100,X100,"")) | AF100: =IF(AA100>Z100,Y100,"") | AG100: =IF(AA100="","",IF(Z100=AA100,Y100,"")) | AH100: =IF(AND($AW$61,Z100=20,AA100=0),Y100&"ooo",IF(Z100>AA100,Y100,"")) | AI100: =C100 -> 0 | AL100: =IF(OR(X100=Kedvenc!$C$43,Y100=Kedvenc!$C$43),W100,"") | AM100: =IF(AL100="","",U100)
U101: =X101&Y101 -> 00 | V101: =AND(F101<>"",H101<>"") -> FALSE | W101: =W100 -> 4 | X101: =E101 -> 0 | Y101: =I101 -> 0 | Z101: =IF(V101,F101,"") | AA101: =IF(V101,H101,"") | AC101: =IF(Z101>AA101,X101,"") | AD101: =IF(AA101="","",IF(Z101=AA101,X101,"")) | AE101: =IF(AND($AW$61,Z101=0,AA101=20),X101&"ooo",IF(Z101<AA101,X101,"")) | AF101: =IF(AA101>Z101,Y101,"") | AG101: =IF(AA101="","",IF(Z101=AA101,Y101,"")) | AH101: =IF(AND($AW$61,Z101=20,AA101=0),Y101&"ooo",IF(Z101>AA101,Y101,"")) | AI101: =C101 -> 0 | AL101: =IF(OR(X101=Kedvenc!$C$43,Y101=Kedvenc!$C$43),W101,"") | AM101: =IF(AL101="","",U101)
U102: =X102&Y102 -> 00 | V102: =AND(F102<>"",H102<>"") -> FALSE | W102: =W101 -> 4 | X102: =E102 -> 0 | Y102: =I102 -> 0 | Z102: =IF(V102,F102,"") | AA102: =IF(V102,H102,"") | AC102: =IF(Z102>AA102,X102,"") | AD102: =IF(AA102="","",IF(Z102=AA102,X102,"")) | AE102: =IF(AND($AW$61,Z102=0,AA102=20),X102&"ooo",IF(Z102<AA102,X102,"")) | AF102: =IF(AA102>Z102,Y102,"") | AG102: =IF(AA102="","",IF(Z102=AA102,Y102,"")) | AH102: =IF(AND($AW$61,Z102=20,AA102=0),Y102&"ooo",IF(Z102>AA102,Y102,"")) | AI102: =C102 -> 0 | AL102: =IF(OR(X102=Kedvenc!$C$43,Y102=Kedvenc!$C$43),W102,"") | AM102: =IF(AL102="","",U102)
C105: =CONCATENATE(" ",AB107,"."," forduló –") -> 5. forduló – | D105: =VLOOKUP(AB107,ASZ!$AQ$59:$AS$104,2,FALSE) -> 42116 | I105: =CONCATENATE(IF($AW$61,"pont: ","gól: "),SUM(F107:H118)," / átlag: ",TEXT(IF(COUNT(F107:H118)=0,"-",SUM(F107:H118)/COUNT(F107:H118)*2),"0,00")) -> gól: 34 / átlag: 6,80 | K105: FELJEGYZÉSEK | AQ105: Következő: | AS105: =MIN(AS59:AS104) -> 1000 | AT105: =MAX(AT59:AT104) -> 22
C107: 42116 | D107: 19:00 – A pálya | E107: K&H | F107: 2 | G107: – | H107: 2 | I107: BHD | U107: =X107&Y107 -> K&HBHD | V107: =AND(F107<>"",H107<>"") -> TRUE | W107: =AB107 -> 5 | X107: =E107 -> K&H | Y107: =I107 -> BHD | Z107: =IF(V107,F107,"") -> 2 | AA107: =IF(V107,H107,"") -> 2 | AB107: =IF(NOT(ASZTAB!$X$71),AB91+1,AB91+COUNTIF(AB75:AB106,AB91)-1) -> 5 | AC107: =IF(Z107>AA107,X107,"") | AD107: =IF(AA107="","",IF(Z107=AA107,X107,"")) -> K&H | AE107: =IF(AND($AW$61,Z107=0,AA107=20),X107&"ooo",IF(Z107<AA107,X107,"")) | AF107: =IF(AA107>Z107,Y107,"") | AG107: =IF(AA107="","",IF(Z107=AA107,Y107,"")) -> BHD | AH107: =IF(AND($AW$61,Z107=20,AA107=0),Y107&"ooo",IF(Z107>AA107,Y107,"")) | AI107: =C107 -> 42116 | AL107: =IF(OR(X107=Kedvenc!$C$43,Y107=Kedvenc!$C$43),W107,"") | AM107: =IF(AL107="","",U107) | AS107: Kiválasztva: | AT107: =IF(ASZTAB!$R$43<AT105,ASZTAB!$R$43,AT105) -> 22 | BB107: =C107&D107 -> 4211619:00 – A pálya | BC107: =COUNTIF($BB$43:$BB$383,BB107) -> 1 | BD107: =U107 -> K&HBHD
C108: 42116 | D108: 19:45 – A pálya | E108: Vakana | F108: 1 | G108: – | H108: 7 | I108: BBK | U108: =X108&Y108 -> VakanaBBK | V108: =AND(F108<>"",H108<>"") -> TRUE | W108: =W107 -> 5 | X108: =E108 -> Vakana | Y108: =I108 -> BBK | Z108: =IF(V108,F108,"") -> 1 | AA108: =IF(V108,H108,"") -> 7 | AC108: =IF(Z108>AA108,X108,"") | AD108: =IF(AA108="","",IF(Z108=AA108,X108,"")) | AE108: =IF(AND($AW$61,Z108=0,AA108=20),X108&"ooo",IF(Z108<AA108,X108,"")) -> Vakana | AF108: =IF(AA108>Z108,Y108,"") -> BBK | AG108: =IF(AA108="","",IF(Z108=AA108,Y108,"")) | AH108: =IF(AND($AW$61,Z108=20,AA108=0),Y108&"ooo",IF(Z108>AA108,Y108,"")) | AI108: =C108 -> 42116 | AL108: =IF(OR(X108=Kedvenc!$C$43,Y108=Kedvenc!$C$43),W108,"") | AM108: =IF(AL108="","",U108) | BB108: =C108&D108 -> 4211619:45 – A pálya | BC108: =COUNTIF($BB$43:$BB$383,BB108) -> 1 | BD108: =U108 -> VakanaBBK
C109: 42116 | D109: 20:30 – A pálya | E109: Zrínyigyöngye | F109: 5 | G109: – | H109: 4 | I109: Bakafogó-Honvéd-Sashegy SE | U109: =X109&Y109 -> ZrínyigyöngyeBakafogó-Honvéd-Sashegy SE | V109: =AND(F109<>"",H109<>"") -> TRUE | W109: =W108 -> 5 | X109: =E109 -> Zrínyigyöngye | Y109: =I109 -> Bakafogó-Honvéd-Sashegy SE | Z109: =IF(V109,F109,"") -> 5 | AA109: =IF(V109,H109,"") -> 4 | AC109: =IF(Z109>AA109,X109,"") -> Zrínyigyöngye | AD109: =IF(AA109="","",IF(Z109=AA109,X109,"")) | AE109: =IF(AND($AW$61,Z109=0,AA109=20),X109&"ooo",IF(Z109<AA109,X109,"")) | AF109: =IF(AA109>Z109,Y109,"") | AG109: =IF(AA109="","",IF(Z109=AA109,Y109,"")) | AH109: =IF(AND($AW$61,Z109=20,AA109=0),Y109&"ooo",IF(Z109>AA109,Y109,"")) -> Bakafogó-Honvéd-Sashegy SE | AI109: =C109 -> 42116 | AL109: =IF(OR(X109=Kedvenc!$C$43,Y109=Kedvenc!$C$43),W109,"") | AM109: =IF(AL109="","",U109) | BB109: =C109&D109 -> 4211620:30 – A pálya | BC109: =COUNTIF($BB$43:$BB$383,BB109) -> 1 | BD109: =U109 -> ZrínyigyöngyeBakafogó-Honvéd-Sashegy SE
C110: 42116 | D110: 19:00 – B pálya | E110: Hercules-Ludovika | F110: 7 | G110: – | H110: 4 | I110: Carbonász | U110: =X110&Y110 -> Hercules-LudovikaCarbonász | V110: =AND(F110<>"",H110<>"") -> TRUE | W110: =W109 -> 5 | X110: =E110 -> Hercules-Ludovika | Y110: =I110 -> Carbonász | Z110: =IF(V110,F110,"") -> 7 | AA110: =IF(V110,H110,"") -> 4 | AC110: =IF(Z110>AA110,X110,"") -> Hercules-Ludovika | AD110: =IF(AA110="","",IF(Z110=AA110,X110,"")) | AE110: =IF(AND($AW$61,Z110=0,AA110=20),X110&"ooo",IF(Z110<AA110,X110,"")) | AF110: =IF(AA110>Z110,Y110,"") | AG110: =IF(AA110="","",IF(Z110=AA110,Y110,"")) | AH110: =IF(AND($AW$61,Z110=20,AA110=0),Y110&"ooo",IF(Z110>AA110,Y110,"")) -> Carbonász | AI110: =C110 -> 42116 | AL110: =IF(OR(X110=Kedvenc!$C$43,Y110=Kedvenc!$C$43),W110,"") | AM110: =IF(AL110="","",U110) | BB110: =C110&D110 -> 4211619:00 – B pálya | BC110: =COUNTIF($BB$43:$BB$383,BB110) -> 1 | BD110: =U110 -> Hercules-LudovikaCarbonász
C111: 42116 | D111: 19:45 – B pálya | E111: Élelmesek | F111: 1 | G111: – | H111: 1 | I111: Royal Guard's | U111: =X111&Y111 -> ÉlelmesekRoyal Guard's | V111: =AND(F111<>"",H111<>"") -> TRUE | W111: =W110 -> 5 | X111: =E111 -> Élelmesek | Y111: =I111 -> Royal Guard's | Z111: =IF(V111,F111,"") -> 1 | AA111: =IF(V111,H111,"") -> 1 | AC111: =IF(Z111>AA111,X111,"") | AD111: =IF(AA111="","",IF(Z111=AA111,X111,"")) -> Élelmesek | AE111: =IF(AND($AW$61,Z111=0,AA111=20),X111&"ooo",IF(Z111<AA111,X111,"")) | AF111: =IF(AA111>Z111,Y111,"") | AG111: =IF(AA111="","",IF(Z111=AA111,Y111,"")) -> Royal Guard's | AH111: =IF(AND($AW$61,Z111=20,AA111=0),Y111&"ooo",IF(Z111>AA111,Y111,"")) | AI111: =C111 -> 42116 | AL111: =IF(OR(X111=Kedvenc!$C$43,Y111=Kedvenc!$C$43),W111,"") | AM111: =IF(AL111="","",U111) | BB111: =C111&D111 -> 4211619:45 – B pálya | BC111: =COUNTIF($BB$43:$BB$383,BB111) -> 1 | BD111: =U111 -> ÉlelmesekRoyal Guard's
E112: Bőrdíszmű | I112: szabadnapos | U112: =X112&Y112 -> Bőrdíszműszabadnapos | V112: =AND(F112<>"",H112<>"") -> FALSE | W112: =W111 -> 5 | X112: =E112 -> Bőrdíszmű | Y112: =I112 -> szabadnapos | Z112: =IF(V112,F112,"") | AA112: =IF(V112,H112,"") | AC112: =IF(Z112>AA112,X112,"") | AD112: =IF(AA112="","",IF(Z112=AA112,X112,"")) | AE112: =IF(AND($AW$61,Z112=0,AA112=20),X112&"ooo",IF(Z112<AA112,X112,"")) | AF112: =IF(AA112>Z112,Y112,"") | AG112: =IF(AA112="","",IF(Z112=AA112,Y112,"")) | AH112: =IF(AND($AW$61,Z112=20,AA112=0),Y112&"ooo",IF(Z112>AA112,Y112,"")) | AI112: =AI107 -> 42116 | AL112: =IF(OR(X112=Kedvenc!$C$43,Y112=Kedvenc!$C$43),W112,"") | AM112: =IF(AL112="","",U112)
U113: =X113&Y113 -> 00 | V113: =AND(F113<>"",H113<>"") -> FALSE | W113: =W112 -> 5 | X113: =E113 -> 0 | Y113: =I113 -> 0 | Z113: =IF(V113,F113,"") | AA113: =IF(V113,H113,"") | AC113: =IF(Z113>AA113,X113,"") | AD113: =IF(AA113="","",IF(Z113=AA113,X113,"")) | AE113: =IF(AND($AW$61,Z113=0,AA113=20),X113&"ooo",IF(Z113<AA113,X113,"")) | AF113: =IF(AA113>Z113,Y113,"") | AG113: =IF(AA113="","",IF(Z113=AA113,Y113,"")) | AH113: =IF(AND($AW$61,Z113=20,AA113=0),Y113&"ooo",IF(Z113>AA113,Y113,"")) | AI113: =C113 -> 0 | AL113: =IF(OR(X113=Kedvenc!$C$43,Y113=Kedvenc!$C$43),W113,"") | AM113: =IF(AL113="","",U113)
U114: =X114&Y114 -> 00 | V114: =AND(F114<>"",H114<>"") -> FALSE | W114: =W113 -> 5 | X114: =E114 -> 0 | Y114: =I114 -> 0 | Z114: =IF(V114,F114,"") | AA114: =IF(V114,H114,"") | AC114: =IF(Z114>AA114,X114,"") | AD114: =IF(AA114="","",IF(Z114=AA114,X114,"")) | AE114: =IF(AND($AW$61,Z114=0,AA114=20),X114&"ooo",IF(Z114<AA114,X114,"")) | AF114: =IF(AA114>Z114,Y114,"") | AG114: =IF(AA114="","",IF(Z114=AA114,Y114,"")) | AH114: =IF(AND($AW$61,Z114=20,AA114=0),Y114&"ooo",IF(Z114>AA114,Y114,"")) | AI114: =C114 -> 0 | AL114: =IF(OR(X114=Kedvenc!$C$43,Y114=Kedvenc!$C$43),W114,"") | AM114: =IF(AL114="","",U114)
U115: =X115&Y115 -> 00 | V115: =AND(F115<>"",H115<>"") -> FALSE | W115: =W114 -> 5 | X115: =E115 -> 0 | Y115: =I115 -> 0 | Z115: =IF(V115,F115,"") | AA115: =IF(V115,H115,"") | AC115: =IF(Z115>AA115,X115,"") | AD115: =IF(AA115="","",IF(Z115=AA115,X115,"")) | AE115: =IF(AND($AW$61,Z115=0,AA115=20),X115&"ooo",IF(Z115<AA115,X115,"")) | AF115: =IF(AA115>Z115,Y115,"") | AG115: =IF(AA115="","",IF(Z115=AA115,Y115,"")) | AH115: =IF(AND($AW$61,Z115=20,AA115=0),Y115&"ooo",IF(Z115>AA115,Y115,"")) | AI115: =C115 -> 0 | AL115: =IF(OR(X115=Kedvenc!$C$43,Y115=Kedvenc!$C$43),W115,"") | AM115: =IF(AL115="","",U115)
U116: =X116&Y116 -> 00 | V116: =AND(F116<>"",H116<>"") -> FALSE | W116: =W115 -> 5 | X116: =E116 -> 0 | Y116: =I116 -> 0 | Z116: =IF(V116,F116,"") | AA116: =IF(V116,H116,"") | AC116: =IF(Z116>AA116,X116,"") | AD116: =IF(AA116="","",IF(Z116=AA116,X116,"")) | AE116: =IF(AND($AW$61,Z116=0,AA116=20),X116&"ooo",IF(Z116<AA116,X116,"")) | AF116: =IF(AA116>Z116,Y116,"") | AG116: =IF(AA116="","",IF(Z116=AA116,Y116,"")) | AH116: =IF(AND($AW$61,Z116=20,AA116=0),Y116&"ooo",IF(Z116>AA116,Y116,"")) | AI116: =C116 -> 0 | AL116: =IF(OR(X116=Kedvenc!$C$43,Y116=Kedvenc!$C$43),W116,"") | AM116: =IF(AL116="","",U116)
U117: =X117&Y117 -> 00 | V117: =AND(F117<>"",H117<>"") -> FALSE | W117: =W116 -> 5 | X117: =E117 -> 0 | Y117: =I117 -> 0 | Z117: =IF(V117,F117,"") | AA117: =IF(V117,H117,"") | AC117: =IF(Z117>AA117,X117,"") | AD117: =IF(AA117="","",IF(Z117=AA117,X117,"")) | AE117: =IF(AND($AW$61,Z117=0,AA117=20),X117&"ooo",IF(Z117<AA117,X117,"")) | AF117: =IF(AA117>Z117,Y117,"") | AG117: =IF(AA117="","",IF(Z117=AA117,Y117,"")) | AH117: =IF(AND($AW$61,Z117=20,AA117=0),Y117&"ooo",IF(Z117>AA117,Y117,"")) | AI117: =C117 -> 0 | AL117: =IF(OR(X117=Kedvenc!$C$43,Y117=Kedvenc!$C$43),W117,"") | AM117: =IF(AL117="","",U117)
U118: =X118&Y118 -> 00 | V118: =AND(F118<>"",H118<>"") -> FALSE | W118: =W117 -> 5 | X118: =E118 -> 0 | Y118: =I118 -> 0 | Z118: =IF(V118,F118,"") | AA118: =IF(V118,H118,"") | AC118: =IF(Z118>AA118,X118,"") | AD118: =IF(AA118="","",IF(Z118=AA118,X118,"")) | AE118: =IF(AND($AW$61,Z118=0,AA118=20),X118&"ooo",IF(Z118<AA118,X118,"")) | AF118: =IF(AA118>Z118,Y118,"") | AG118: =IF(AA118="","",IF(Z118=AA118,Y118,"")) | AH118: =IF(AND($AW$61,Z118=20,AA118=0),Y118&"ooo",IF(Z118>AA118,Y118,"")) | AI118: =C118 -> 0 | AL118: =IF(OR(X118=Kedvenc!$C$43,Y118=Kedvenc!$C$43),W118,"") | AM118: =IF(AL118="","",U118)
C121: =CONCATENATE(" ",AB123,"."," forduló –") -> 6. forduló – | D121: =VLOOKUP(AB123,ASZ!$AQ$59:$AS$104,2,FALSE) -> 42123 | I121: =CONCATENATE(IF($AW$61,"pont: ","gól: "),SUM(F123:H134)," / átlag: ",TEXT(IF(COUNT(F123:H134)=0,"-",SUM(F123:H134)/COUNT(F123:H134)*2),"0,00")) -> gól: 35 / átlag: 7,00 | K121: FELJEGYZÉSEK
C123: 42123 | D123: 19:00 – A pálya | E123: Élelmesek | F123: 2 | G123: – | H123: 3 | I123: Bőrdíszmű | U123: =X123&Y123 -> ÉlelmesekBőrdíszmű | V123: =AND(F123<>"",H123<>"") -> TRUE | W123: =AB123 -> 6 | X123: =E123 -> Élelmesek | Y123: =I123 -> Bőrdíszmű | Z123: =IF(V123,F123,"") -> 2 | AA123: =IF(V123,H123,"") -> 3 | AB123: =IF(NOT(ASZTAB!$X$71),AB107+1,AB107+COUNTIF(AB91:AB122,AB107)-1) -> 6 | AC123: =IF(Z123>AA123,X123,"") | AD123: =IF(AA123="","",IF(Z123=AA123,X123,"")) | AE123: =IF(AND($AW$61,Z123=0,AA123=20),X123&"ooo",IF(Z123<AA123,X123,"")) -> Élelmesek | AF123: =IF(AA123>Z123,Y123,"") -> Bőrdíszmű | AG123: =IF(AA123="","",IF(Z123=AA123,Y123,"")) | AH123: =IF(AND($AW$61,Z123=20,AA123=0),Y123&"ooo",IF(Z123>AA123,Y123,"")) | AI123: =C123 -> 42123 | AL123: =IF(OR(X123=Kedvenc!$C$43,Y123=Kedvenc!$C$43),W123,"") | AM123: =IF(AL123="","",U123) | BB123: =C123&D123 -> 4212319:00 – A pálya | BC123: =COUNTIF($BB$43:$BB$383,BB123) -> 1 | BD123: =U123 -> ÉlelmesekBőrdíszmű
C124: 42123 | D124: 19:45 – A pálya | E124: BBK | F124: 12 | G124: – | H124: 2 | I124: Carbonász | U124: =X124&Y124 -> BBKCarbonász | V124: =AND(F124<>"",H124<>"") -> TRUE | W124: =W123 -> 6 | X124: =E124 -> BBK | Y124: =I124 -> Carbonász | Z124: =IF(V124,F124,"") -> 12 | AA124: =IF(V124,H124,"") -> 2 | AC124: =IF(Z124>AA124,X124,"") -> BBK | AD124: =IF(AA124="","",IF(Z124=AA124,X124,"")) | AE124: =IF(AND($AW$61,Z124=0,AA124=20),X124&"ooo",IF(Z124<AA124,X124,"")) | AF124: =IF(AA124>Z124,Y124,"") | AG124: =IF(AA124="","",IF(Z124=AA124,Y124,"")) | AH124: =IF(AND($AW$61,Z124=20,AA124=0),Y124&"ooo",IF(Z124>AA124,Y124,"")) -> Carbonász | AI124: =C124 -> 42123 | AL124: =IF(OR(X124=Kedvenc!$C$43,Y124=Kedvenc!$C$43),W124,"") | AM124: =IF(AL124="","",U124) | BB124: =C124&D124 -> 4212319:45 – A pálya | BC124: =COUNTIF($BB$43:$BB$383,BB124) -> 1 | BD124: =U124 -> BBKCarbonász
C125: 42123 | D125: 20:30 – A pálya | E125: Vakana | F125: 0 | G125: – | H125: 1 | I125: Bakafogó-Honvéd-Sashegy SE | U125: =X125&Y125 -> VakanaBakafogó-Honvéd-Sashegy SE | V125: =AND(F125<>"",H125<>"") -> TRUE | W125: =W124 -> 6 | X125: =E125 -> Vakana | Y125: =I125 -> Bakafogó-Honvéd-Sashegy SE | Z125: =IF(V125,F125,"") -> 0 | AA125: =IF(V125,H125,"") -> 1 | AC125: =IF(Z125>AA125,X125,"") | AD125: =IF(AA125="","",IF(Z125=AA125,X125,"")) | AE125: =IF(AND($AW$61,Z125=0,AA125=20),X125&"ooo",IF(Z125<AA125,X125,"")) -> Vakana | AF125: =IF(AA125>Z125,Y125,"") -> Bakafogó-Honvéd-Sashegy SE | AG125: =IF(AA125="","",IF(Z125=AA125,Y125,"")) | AH125: =IF(AND($AW$61,Z125=20,AA125=0),Y125&"ooo",IF(Z125>AA125,Y125,"")) | AI125: =C125 -> 42123 | AL125: =IF(OR(X125=Kedvenc!$C$43,Y125=Kedvenc!$C$43),W125,"") | AM125: =IF(AL125="","",U125) | BB125: =C125&D125 -> 4212320:30 – A pálya | BC125: =COUNTIF($BB$43:$BB$383,BB125) -> 1 | BD125: =U125 -> VakanaBakafogó-Honvéd-Sashegy SE
C126: 42123 | D126: 19:00 – B pálya | E126: Zrínyigyöngye | F126: 5 | G126: – | H126: 1 | I126: Royal Guard's | U126: =X126&Y126 -> ZrínyigyöngyeRoyal Guard's | V126: =AND(F126<>"",H126<>"") -> TRUE | W126: =W125 -> 6 | X126: =E126 -> Zrínyigyöngye | Y126: =I126 -> Royal Guard's | Z126: =IF(V126,F126,"") -> 5 | AA126: =IF(V126,H126,"") -> 1 | AC126: =IF(Z126>AA126,X126,"") -> Zrínyigyöngye | AD126: =IF(AA126="","",IF(Z126=AA126,X126,"")) | AE126: =IF(AND($AW$61,Z126=0,AA126=20),X126&"ooo",IF(Z126<AA126,X126,"")) | AF126: =IF(AA126>Z126,Y126,"") | AG126: =IF(AA126="","",IF(Z126=AA126,Y126,"")) | AH126: =IF(AND($AW$61,Z126=20,AA126=0),Y126&"ooo",IF(Z126>AA126,Y126,"")) -> Royal Guard's | AI126: =C126 -> 42123 | AL126: =IF(OR(X126=Kedvenc!$C$43,Y126=Kedvenc!$C$43),W126,"") | AM126: =IF(AL126="","",U126) | BB126: =C126&D126 -> 4212319:00 – B pálya | BC126: =COUNTIF($BB$43:$BB$383,BB126) -> 1 | BD126: =U126 -> ZrínyigyöngyeRoyal Guard's
C127: 42123 | D127: 19:45 – B pálya | E127: K&H | F127: 8 | G127: – | H127: 1 | I127: Hercules-Ludovika | U127: =X127&Y127 -> K&HHercules-Ludovika | V127: =AND(F127<>"",H127<>"") -> TRUE | W127: =W126 -> 6 | X127: =E127 -> K&H | Y127: =I127 -> Hercules-Ludovika | Z127: =IF(V127,F127,"") -> 8 | AA127: =IF(V127,H127,"") -> 1 | AC127: =IF(Z127>AA127,X127,"") -> K&H | AD127: =IF(AA127="","",IF(Z127=AA127,X127,"")) | AE127: =IF(AND($AW$61,Z127=0,AA127=20),X127&"ooo",IF(Z127<AA127,X127,"")) | AF127: =IF(AA127>Z127,Y127,"") | AG127: =IF(AA127="","",IF(Z127=AA127,Y127,"")) | AH127: =IF(AND($AW$61,Z127=20,AA127=0),Y127&"ooo",IF(Z127>AA127,Y127,"")) -> Hercules-Ludovika | AI127: =C127 -> 42123 | AL127: =IF(OR(X127=Kedvenc!$C$43,Y127=Kedvenc!$C$43),W127,"") | AM127: =IF(AL127="","",U127) | BB127: =C127&D127 -> 4212319:45 – B pálya | BC127: =COUNTIF($BB$43:$BB$383,BB127) -> 1 | BD127: =U127 -> K&HHercules-Ludovika
E128: BHD | I128: szabadnapos | U128: =X128&Y128 -> BHDszabadnapos | V128: =AND(F128<>"",H128<>"") -> FALSE | W128: =W127 -> 6 | X128: =E128 -> BHD | Y128: =I128 -> szabadnapos | Z128: =IF(V128,F128,"") | AA128: =IF(V128,H128,"") | AC128: =IF(Z128>AA128,X128,"") | AD128: =IF(AA128="","",IF(Z128=AA128,X128,"")) | AE128: =IF(AND($AW$61,Z128=0,AA128=20),X128&"ooo",IF(Z128<AA128,X128,"")) | AF128: =IF(AA128>Z128,Y128,"") | AG128: =IF(AA128="","",IF(Z128=AA128,Y128,"")) | AH128: =IF(AND($AW$61,Z128=20,AA128=0),Y128&"ooo",IF(Z128>AA128,Y128,"")) | AI128: =AI123 -> 42123 | AL128: =IF(OR(X128=Kedvenc!$C$43,Y128=Kedvenc!$C$43),W128,"") | AM128: =IF(AL128="","",U128)
U129: =X129&Y129 -> 00 | V129: =AND(F129<>"",H129<>"") -> FALSE | W129: =W128 -> 6 | X129: =E129 -> 0 | Y129: =I129 -> 0 | Z129: =IF(V129,F129,"") | AA129: =IF(V129,H129,"") | AC129: =IF(Z129>AA129,X129,"") | AD129: =IF(AA129="","",IF(Z129=AA129,X129,"")) | AE129: =IF(AND($AW$61,Z129=0,AA129=20),X129&"ooo",IF(Z129<AA129,X129,"")) | AF129: =IF(AA129>Z129,Y129,"") | AG129: =IF(AA129="","",IF(Z129=AA129,Y129,"")) | AH129: =IF(AND($AW$61,Z129=20,AA129=0),Y129&"ooo",IF(Z129>AA129,Y129,"")) | AI129: =C129 -> 0 | AL129: =IF(OR(X129=Kedvenc!$C$43,Y129=Kedvenc!$C$43),W129,"") | AM129: =IF(AL129="","",U129)
U130: =X130&Y130 -> 00 | V130: =AND(F130<>"",H130<>"") -> FALSE | W130: =W129 -> 6 | X130: =E130 -> 0 | Y130: =I130 -> 0 | Z130: =IF(V130,F130,"") | AA130: =IF(V130,H130,"") | AC130: =IF(Z130>AA130,X130,"") | AD130: =IF(AA130="","",IF(Z130=AA130,X130,"")) | AE130: =IF(AND($AW$61,Z130=0,AA130=20),X130&"ooo",IF(Z130<AA130,X130,"")) | AF130: =IF(AA130>Z130,Y130,"") | AG130: =IF(AA130="","",IF(Z130=AA130,Y130,"")) | AH130: =IF(AND($AW$61,Z130=20,AA130=0),Y130&"ooo",IF(Z130>AA130,Y130,"")) | AI130: =C130 -> 0 | AL130: =IF(OR(X130=Kedvenc!$C$43,Y130=Kedvenc!$C$43),W130,"") | AM130: =IF(AL130="","",U130)
U131: =X131&Y131 -> 00 | V131: =AND(F131<>"",H131<>"") -> FALSE | W131: =W130 -> 6 | X131: =E131 -> 0 | Y131: =I131 -> 0 | Z131: =IF(V131,F131,"") | AA131: =IF(V131,H131,"") | AC131: =IF(Z131>AA131,X131,"") | AD131: =IF(AA131="","",IF(Z131=AA131,X131,"")) | AE131: =IF(AND($AW$61,Z131=0,AA131=20),X131&"ooo",IF(Z131<AA131,X131,"")) | AF131: =IF(AA131>Z131,Y131,"") | AG131: =IF(AA131="","",IF(Z131=AA131,Y131,"")) | AH131: =IF(AND($AW$61,Z131=20,AA131=0),Y131&"ooo",IF(Z131>AA131,Y131,"")) | AI131: =C131 -> 0 | AL131: =IF(OR(X131=Kedvenc!$C$43,Y131=Kedvenc!$C$43),W131,"") | AM131: =IF(AL131="","",U131)
U132: =X132&Y132 -> 00 | V132: =AND(F132<>"",H132<>"") -> FALSE | W132: =W131 -> 6 | X132: =E132 -> 0 | Y132: =I132 -> 0 | Z132: =IF(V132,F132,"") | AA132: =IF(V132,H132,"") | AC132: =IF(Z132>AA132,X132,"") | AD132: =IF(AA132="","",IF(Z132=AA132,X132,"")) | AE132: =IF(AND($AW$61,Z132=0,AA132=20),X132&"ooo",IF(Z132<AA132,X132,"")) | AF132: =IF(AA132>Z132,Y132,"") | AG132: =IF(AA132="","",IF(Z132=AA132,Y132,"")) | AH132: =IF(AND($AW$61,Z132=20,AA132=0),Y132&"ooo",IF(Z132>AA132,Y132,"")) | AI132: =C132 -> 0 | AL132: =IF(OR(X132=Kedvenc!$C$43,Y132=Kedvenc!$C$43),W132,"") | AM132: =IF(AL132="","",U132)
U133: =X133&Y133 -> 00 | V133: =AND(F133<>"",H133<>"") -> FALSE | W133: =W132 -> 6 | X133: =E133 -> 0 | Y133: =I133 -> 0 | Z133: =IF(V133,F133,"") | AA133: =IF(V133,H133,"") | AC133: =IF(Z133>AA133,X133,"") | AD133: =IF(AA133="","",IF(Z133=AA133,X133,"")) | AE133: =IF(AND($AW$61,Z133=0,AA133=20),X133&"ooo",IF(Z133<AA133,X133,"")) | AF133: =IF(AA133>Z133,Y133,"") | AG133: =IF(AA133="","",IF(Z133=AA133,Y133,"")) | AH133: =IF(AND($AW$61,Z133=20,AA133=0),Y133&"ooo",IF(Z133>AA133,Y133,"")) | AI133: =C133 -> 0 | AL133: =IF(OR(X133=Kedvenc!$C$43,Y133=Kedvenc!$C$43),W133,"") | AM133: =IF(AL133="","",U133)
U134: =X134&Y134 -> 00 | V134: =AND(F134<>"",H134<>"") -> FALSE | W134: =W133 -> 6 | X134: =E134 -> 0 | Y134: =I134 -> 0 | Z134: =IF(V134,F134,"") | AA134: =IF(V134,H134,"") | AC134: =IF(Z134>AA134,X134,"") | AD134: =IF(AA134="","",IF(Z134=AA134,X134,"")) | AE134: =IF(AND($AW$61,Z134=0,AA134=20),X134&"ooo",IF(Z134<AA134,X134,"")) | AF134: =IF(AA134>Z134,Y134,"") | AG134: =IF(AA134="","",IF(Z134=AA134,Y134,"")) | AH134: =IF(AND($AW$61,Z134=20,AA134=0),Y134&"ooo",IF(Z134>AA134,Y134,"")) | AI134: =C134 -> 0 | AL134: =IF(OR(X134=Kedvenc!$C$43,Y134=Kedvenc!$C$43),W134,"") | AM134: =IF(AL134="","",U134)
C137: =CONCATENATE(" ",AB139,"."," forduló –") -> 7. forduló – | D137: =VLOOKUP(AB139,ASZ!$AQ$59:$AS$104,2,FALSE) -> 42130 | I137: =CONCATENATE(IF($AW$61,"pont: ","gól: "),SUM(F139:H150)," / átlag: ",TEXT(IF(COUNT(F139:H150)=0,"-",SUM(F139:H150)/COUNT(F139:H150)*2),"0,00")) -> gól: 20 / átlag: 4,00 | K137: FELJEGYZÉSEK
C139: 42130 | D139: 19:00 – A pálya | E139: K&H | F139: 2 | G139: – | H139: 4 | I139: BBK | U139: =X139&Y139 -> K&HBBK | V139: =AND(F139<>"",H139<>"") -> TRUE | W139: =AB139 -> 7 | X139: =E139 -> K&H | Y139: =I139 -> BBK | Z139: =IF(V139,F139,"") -> 2 | AA139: =IF(V139,H139,"") -> 4 | AB139: =IF(NOT(ASZTAB!$X$71),AB123+1,AB123+COUNTIF(AB107:AB138,AB123)-1) -> 7 | AC139: =IF(Z139>AA139,X139,"") | AD139: =IF(AA139="","",IF(Z139=AA139,X139,"")) | AE139: =IF(AND($AW$61,Z139=0,AA139=20),X139&"ooo",IF(Z139<AA139,X139,"")) -> K&H | AF139: =IF(AA139>Z139,Y139,"") -> BBK | AG139: =IF(AA139="","",IF(Z139=AA139,Y139,"")) | AH139: =IF(AND($AW$61,Z139=20,AA139=0),Y139&"ooo",IF(Z139>AA139,Y139,"")) | AI139: =C139 -> 42130 | AL139: =IF(OR(X139=Kedvenc!$C$43,Y139=Kedvenc!$C$43),W139,"") | AM139: =IF(AL139="","",U139) | BB139: =C139&D139 -> 4213019:00 – A pálya | BC139: =COUNTIF($BB$43:$BB$383,BB139) -> 1 | BD139: =U139 -> K&HBBK
C140: 42130 | D140: 19:45 – A pálya | E140: Élelmesek | F140: 1 | G140: – | H140: 1 | I140: BHD | U140: =X140&Y140 -> ÉlelmesekBHD | V140: =AND(F140<>"",H140<>"") -> TRUE | W140: =W139 -> 7 | X140: =E140 -> Élelmesek | Y140: =I140 -> BHD | Z140: =IF(V140,F140,"") -> 1 | AA140: =IF(V140,H140,"") -> 1 | AC140: =IF(Z140>AA140,X140,"") | AD140: =IF(AA140="","",IF(Z140=AA140,X140,"")) -> Élelmesek | AE140: =IF(AND($AW$61,Z140=0,AA140=20),X140&"ooo",IF(Z140<AA140,X140,"")) | AF140: =IF(AA140>Z140,Y140,"") | AG140: =IF(AA140="","",IF(Z140=AA140,Y140,"")) -> BHD | AH140: =IF(AND($AW$61,Z140=20,AA140=0),Y140&"ooo",IF(Z140>AA140,Y140,"")) | AI140: =C140 -> 42130 | AL140: =IF(OR(X140=Kedvenc!$C$43,Y140=Kedvenc!$C$43),W140,"") | AM140: =IF(AL140="","",U140) | BB140: =C140&D140 -> 4213019:45 – A pálya | BC140: =COUNTIF($BB$43:$BB$383,BB140) -> 1 | BD140: =U140 -> ÉlelmesekBHD
C141: 42130 | D141: 20:30 – A pálya | E141: Bőrdíszmű | F141: 2 | G141: – | H141: 3 | I141: Royal Guard's | U141: =X141&Y141 -> BőrdíszműRoyal Guard's | V141: =AND(F141<>"",H141<>"") -> TRUE | W141: =W140 -> 7 | X141: =E141 -> Bőrdíszmű | Y141: =I141 -> Royal Guard's | Z141: =IF(V141,F141,"") -> 2 | AA141: =IF(V141,H141,"") -> 3 | AC141: =IF(Z141>AA141,X141,"") | AD141: =IF(AA141="","",IF(Z141=AA141,X141,"")) | AE141: =IF(AND($AW$61,Z141=0,AA141=20),X141&"ooo",IF(Z141<AA141,X141,"")) -> Bőrdíszmű | AF141: =IF(AA141>Z141,Y141,"") -> Royal Guard's | AG141: =IF(AA141="","",IF(Z141=AA141,Y141,"")) | AH141: =IF(AND($AW$61,Z141=20,AA141=0),Y141&"ooo",IF(Z141>AA141,Y141,"")) | AI141: =C141 -> 42130 | AL141: =IF(OR(X141=Kedvenc!$C$43,Y141=Kedvenc!$C$43),W141,"") | AM141: =IF(AL141="","",U141) | BB141: =C141&D141 -> 4213020:30 – A pálya | BC141: =COUNTIF($BB$43:$BB$383,BB141) -> 1 | BD141: =U141 -> BőrdíszműRoyal Guard's
C142: 42130 | D142: 19:00 – B pálya | E142: Zrínyigyöngye | F142: 4 | G142: – | H142: 0 | I142: Vakana | U142: =X142&Y142 -> ZrínyigyöngyeVakana | V142: =AND(F142<>"",H142<>"") -> TRUE | W142: =W141 -> 7 | X142: =E142 -> Zrínyigyöngye | Y142: =I142 -> Vakana | Z142: =IF(V142,F142,"") -> 4 | AA142: =IF(V142,H142,"") -> 0 | AC142: =IF(Z142>AA142,X142,"") -> Zrínyigyöngye | AD142: =IF(AA142="","",IF(Z142=AA142,X142,"")) | AE142: =IF(AND($AW$61,Z142=0,AA142=20),X142&"ooo",IF(Z142<AA142,X142,"")) | AF142: =IF(AA142>Z142,Y142,"") | AG142: =IF(AA142="","",IF(Z142=AA142,Y142,"")) | AH142: =IF(AND($AW$61,Z142=20,AA142=0),Y142&"ooo",IF(Z142>AA142,Y142,"")) -> Vakana | AI142: =C142 -> 42130 | AL142: =IF(OR(X142=Kedvenc!$C$43,Y142=Kedvenc!$C$43),W142,"") | AM142: =IF(AL142="","",U142) | BB142: =C142&D142 -> 4213019:00 – B pálya | BC142: =COUNTIF($BB$43:$BB$383,BB142) -> 1 | BD142: =U142 -> ZrínyigyöngyeVakana
C143: 42130 | D143: 19:45 – B pálya | E143: Bakafogó-Honvéd-Sashegy SE | F143: 3 | G143: – | H143: 0 | I143: Carbonász | K143: Carbonász nem jelent meg | U143: =X143&Y143 -> Bakafogó-Honvéd-Sashegy SECarbonász | V143: =AND(F143<>"",H143<>"") -> TRUE | W143: =W142 -> 7 | X143: =E143 -> Bakafogó-Honvéd-Sashegy SE | Y143: =I143 -> Carbonász | Z143: =IF(V143,F143,"") -> 3 | AA143: =IF(V143,H143,"") -> 0 | AC143: =IF(Z143>AA143,X143,"") -> Bakafogó-Honvéd-Sashegy SE | AD143: =IF(AA143="","",IF(Z143=AA143,X143,"")) | AE143: =IF(AND($AW$61,Z143=0,AA143=20),X143&"ooo",IF(Z143<AA143,X143,"")) | AF143: =IF(AA143>Z143,Y143,"") | AG143: =IF(AA143="","",IF(Z143=AA143,Y143,"")) | AH143: =IF(AND($AW$61,Z143=20,AA143=0),Y143&"ooo",IF(Z143>AA143,Y143,"")) -> Carbonász | AI143: =C143 -> 42130 | AL143: =IF(OR(X143=Kedvenc!$C$43,Y143=Kedvenc!$C$43),W143,"") | AM143: =IF(AL143="","",U143) | BB143: =C143&D143 -> 4213019:45 – B pálya | BC143: =COUNTIF($BB$43:$BB$383,BB143) -> 1 | BD143: =U143 -> Bakafogó-Honvéd-Sashegy SECarbonász
E144: Hercules-Ludovika | I144: szabadnapos | U144: =X144&Y144 -> Hercules-Ludovikaszabadnapos | V144: =AND(F144<>"",H144<>"") -> FALSE | W144: =W143 -> 7 | X144: =E144 -> Hercules-Ludovika | Y144: =I144 -> szabadnapos | Z144: =IF(V144,F144,"") | AA144: =IF(V144,H144,"") | AC144: =IF(Z144>AA144,X144,"") | AD144: =IF(AA144="","",IF(Z144=AA144,X144,"")) | AE144: =IF(AND($AW$61,Z144=0,AA144=20),X144&"ooo",IF(Z144<AA144,X144,"")) | AF144: =IF(AA144>Z144,Y144,"") | AG144: =IF(AA144="","",IF(Z144=AA144,Y144,"")) | AH144: =IF(AND($AW$61,Z144=20,AA144=0),Y144&"ooo",IF(Z144>AA144,Y144,"")) | AI144: =AI139 -> 42130 | AL144: =IF(OR(X144=Kedvenc!$C$43,Y144=Kedvenc!$C$43),W144,"") | AM144: =IF(AL144="","",U144)
U145: =X145&Y145 -> 00 | V145: =AND(F145<>"",H145<>"") -> FALSE | W145: =W144 -> 7 | X145: =E145 -> 0 | Y145: =I145 -> 0 | Z145: =IF(V145,F145,"") | AA145: =IF(V145,H145,"") | AC145: =IF(Z145>AA145,X145,"") | AD145: =IF(AA145="","",IF(Z145=AA145,X145,"")) | AE145: =IF(AND($AW$61,Z145=0,AA145=20),X145&"ooo",IF(Z145<AA145,X145,"")) | AF145: =IF(AA145>Z145,Y145,"") | AG145: =IF(AA145="","",IF(Z145=AA145,Y145,"")) | AH145: =IF(AND($AW$61,Z145=20,AA145=0),Y145&"ooo",IF(Z145>AA145,Y145,"")) | AI145: =C145 -> 0 | AL145: =IF(OR(X145=Kedvenc!$C$43,Y145=Kedvenc!$C$43),W145,"") | AM145: =IF(AL145="","",U145)
U146: =X146&Y146 -> 00 | V146: =AND(F146<>"",H146<>"") -> FALSE | W146: =W145 -> 7 | X146: =E146 -> 0 | Y146: =I146 -> 0 | Z146: =IF(V146,F146,"") | AA146: =IF(V146,H146,"") | AC146: =IF(Z146>AA146,X146,"") | AD146: =IF(AA146="","",IF(Z146=AA146,X146,"")) | AE146: =IF(AND($AW$61,Z146=0,AA146=20),X146&"ooo",IF(Z146<AA146,X146,"")) | AF146: =IF(AA146>Z146,Y146,"") | AG146: =IF(AA146="","",IF(Z146=AA146,Y146,"")) | AH146: =IF(AND($AW$61,Z146=20,AA146=0),Y146&"ooo",IF(Z146>AA146,Y146,"")) | AI146: =C146 -> 0 | AL146: =IF(OR(X146=Kedvenc!$C$43,Y146=Kedvenc!$C$43),W146,"") | AM146: =IF(AL146="","",U146)
U147: =X147&Y147 -> 00 | V147: =AND(F147<>"",H147<>"") -> FALSE | W147: =W146 -> 7 | X147: =E147 -> 0 | Y147: =I147 -> 0 | Z147: =IF(V147,F147,"") | AA147: =IF(V147,H147,"") | AC147: =IF(Z147>AA147,X147,"") | AD147: =IF(AA147="","",IF(Z147=AA147,X147,"")) | AE147: =IF(AND($AW$61,Z147=0,AA147=20),X147&"ooo",IF(Z147<AA147,X147,"")) | AF147: =IF(AA147>Z147,Y147,"") | AG147: =IF(AA147="","",IF(Z147=AA147,Y147,"")) | AH147: =IF(AND($AW$61,Z147=20,AA147=0),Y147&"ooo",IF(Z147>AA147,Y147,"")) | AI147: =C147 -> 0 | AL147: =IF(OR(X147=Kedvenc!$C$43,Y147=Kedvenc!$C$43),W147,"") | AM147: =IF(AL147="","",U147)
U148: =X148&Y148 -> 00 | V148: =AND(F148<>"",H148<>"") -> FALSE | W148: =W147 -> 7 | X148: =E148 -> 0 | Y148: =I148 -> 0 | Z148: =IF(V148,F148,"") | AA148: =IF(V148,H148,"") | AC148: =IF(Z148>AA148,X148,"") | AD148: =IF(AA148="","",IF(Z148=AA148,X148,"")) | AE148: =IF(AND($AW$61,Z148=0,AA148=20),X148&"ooo",IF(Z148<AA148,X148,"")) | AF148: =IF(AA148>Z148,Y148,"") | AG148: =IF(AA148="","",IF(Z148=AA148,Y148,"")) | AH148: =IF(AND($AW$61,Z148=20,AA148=0),Y148&"ooo",IF(Z148>AA148,Y148,"")) | AI148: =C148 -> 0 | AL148: =IF(OR(X148=Kedvenc!$C$43,Y148=Kedvenc!$C$43),W148,"") | AM148: =IF(AL148="","",U148)
U149: =X149&Y149 -> 00 | V149: =AND(F149<>"",H149<>"") -> FALSE | W149: =W148 -> 7 | X149: =E149 -> 0 | Y149: =I149 -> 0 | Z149: =IF(V149,F149,"") | AA149: =IF(V149,H149,"") | AC149: =IF(Z149>AA149,X149,"") | AD149: =IF(AA149="","",IF(Z149=AA149,X149,"")) | AE149: =IF(AND($AW$61,Z149=0,AA149=20),X149&"ooo",IF(Z149<AA149,X149,"")) | AF149: =IF(AA149>Z149,Y149,"") | AG149: =IF(AA149="","",IF(Z149=AA149,Y149,"")) | AH149: =IF(AND($AW$61,Z149=20,AA149=0),Y149&"ooo",IF(Z149>AA149,Y149,"")) | AI149: =C149 -> 0 | AL149: =IF(OR(X149=Kedvenc!$C$43,Y149=Kedvenc!$C$43),W149,"") | AM149: =IF(AL149="","",U149)
U150: =X150&Y150 -> 00 | V150: =AND(F150<>"",H150<>"") -> FALSE | W150: =W149 -> 7 | X150: =E150 -> 0 | Y150: =I150 -> 0 | Z150: =IF(V150,F150,"") | AA150: =IF(V150,H150,"") | AC150: =IF(Z150>AA150,X150,"") | AD150: =IF(AA150="","",IF(Z150=AA150,X150,"")) | AE150: =IF(AND($AW$61,Z150=0,AA150=20),X150&"ooo",IF(Z150<AA150,X150,"")) | AF150: =IF(AA150>Z150,Y150,"") | AG150: =IF(AA150="","",IF(Z150=AA150,Y150,"")) | AH150: =IF(AND($AW$61,Z150=20,AA150=0),Y150&"ooo",IF(Z150>AA150,Y150,"")) | AI150: =C150 -> 0 | AL150: =IF(OR(X150=Kedvenc!$C$43,Y150=Kedvenc!$C$43),W150,"") | AM150: =IF(AL150="","",U150)
C153: =CONCATENATE(" ",AB155,"."," forduló –") -> 8. forduló – | D153: =VLOOKUP(AB155,ASZ!$AQ$59:$AS$104,2,FALSE) -> 42137 | I153: =CONCATENATE(IF($AW$61,"pont: ","gól: "),SUM(F155:H166)," / átlag: ",TEXT(IF(COUNT(F155:H166)=0,"-",SUM(F155:H166)/COUNT(F155:H166)*2),"0,00")) -> gól: 38 / átlag: 7,60 | K153: FELJEGYZÉSEK
C155: 42137 | D155: 19:00 – A pálya | E155: Zrínyigyöngye | F155: 3 | G155: – | H155: 1 | I155: Élelmesek | U155: =X155&Y155 -> ZrínyigyöngyeÉlelmesek | V155: =AND(F155<>"",H155<>"") -> TRUE | W155: =AB155 -> 8 | X155: =E155 -> Zrínyigyöngye | Y155: =I155 -> Élelmesek | Z155: =IF(V155,F155,"") -> 3 | AA155: =IF(V155,H155,"") -> 1 | AB155: =IF(NOT(ASZTAB!$X$71),AB139+1,AB139+COUNTIF(AB123:AB154,AB139)-1) -> 8 | AC155: =IF(Z155>AA155,X155,"") -> Zrínyigyöngye | AD155: =IF(AA155="","",IF(Z155=AA155,X155,"")) | AE155: =IF(AND($AW$61,Z155=0,AA155=20),X155&"ooo",IF(Z155<AA155,X155,"")) | AF155: =IF(AA155>Z155,Y155,"") | AG155: =IF(AA155="","",IF(Z155=AA155,Y155,"")) | AH155: =IF(AND($AW$61,Z155=20,AA155=0),Y155&"ooo",IF(Z155>AA155,Y155,"")) -> Élelmesek | AI155: =C155 -> 42137 | AL155: =IF(OR(X155=Kedvenc!$C$43,Y155=Kedvenc!$C$43),W155,"") | AM155: =IF(AL155="","",U155) | BB155: =C155&D155 -> 4213719:00 – A pálya | BC155: =COUNTIF($BB$43:$BB$383,BB155) -> 1 | BD155: =U155 -> ZrínyigyöngyeÉlelmesek
C156: 42137 | D156: 19:45 – A pálya | E156: K&H | F156: 5 | G156: – | H156: 2 | I156: Bőrdíszmű | U156: =X156&Y156 -> K&HBőrdíszmű | V156: =AND(F156<>"",H156<>"") -> TRUE | W156: =W155 -> 8 | X156: =E156 -> K&H | Y156: =I156 -> Bőrdíszmű | Z156: =IF(V156,F156,"") -> 5 | AA156: =IF(V156,H156,"") -> 2 | AC156: =IF(Z156>AA156,X156,"") -> K&H | AD156: =IF(AA156="","",IF(Z156=AA156,X156,"")) | AE156: =IF(AND($AW$61,Z156=0,AA156=20),X156&"ooo",IF(Z156<AA156,X156,"")) | AF156: =IF(AA156>Z156,Y156,"") | AG156: =IF(AA156="","",IF(Z156=AA156,Y156,"")) | AH156: =IF(AND($AW$61,Z156=20,AA156=0),Y156&"ooo",IF(Z156>AA156,Y156,"")) -> Bőrdíszmű | AI156: =C156 -> 42137 | AL156: =IF(OR(X156=Kedvenc!$C$43,Y156=Kedvenc!$C$43),W156,"") | AM156: =IF(AL156="","",U156) | BB156: =C156&D156 -> 4213719:45 – A pálya | BC156: =COUNTIF($BB$43:$BB$383,BB156) -> 1 | BD156: =U156 -> K&HBőrdíszmű
C157: 42137 | D157: 20:30 – A pálya | E157: Vakana | F157: 1 | G157: – | H157: 11 | I157: Hercules-Ludovika | U157: =X157&Y157 -> VakanaHercules-Ludovika | V157: =AND(F157<>"",H157<>"") -> TRUE | W157: =W156 -> 8 | X157: =E157 -> Vakana | Y157: =I157 -> Hercules-Ludovika | Z157: =IF(V157,F157,"") -> 1 | AA157: =IF(V157,H157,"") -> 11 | AC157: =IF(Z157>AA157,X157,"") | AD157: =IF(AA157="","",IF(Z157=AA157,X157,"")) | AE157: =IF(AND($AW$61,Z157=0,AA157=20),X157&"ooo",IF(Z157<AA157,X157,"")) -> Vakana | AF157: =IF(AA157>Z157,Y157,"") -> Hercules-Ludovika | AG157: =IF(AA157="","",IF(Z157=AA157,Y157,"")) | AH157: =IF(AND($AW$61,Z157=20,AA157=0),Y157&"ooo",IF(Z157>AA157,Y157,"")) | AI157: =C157 -> 42137 | AL157: =IF(OR(X157=Kedvenc!$C$43,Y157=Kedvenc!$C$43),W157,"") | AM157: =IF(AL157="","",U157) | BB157: =C157&D157 -> 4213720:30 – A pálya | BC157: =COUNTIF($BB$43:$BB$383,BB157) -> 1 | BD157: =U157 -> VakanaHercules-Ludovika
...

Sheet ASZTAB
B39: TABELLA – ALAPSZAKASZ
E41: AZ ALAPSZAKASZ ÁLLÁSA | F41: M | G41: Gy | H41: D | I41: V | J41: L–K | K41: Gk | M41: P | O41: ELEMZÉSI LEHETŐSÉGEK | W41: CSAPATOK | AB41: BÜNTETÉSEK CSAPATNÉVSORHOZ ÉRVÉNYESÍTŐ LISTA | AI41: SPORTÁG | AN41: ÖSSZEVONANDÓ ADATOK | AY41: .av1 | BC41: .av1 | BD41: M | BE41: Gy | BF41: D | BG41: V | BH41: L | BI41: K | BJ41: Gk | BK41: Pa | BL41: P- | BM41: P | BN41: Pko | BO41: Rel | BP41: hely | BQ41: eee | BS41: NK | BT41: Gy | BU41: D | BV41: V | BW41: L | BX41: K | BZ41: NK | CA41: Gy | CB41: D | CC41: V | CD41: L | CE41: K | CI41: DB | CJ41: P.aa1 | CK41: REL.aa1 | CO41: =IF(CN42=0,"xxx",VLOOKUP(CN42,CI42:CL65,IF($AJ$44,3,2),FALSE)) -> 20 | CQ41: I.-10 | CR41: =IF(CN43=0,"xxx",VLOOKUP(CN43,CI42:CL65,IF($AJ$44,3,2),FALSE)) -> 25 | CT41: I.-7 | CU41: =IF(CN44=0,"xxx",VLOOKUP(CN44,CI42:CL65,IF($AJ$44,3,2),FALSE)) -> 52 | CW41: I.-5 | CX41: =IF(CN45=0,"xxx",VLOOKUP(CN45,CI42:CL65,IF($AJ$44,3,2),FALSE)) -> xxx | CZ41: I.-4 | DA41: =IF(CN46=0,"xxx",VLOOKUP(CN46,CI42:CL65,IF($AJ$44,3,2),FALSE)) -> xxx | DC41: I.-3 | DD41: =IF(CN47=0,"xxx",VLOOKUP(CN47,CI42:CL65,IF($AJ$44,3,2),FALSE)) -> xxx | DF41: I.-2 | DI41: =OR(NOT($AJ$44),COUNTIF(DN41:DN150,"")=100-(DP41-1)*DP41,COUNTIF(DN41:DN150,"")=100-(DP41-1)*DP41/2) -> TRUE | DJ41: g. | DK41: w. | DL41: draw | DN41: F | DO41: A | DP41: =COUNT(CQ42:CQ51) -> 2 | DR41: I.-10 | DV41: multiple | DW41: mgy | DX41: gy | DZ41: l | EA41: k | EC41: PA | EE41: score | EI41: finom | EJ41: sorr | EK41: eee | EM41: DB | EN41: score | EO41: GY | ES41: =IF(ER42=0,"xxx",VLOOKUP(ER42,EM42:EP51,IF($AJ$54,2,3),FALSE)) -> xxx | EV41: =IF(ER43=0,"xxx",VLOOKUP(ER43,EM42:EP51,IF($AJ$54,2,3),FALSE)) -> xxx | EY41: =IF(ER44=0,"xxx",VLOOKUP(ER44,EM42:EP51,IF($AJ$54,2,3),FALSE)) -> xxx | FG41: ÁTVITT EREDMÉNYEK | FQ41: g. | FR41: wh | FS41: dh | FT41: lh | FU41: wa | FV41: da | FW41: la | FX41: F | FY41: A | GB41: 1.
C42: =IF(OR(NOT($AJ$72),D42="►"),"",TEXT(ABS(VLOOKUP(AN42,$AN$146:$AQ$169,3,FALSE)-VLOOKUP(AN42,$AN$146:$AQ$169,4,FALSE)),"0")) | D42: =IF($AJ$72,VLOOKUP(AN42,$AN$146:$AO$169,2,FALSE),"") -> ► | E42: =CONCATENATE(AO42,". ",AN42) -> 1. BBK | F42: =VLOOKUP($AN42,table.n.av1,2,FALSE) -> 20 | G42: =IF(VLOOKUP($AN42,table.n.av1,3,FALSE)=0,"–",VLOOKUP($AN42,table.n.av1,3,FALSE)) -> 17 | H42: =IF(VLOOKUP($AN42,table.n.av1,4,FALSE)=0,"–",VLOOKUP($AN42,table.n.av1,4,FALSE)) -> 1 | I42: =IF(VLOOKUP($AN42,table.n.av1,5,FALSE)=0,"–",VLOOKUP($AN42,table.n.av1,5,FALSE)) -> 2 | J42: =CONCATENATE(AP42,"–",AQ42) -> 86–30 | K42: =IF(VLOOKUP($AN42,table.n.av1,8,FALSE)=0,0,IF(VLOOKUP($AN42,table.n.av1,8,FALSE)>0,CONCATENATE("+",VLOOKUP($AN42,table.n.av1,8,FALSE)," "),CONCATENATE("–",VLOOKUP($AN42,table.n.av1,8,FALSE)*-1," "))) -> +56 | M42: =VLOOKUP($AN42,table.n.av1,IF($AJ$44,12,11),FALSE) -> 52 | O42: Részleges tabella megtekintése a következő két forduló közötti periódusra: | W42: Csapatok (Adatok): | X42: =Adatok!A1 -> Bakafogó-Honvéd-Sashegy SE | AB42: =IF(X42=0,0,BP42) -> 0.04 | AC42: =X42 -> Bakafogó-Honvéd-Sashegy SE | AD42: =LARGE($AB$42:$AB$76,BB42) -> 0.04 | AE42: =IF(AD42=0,0,VLOOKUP(AD42,$AB$42:$AC$76,2,FALSE)) -> Bakafogó-Honvéd-Sashegy SE | AI42: Labdarúgás: | AJ42: =AND(NOT(AJ43),NOT(AJ44),NOT(AJ45)) -> TRUE | AN42: =IF(VLOOKUP($AY42,INDIRECT(CONCATENATE($AJ$59,1)),3,FALSE)=0,"–",VLOOKUP($AY42,INDIRECT(CONCATENATE($AJ$59,1)),3,FALSE)) -> BBK | AO42: =AZ42 -> 1 | AP42: =VLOOKUP($AN42,table.n.av1,6,FALSE) -> 86 | AQ42: =VLOOKUP($AN42,table.n.av1,7,FALSE) -> 30 | AY42: =LARGE(IF($AJ$58=1,$BA$42:$BA$65,$BA$119:$BA$142),BB42) -> 52256086 | AZ42: 1 | BA42: =IF($AJ$44,BO42*100,IF($AJ$43,BM42*10,BM42))*1000000+IF($AJ$52,BE42*10000,0)+IF($AJ$44,BK42,BJ42)*1000/IF(OR($AJ$43,$AJ$52),10,1)+IF($AJ$44,0,IF($AJ$43,BH42/10,BH42))+BP42+IF($AJ$70,BQ42,0)-IF(BC42=0,1000000000,0) -> 20376041 | BB42: 1 | BC42: =X42 -> Bakafogó-Honvéd-Sashegy SE | BD42: =BE42+BF42+BG42 -> 20 | BE42: =IF($AJ$57=1,BT42+CA42,IF($AJ$57=2,BT42,IF($AJ$57=3,CA42,""))) -> 6 | BF42: =IF($AJ$57=1,BU42+CB42,IF($AJ$57=2,BU42,IF($AJ$57=3,CB42,""))) -> 2 | BG42: =IF($AJ$57=1,BV42+CC42,IF($AJ$57=2,BV42,IF($AJ$57=3,CC42,""))) -> 12 | BH42: =IF($AJ$57=1,BW42+CD42,IF($AJ$57=2,BW42,IF($AJ$57=3,CD42,""))) -> 41 | BI42: =IF($AJ$57=1,BX42+CE42,IF($AJ$57=2,BX42,IF($AJ$57=3,CE42,""))) -> 65 | BJ42: =BH42-BI42 -> -24 | BK42: =IF(BI42=0,0,BH42/BI42) -> 0.63076923 | BL42: =IF($AJ$71,IF(ISNA(VLOOKUP(BC42,penalty.a,2,FALSE)),0,VLOOKUP(BC42,penalty.a,2,FALSE)),0) -> 0 | BM42: =$AJ$48*BE42+BF42-BL42 -> 20 | BN42: =BE42*2+BG42-BL42 -> 24 | BO42: =IF(BD42=0,BN42,IF(BN42=0,0,BN42/BD42/2)) -> 0.6 | BP42: 0.04 | BQ42: =IF(ISNA(VLOOKUP(BC42,eee.av,16,FALSE)),0,VLOOKUP(BC42,eee.av,16,FALSE)) -> 400000 | BS42: =COUNTIF(lossh.av,CONCATENATE($BC42,"ooo")) -> 0 | BT42: =COUNTIF(winh.av,$BC42) -> 3 | BU42: =COUNTIF(drawh.av,$BC42) -> 2 | BV42: =COUNTIF(lossh.av,$BC42)+BS42 -> 5 | BW42: =SUMIF(home.av,$BC42,GAA.av) -> 21 | BX42: =SUMIF(home.av,$BC42,GBB.av) -> 31 | BZ42: =COUNTIF(lossa.av,CONCATENATE($BC42,"ooo")) -> 0 | CA42: =COUNTIF(wina.av,$BC42) -> 3 | CB42: =COUNTIF(drawa.av,$BC42) -> 0 | CC42: =COUNTIF(lossa.av,$BC42)+BZ42 -> 7 | CD42: =SUMIF(away.av,$BC42,GBB.av) -> 20 | CE42: =SUMIF(away.av,$BC42,GAA.av) -> 34 | CI42: =IF($AJ$44,COUNTIF($BO$68:$BO$91,CK42)*IF(CK42=0,0,1),COUNTIF($BM$68:$BM$91,CJ42)*IF(CJ42=0,0,1))+CL42/1000 -> 2.001 | CJ42: =LARGE($BM$68:$BM$91,CL42) -> 52 | CK42: =LARGE($BO$68:$BO$91,CL42) -> 0.9 | CL42: 1 | CN42: =IF(LARGE(CI42:CI65,CL42)<2,0,LARGE(CI42:CI65,CL42)) -> 2.007 | CO42: =IF(OR(CO41=$BM68,CO41=$BO68),$BC68,"") -> Bakafogó-Honvéd-Sashegy SE | CP42: =IF(CO42="","",$CL42) -> 1 | CQ42: =IF(ISERR(LARGE(CP42:CP65,$CL42)),"",LARGE(CP42:CP65,$CL42)) -> 10 | CR42: =IF(OR(CR41=$BM68,CR41=$BO68),$BC68,"") | CS42: =IF(CR42="","",$CL42) | CT42: =IF(ISERR(LARGE(CS42:CS65,$CL42)),"",LARGE(CS42:CS65,$CL42)) -> 7 | CU42: =IF(OR(CU41=$BM68,CU41=$BO68),$BC68,"") | CV42: =IF(CU42="","",$CL42) | CW42: =IF(ISERR(LARGE(CV42:CV65,$CL42)),"",LARGE(CV42:CV65,$CL42)) -> 8 | CX42: =IF(OR(CX41=$BM68,CX41=$BO68),$BC68,"") | CY42: =IF(CX42="","",$CL42) | CZ42: =IF(ISERR(LARGE(CY42:CY65,$CL42)),"",LARGE(CY42:CY65,$CL42)) | DA42: =IF(OR(DA41=$BM68,DA41=$BO68),$BC68,"") | DB42: =IF(DA42="","",$CL42) | DC42: =IF(ISERR(LARGE(DB42:DB65,$CL42)),"",LARGE(DB42:DB65,$CL42)) | DD42: =IF(OR(DD41=$BM68,DD41=$BO68),$BC68,"") | DE42: =IF(DD42="","",$CL42) | DF42: =IF(ISERR(LARGE(DE42:DE65,$CL42)),"",LARGE(DE42:DE65,$CL42)) | DI42: =IF(CQ42="","",VLOOKUP(CQ42,xxx.aa1,4,FALSE)) -> Vakana | DJ42: =IF(OR(DI42="",DP42="",DI42=DP42),"",CONCATENATE(DI42,DP42)) | DK42: =IF($DJ42="","",CONCATENATE(VLOOKUP($DJ42,games.a,9,FALSE),VLOOKUP($DJ42,games.a,12,FALSE))) | DL42: =IF($DJ42="","",VLOOKUP($DJ42,games.a,10,FALSE)) | DM42: =IF($DJ42="","",VLOOKUP($DJ42,games.a,13,FALSE)) | DN42: =IF($DJ42="","",VLOOKUP($DJ42,games.a,6,FALSE)) | DO42: =IF($DJ42="","",VLOOKUP($DJ42,games.a,7,FALSE)) | DP42: =DI42 -> Vakana | DV42: =IF(AND($AJ$44,DI41,DP41<>2),DI42,"") | DW42: =IF(DV42="",-1,COUNTIF(xxgy.aa,DV42)) -> -1 | DX42: =IF($DV42="",0,COUNTIF(yygy.aa,$DV42)) -> 0 | DZ42: =IF($DV42="",0,1)*(SUMIF(yyo.aa,$DV42,yyl.aa)+SUMIF(yyi.aa,$DV42,yyk.aa)) -> 0 | EA42: =IF($DV42="",0,1)*(SUMIF(yyo.aa,$DV42,yyk.aa)+SUMIF(yyi.aa,$DV42,yyl.aa)) -> 0 | EC42: =IF(EA42=0,0,DZ42/EA42) -> 0 | EE42: =DW42*1000000+DX42*1000+EC42 -> -1000000 | EI42: =IF(OR(ISERR(EE42),ISNA(EE42),DW42<0),0,EE42) -> 0 | EJ42: =IF(EI42=0,0,RANK(EI42,EI42:EI51,1)) -> 0 | EK42: =EJ42*40000*IF(COUNTIF($FC$42:$FC$65,DV42)>0,0,1) -> 0 | EM42: =IF($AJ$54,COUNTIF(EE53:EE62,EN42)*IF(EN42=0,0,1),COUNTIF(DW42:DW51,EO42)*IF(EO42<0,0,1))+EP42/1000 -> 0.001 | EN42: 0 | EO42: =LARGE(DW42:DW51,EP42) -> -1 | EP42: 1 | ER42: =IF(LARGE(EM42:EM51,EP42)<1,0,LARGE(EM42:EM51,EP42)) -> 0 | ES42: =IF(DW42=ES41,DV42,IF(EE53=ES41,DV53,"")) | ET42: =IF(ES42="","",EP42) | EU42: =IF(ISERR(LARGE(ET42:ET51,EP42)),"",LARGE(ET42:ET51,EP42)) | EV42: =IF(DW42=EV41,DV42,IF(EE53=EV41,DV53,"")) | EW42: =IF(EV42="","",EP42) | EX42: =IF(ISERR(LARGE(EW42:EW51,EP42)),"",LARGE(EW42:EW51,EP42)) | EY42: =IF(DW42=EY41,DV42,IF(EE53=EY41,DV53,"")) | EZ42: =IF(EY42="","",EP42) | FA42: =IF(ISERR(LARGE(EZ42:EZ51,EP42)),"",LARGE(EZ42:EZ51,EP42)) | FJ42: 1. sorozat: | FK42: FALSE | FP42: =IF(OR(NOT($FK$42),FK44=""),"",FK44) | FQ42: =IF(OR(FP42="",FZ42="",FP42=FZ42),"",CONCATENATE(FP42,FZ42)) | FR42: =IF($FQ42="","",VLOOKUP($FQ42,games.a,9,FALSE)) | FS42: =IF($FQ42="","",VLOOKUP($FQ42,games.a,10,FALSE)) | FT42: =IF($FQ42="","",VLOOKUP($FQ42,games.a,11,FALSE)) | FU42: =IF($FQ42="","",VLOOKUP($FQ42,games.a,12,FALSE)) | FV42: =IF($FQ42="","",VLOOKUP($FQ42,games.a,13,FALSE)) | FW42: =IF($FQ42="","",VLOOKUP($FQ42,games.a,14,FALSE)) | FX42: =IF($FQ42="","",VLOOKUP($FQ42,games.a,6,FALSE)) | FY42: =IF($FQ42="","",VLOOKUP($FQ42,games.a,7,FALSE)) | FZ42: =FP42
C43: =IF(OR(NOT($AJ$72),D43="►"),"",TEXT(ABS(VLOOKUP(AN43,$AN$146:$AQ$169,3,FALSE)-VLOOKUP(AN43,$AN$146:$AQ$169,4,FALSE)),"0")) | D43: =IF($AJ$72,VLOOKUP(AN43,$AN$146:$AO$169,2,FALSE),"") -> ► | E43: =CONCATENATE(AO43,". ",AN43) -> 2. K&H | F43: =VLOOKUP($AN43,table.n.av1,2,FALSE) -> 20 | G43: =IF(VLOOKUP($AN43,table.n.av1,3,FALSE)=0,"–",VLOOKUP($AN43,table.n.av1,3,FALSE)) -> 17 | H43: =IF(VLOOKUP($AN43,table.n.av1,4,FALSE)=0,"–",VLOOKUP($AN43,table.n.av1,4,FALSE)) -> 1 | I43: =IF(VLOOKUP($AN43,table.n.av1,5,FALSE)=0,"–",VLOOKUP($AN43,table.n.av1,5,FALSE)) -> 2 | J43: =CONCATENATE(AP43,"–",AQ43) -> 107–24 | K43: =IF(VLOOKUP($AN43,table.n.av1,8,FALSE)=0,0,IF(VLOOKUP($AN43,table.n.av1,8,FALSE)>0,CONCATENATE("+",VLOOKUP($AN43,table.n.av1,8,FALSE)," "),CONCATENATE("–",VLOOKUP($AN43,table.n.av1,8,FALSE)*-1," "))) -> +83 | M43: =VLOOKUP($AN43,table.n.av1,IF($AJ$44,12,11),FALSE) -> 52 | P43: 1 | Q43: – | R43: 22 | X43: =Adatok!A2 -> BBK | AB43: =IF(X43=0,0,BP43) -> 0.039 | AC43: =X43 -> BBK | AD43: =LARGE($AB$42:$AB$76,BB43) -> 0.039 | AE43: =IF(AD43=0,0,VLOOKUP(AD43,$AB$42:$AC$76,2,FALSE)) -> BBK | AI43: Kézilabda: | AJ43: FALSE | AN43: =IF(VLOOKUP($AY43,INDIRECT(CONCATENATE($AJ$59,1)),3,FALSE)=0,"–",VLOOKUP($AY43,INDIRECT(CONCATENATE($AJ$59,1)),3,FALSE)) -> K&H | AO43: =AZ43 -> 2 | AP43: =VLOOKUP($AN43,table.n.av1,6,FALSE) -> 107 | AQ43: =VLOOKUP($AN43,table.n.av1,7,FALSE) -> 24 | AY43: =LARGE(IF($AJ$58=1,$BA$42:$BA$65,$BA$119:$BA$142),BB43) -> 52083107 | AZ43: =IF(BC43=0,"",IF(ABS(AY42-AY43)<0.03,AZ42,BB43)) -> 2 | BA43: =IF($AJ$44,BO43*100,IF($AJ$43,BM43*10,BM43))*1000000+IF($AJ$52,BE43*10000,0)+IF($AJ$44,BK43,BJ43)*1000/IF(OR($AJ$43,$AJ$52),10,1)+IF($AJ$44,0,IF($AJ$43,BH43/10,BH43))+BP43+IF($AJ$70,BQ43,0)-IF(BC43=0,1000000000,0) -> 52256086 | BB43: 2 | BC43: =X43 -> BBK | BD43: =BE43+BF43+BG43 -> 20 | BE43: =IF($AJ$57=1,BT43+CA43,IF($AJ$57=2,BT43,IF($AJ$57=3,CA43,""))) -> 17 | BF43: =IF($AJ$57=1,BU43+CB43,IF($AJ$57=2,BU43,IF($AJ$57=3,CB43,""))) -> 1 | BG43: =IF($AJ$57=1,BV43+CC43,IF($AJ$57=2,BV43,IF($AJ$57=3,CC43,""))) -> 2 | BH43: =IF($AJ$57=1,BW43+CD43,IF($AJ$57=2,BW43,IF($AJ$57=3,CD43,""))) -> 86 | BI43: =IF($AJ$57=1,BX43+CE43,IF($AJ$57=2,BX43,IF($AJ$57=3,CE43,""))) -> 30 | BJ43: =BH43-BI43 -> 56 | BK43: =IF(BI43=0,0,BH43/BI43) -> 2.8666667 | BL43: =IF($AJ$71,IF(ISNA(VLOOKUP(BC43,penalty.a,2,FALSE)),0,VLOOKUP(BC43,penalty.a,2,FALSE)),0) -> 0 | BM43: =$AJ$48*BE43+BF43-BL43 -> 52 | BN43: =BE43*2+BG43-BL43 -> 36 | BO43: =IF(BD43=0,BN43,IF(BN43=0,0,BN43/BD43/2)) -> 0.9 | BP43: 0.039 | BQ43: =IF(ISNA(VLOOKUP(BC43,eee.av,16,FALSE)),0,VLOOKUP(BC43,eee.av,16,FALSE)) -> 200000 | BS43: =COUNTIF(lossh.av,CONCATENATE($BC43,"ooo")) -> 0 | BT43: =COUNTIF(winh.av,$BC43) -> 7 | BU43: =COUNTIF(drawh.av,$BC43) -> 1 | BV43: =COUNTIF(lossh.av,$BC43)+BS43 -> 2 | BW43: =SUMIF(home.av,$BC43,GAA.av) -> 35 | BX43: =SUMIF(home.av,$BC43,GBB.av) -> 16 | BZ43: =COUNTIF(lossa.av,CONCATENATE($BC43,"ooo")) -> 0 | CA43: =COUNTIF(wina.av,$BC43) -> 10 | CB43: =COUNTIF(drawa.av,$BC43) -> 0 | CC43: =COUNTIF(lossa.av,$BC43)+BZ43 -> 0 | CD43: =SUMIF(away.av,$BC43,GBB.av) -> 51 | CE43: =SUMIF(away.av,$BC43,GAA.av) -> 14 | CI43: =IF($AJ$44,COUNTIF($BO$68:$BO$91,CK43)*IF(OR(CK43=CK42,CK43=0),0,1),COUNTIF($BM$68:$BM$91,CJ43)*IF(OR(CJ43=CJ42,CJ43=0),0,1))+CL43/1000 -> 0.002 | CJ43: =LARGE($BM$68:$BM$91,CL43) -> 52 | CK43: =LARGE($BO$68:$BO$91,CL43) -> 0.9 | CL43: 2 | CN43: =IF(LARGE(CI42:CI65,CL43)<2,0,LARGE(CI42:CI65,CL43)) -> 2.005 | CO43: =IF(OR(CO41=$BM69,CO41=$BO69),$BC69,"") | CP43: =IF(CO43="","",$CL43) | CQ43: =IF(ISERR(LARGE(CP42:CP65,$CL43)),"",LARGE(CP42:CP65,$CL43)) -> 1 | CR43: =IF(OR(CR41=$BM69,CR41=$BO69),$BC69,"") | CS43: =IF(CR43="","",$CL43) | CT43: =IF(ISERR(LARGE(CS42:CS65,$CL43)),"",LARGE(CS42:CS65,$CL43)) -> 6 | CU43: =IF(OR(CU41=$BM69,CU41=$BO69),$BC69,"") -> BBK | CV43: =IF(CU43="","",$CL43) -> 2 | CW43: =IF(ISERR(LARGE(CV42:CV65,$CL43)),"",LARGE(CV42:CV65,$CL43)) -> 2 | CX43: =IF(OR(CX41=$BM69,CX41=$BO69),$BC69,"") | CY43: =IF(CX43="","",$CL43) | CZ43: =IF(ISERR(LARGE(CY42:CY65,$CL43)),"",LARGE(CY42:CY65,$CL43)) | DA43: =IF(OR(DA41=$BM69,DA41=$BO69),$BC69,"") | DB43: =IF(DA43="","",$CL43) | DC43: =IF(ISERR(LARGE(DB42:DB65,$CL43)),"",LARGE(DB42:DB65,$CL43)) | DD43: =IF(OR(DD41=$BM69,DD41=$BO69),$BC69,"") | DE43: =IF(DD43="","",$CL43) | DF43: =IF(ISERR(LARGE(DE42:DE65,$CL43)),"",LARGE(DE42:DE65,$CL43)) | DI43: =IF(CQ43="","",VLOOKUP(CQ43,xxx.aa1,4,FALSE)) -> Bakafogó-Honvéd-Sashegy SE | DJ43: =IF(OR(DI43="",DP43="",DI43=DP43),"",CONCATENATE(DI43,DP43)) -> Bakafogó-Honvéd-Sashegy SEVakana | DK43: =IF($DJ43="","",CONCATENATE(VLOOKUP($DJ43,games.a,9,FALSE),VLOOKUP($DJ43,games.a,12,FALSE))) | DL43: =IF($DJ43="","",VLOOKUP($DJ43,games.a,10,FALSE)) -> Bakafogó-Honvéd-Sashegy SE | DM43: =IF($DJ43="","",VLOOKUP($DJ43,games.a,13,FALSE)) -> Vakana | DN43: =IF($DJ43="","",VLOOKUP($DJ43,games.a,6,FALSE)) -> 4 | DO43: =IF($DJ43="","",VLOOKUP($DJ43,games.a,7,FALSE)) -> 4 | DP43: =DP42 -> Vakana | DV43: =IF(AND($AJ$44,DI41,DP41<>2),DI43,"") | DW43: =IF(DV43="",-1,COUNTIF(xxgy.aa,DV43)) -> -1 | DX43: =IF($DV43="",0,COUNTIF(yygy.aa,$DV43)) -> 0 | DZ43: =IF($DV43="",0,1)*(SUMIF(yyo.aa,$DV43,yyl.aa)+SUMIF(yyi.aa,$DV43,yyk.aa)) -> 0 | EA43: =IF($DV43="",0,1)*(SUMIF(yyo.aa,$DV43,yyk.aa)+SUMIF(yyi.aa,$DV43,yyl.aa)) -> 0 | EC43: =IF(EA43=0,0,DZ43/EA43) -> 0 | EE43: =DW43*1000000+DX43*1000+EC43 -> -1000000 | EI43: =IF(OR(ISERR(EE43),ISNA(EE43),DW43<0),0,EE43) -> 0 | EJ43: =IF(EI43=0,0,RANK(EI43,EI42:EI51,1)) -> 0 | EK43: =EJ43*40000*IF(COUNTIF($FC$42:$FC$65,DV43)>0,0,1) -> 0 | EM43: =IF($AJ$54,COUNTIF(EE53:EE62,EN42)*IF(OR(EN43=0,EN43=EN42),0,1),COUNTIF(DW42:DW51,EO43)*IF(OR(EO43=EO42,EO43<0),0,1))+EP43/1000 -> 0.002 | EN43: 0 | EO43: =LARGE(DW42:DW51,EP43) -> -1 | EP43: 2 | ER43: =IF(LARGE(EM42:EM51,EP43)<1,0,LARGE(EM42:EM51,EP43)) -> 0 | ES43: =IF(DW43=ES41,DV43,IF(EE54=ES41,DV54,"")) | ET43: =IF(ES43="","",EP43) | EU43: =IF(ISERR(LARGE(ET42:ET51,EP43)),"",LARGE(ET42:ET51,EP43)) | EV43: =IF(DW43=EV41,DV43,IF(EE54=EV41,DV54,"")) | EW43: =IF(EV43="","",EP43) | EX43: =IF(ISERR(LARGE(EW42:EW51,EP43)),"",LARGE(EW42:EW51,EP43)) | EY43: =IF(DW43=EY41,DV43,IF(EE54=EY41,DV54,"")) | EZ43: =IF(EY43="","",EP43) | FA43: =IF(ISERR(LARGE(EZ42:EZ51,EP43)),"",LARGE(EZ42:EZ51,EP43)) | FP43: =IF(OR(NOT($FK$42),FK45=""),"",FK45) | FQ43: =IF(OR(FP43="",FZ43="",FP43=FZ43),"",CONCATENATE(FP43,FZ43)) | FR43: =IF($FQ43="","",VLOOKUP($FQ43,games.a,9,FALSE)) | FS43: =IF($FQ43="","",VLOOKUP($FQ43,games.a,10,FALSE)) | FT43: =IF($FQ43="","",VLOOKUP($FQ43,games.a,11,FALSE)) | FU43: =IF($FQ43="","",VLOOKUP($FQ43,games.a,12,FALSE)) | FV43: =IF($FQ43="","",VLOOKUP($FQ43,games.a,13,FALSE)) | FW43: =IF($FQ43="","",VLOOKUP($FQ43,games.a,14,FALSE)) | FX43: =IF($FQ43="","",VLOOKUP($FQ43,games.a,6,FALSE)) | FY43: =IF($FQ43="","",VLOOKUP($FQ43,games.a,7,FALSE)) | FZ43: =FZ42
C44: =IF(OR(NOT($AJ$72),D44="►"),"",TEXT(ABS(VLOOKUP(AN44,$AN$146:$AQ$169,3,FALSE)-VLOOKUP(AN44,$AN$146:$AQ$169,4,FALSE)),"0")) | D44: =IF($AJ$72,VLOOKUP(AN44,$AN$146:$AO$169,2,FALSE),"") -> ► | E44: =CONCATENATE(AO44,". ",AN44) -> 3. BHD | F44: =VLOOKUP($AN44,table.n.av1,2,FALSE) -> 20 | G44: =IF(VLOOKUP($AN44,table.n.av1,3,FALSE)=0,"–",VLOOKUP($AN44,table.n.av1,3,FALSE)) -> 14 | H44: =IF(VLOOKUP($AN44,table.n.av1,4,FALSE)=0,"–",VLOOKUP($AN44,table.n.av1,4,FALSE)) -> 3 | I44: =IF(VLOOKUP($AN44,table.n.av1,5,FALSE)=0,"–",VLOOKUP($AN44,table.n.av1,5,FALSE)) -> 3 | J44: =CONCATENATE(AP44,"–",AQ44) -> 70–32 | K44: =IF(VLOOKUP($AN44,table.n.av1,8,FALSE)=0,0,IF(VLOOKUP($AN44,table.n.av1,8,FALSE)>0,CONCATENATE("+",VLOOKUP($AN44,table.n.av1,8,FALSE)," "),CONCATENATE("–",VLOOKUP($AN44,table.n.av1,8,FALSE)*-1," "))) -> +38 | M44: =VLOOKUP($AN44,table.n.av1,IF($AJ$44,12,11),FALSE) -> 45 | X44: =Adatok!A3 -> BHD | AB44: =IF(X44=0,0,BP44) -> 0.038 | AC44: =X44 -> BHD | AD44: =LARGE($AB$42:$AB$76,BB44) -> 0.038 | AE44: =IF(AD44=0,0,VLOOKUP(AD44,$AB$42:$AC$76,2,FALSE)) -> BHD | AI44: Kosárlabda: | AJ44: FALSE | AN44: =IF(VLOOKUP($AY44,INDIRECT(CONCATENATE($AJ$59,1)),3,FALSE)=0,"–",VLOOKUP($AY44,INDIRECT(CONCATENATE($AJ$59,1)),3,FALSE)) -> BHD | AO44: =AZ44 -> 3 | AP44: =VLOOKUP($AN44,table.n.av1,6,FALSE) -> 70 | AQ44: =VLOOKUP($AN44,table.n.av1,7,FALSE) -> 32 | AY44: =LARGE(IF($AJ$58=1,$BA$42:$BA$65,$BA$119:$BA$142),BB44) -> 45038070 | AZ44: =IF(BC44=0,"",IF(ABS(AY43-AY44)<0.03,AZ43,BB44)) -> 3 | BA44: =IF($AJ$44,BO44*100,IF($AJ$43,BM44*10,BM44))*1000000+IF($AJ$52,BE44*10000,0)+IF($AJ$44,BK44,BJ44)*1000/IF(OR($AJ$43,$AJ$52),10,1)+IF($AJ$44,0,IF($AJ$43,BH44/10,BH44))+BP44+IF($AJ$70,BQ44,0)-IF(BC44=0,1000000000,0) -> 45038070 | BB44: 3 | BC44: =X44 -> BHD | BD44: =BE44+BF44+BG44 -> 20 | BE44: =IF($AJ$57=1,BT44+CA44,IF($AJ$57=2,BT44,IF($AJ$57=3,CA44,""))) -> 14 | BF44: =IF($AJ$57=1,BU44+CB44,IF($AJ$57=2,BU44,IF($AJ$57=3,CB44,""))) -> 3 | BG44: =IF($AJ$57=1,BV44+CC44,IF($AJ$57=2,BV44,IF($AJ$57=3,CC44,""))) -> 3 | BH44: =IF($AJ$57=1,BW44+CD44,IF($AJ$57=2,BW44,IF($AJ$57=3,CD44,""))) -> 70 | BI44: =IF($AJ$57=1,BX44+CE44,IF($AJ$57=2,BX44,IF($AJ$57=3,CE44,""))) -> 32 | BJ44: =BH44-BI44 -> 38 | BK44: =IF(BI44=0,0,BH44/BI44) -> 2.1875 | BL44: =IF($AJ$71,IF(ISNA(VLOOKUP(BC44,penalty.a,2,FALSE)),0,VLOOKUP(BC44,penalty.a,2,FALSE)),0) -> 0 | BM44: =$AJ$48*BE44+BF44-BL44 -> 45 | BN44: =BE44*2+BG44-BL44 -> 31 | BO44: =IF(BD44=0,BN44,IF(BN44=0,0,BN44/BD44/2)) -> 0.775 | BP44: 0.038 | BQ44: =IF(ISNA(VLOOKUP(BC44,eee.av,16,FALSE)),0,VLOOKUP(BC44,eee.av,16,FALSE)) -> 0 | BS44: =COUNTIF(lossh.av,CONCATENATE($BC44,"ooo")) -> 0 | BT44: =COUNTIF(winh.av,$BC44) -> 8 | BU44: =COUNTIF(drawh.av,$BC44) -> 0 | BV44: =COUNTIF(lossh.av,$BC44)+BS44 -> 2 | BW44: =SUMIF(home.av,$BC44,GAA.av) -> 42 | BX44: =SUMIF(home.av,$BC44,GBB.av) -> 21 | BZ44: =COUNTIF(lossa.av,CONCATENATE($BC44,"ooo")) -> 0 | CA44: =COUNTIF(wina.av,$BC44) -> 6 | CB44: =COUNTIF(drawa.av,$BC44) -> 3 | CC44: =COUNTIF(lossa.av,$BC44)+BZ44 -> 1 | CD44: =SUMIF(away.av,$BC44,GBB.av) -> 28 | CE44: =SUMIF(away.av,$BC44,GAA.av) -> 11 | CI44: =IF($AJ$44,COUNTIF($BO$68:$BO$91,CK44)*IF(OR(CK44=CK43,CK44=0),0,1),COUNTIF($BM$68:$BM$91,CJ44)*IF(OR(CJ44=CJ43,CJ44=0),0,1))+CL44/1000 -> 1.003 | CJ44: =LARGE($BM$68:$BM$91,CL44) -> 45 | CK44: =LARGE($BO$68:$BO$91,CL44) -> 0.775 | CL44: 3 | CN44: =IF(LARGE(CI42:CI65,CL44)<2,0,LARGE(CI42:CI65,CL44)) -> 2.001 | CO44: =IF(OR(CO41=$BM70,CO41=$BO70),$BC70,"") | CP44: =IF(CO44="","",$CL44) | CQ44: =IF(ISERR(LARGE(CP42:CP65,$CL44)),"",LARGE(CP42:CP65,$CL44)) | CR44: =IF(OR(CR41=$BM70,CR41=$BO70),$BC70,"") | CS44: =IF(CR44="","",$CL44) | CT44: =IF(ISERR(LARGE(CS42:CS65,$CL44)),"",LARGE(CS42:CS65,$CL44)) | CU44: =IF(OR(CU41=$BM70,CU41=$BO70),$BC70,"") | CV44: =IF(CU44="","",$CL44) | CW44: =IF(ISERR(LARGE(CV42:CV65,$CL44)),"",LARGE(CV42:CV65,$CL44)) | CX44: =IF(OR(CX41=$BM70,CX41=$BO70),$BC70,"") | CY44: =IF(CX44="","",$CL44) | CZ44: =IF(ISERR(LARGE(CY42:CY65,$CL44)),"",LARGE(CY42:CY65,$CL44)) | DA44: =IF(OR(DA41=$BM70,DA41=$BO70),$BC70,"") | DB44: =IF(DA44="","",$CL44) | DC44: =IF(ISERR(LARGE(DB42:DB65,$CL44)),"",LARGE(DB42:DB65,$CL44)) | DD44: =IF(OR(DD41=$BM70,DD41=$BO70),$BC70,"") | DE44: =IF(DD44="","",$CL44) | DI44: =IF(CQ44="","",VLOOKUP(CQ44,xxx.aa1,4,FALSE)) | DJ44: =IF(OR(DI44="",DP44="",DI44=DP44),"",CONCATENATE(DI44,DP44)) | DK44: =IF($DJ44="","",CONCATENATE(VLOOKUP($DJ44,games.a,9,FALSE),VLOOKUP($DJ44,games.a,12,FALSE))) | DL44: =IF($DJ44="","",VLOOKUP($DJ44,games.a,10,FALSE)) | DM44: =IF($DJ44="","",VLOOKUP($DJ44,games.a,13,FALSE)) | DN44: =IF($DJ44="","",VLOOKUP($DJ44,games.a,6,FALSE)) | DO44: =IF($DJ44="","",VLOOKUP($DJ44,games.a,7,FALSE)) | DP44: =DP43 -> Vakana | DV44: =IF(AND($AJ$44,DI41,DP41<>2),DI44,"") | DW44: =IF(DV44="",-1,COUNTIF(xxgy.aa,DV44)) -> -1 | DX44: =IF($DV44="",0,COUNTIF(yygy.aa,$DV44)) -> 0 | DZ44: =IF($DV44="",0,1)*(SUMIF(yyo.aa,$DV44,yyl.aa)+SUMIF(yyi.aa,$DV44,yyk.aa)) -> 0 | EA44: =IF($DV44="",0,1)*(SUMIF(yyo.aa,$DV44,yyk.aa)+SUMIF(yyi.aa,$DV44,yyl.aa)) -> 0 | EC44: =IF(EA44=0,0,DZ44/EA44) -> 0 | EE44: =DW44*1000000+DX44*1000+EC44 -> -1000000 | EI44: =IF(OR(ISERR(EE44),ISNA(EE44),DW44<0),0,EE44) -> 0 | EJ44: =IF(EI44=0,0,RANK(EI44,EI42:EI51,1)) -> 0 | EK44: =EJ44*40000*IF(COUNTIF($FC$42:$FC$65,DV44)>0,0,1) -> 0 | EM44: =IF($AJ$54,COUNTIF(EE53:EE62,EN43)*IF(OR(EN44=0,EN44=EN43),0,1),COUNTIF(DW42:DW51,EO44)*IF(OR(EO44=EO43,EO44<0),0,1))+EP44/1000 -> 0.003 | EN44: 0 | EO44: =LARGE(DW42:DW51,EP44) -> -1 | EP44: 3 | ER44: =IF(LARGE(EM42:EM51,EP44)<1,0,LARGE(EM42:EM51,EP44)) -> 0 | ES44: =IF(DW44=ES41,DV44,IF(EE55=ES41,DV55,"")) | ET44: =IF(ES44="","",EP44) | EU44: =IF(ISERR(LARGE(ET42:ET51,EP44)),"",LARGE(ET42:ET51,EP44)) | EV44: =IF(DW44=EV41,DV44,IF(EE55=EV41,DV55,"")) | EW44: =IF(EV44="","",EP44) | EY44: =IF(DW44=EY41,DV44,IF(EE55=EY41,DV55,"")) | EZ44: =IF(EY44="","",EP44) | FI44: =CONCATENATE("rank.a",FH44) -> rank.a | FJ44: =AND($FK$42,FG44<>"",FH44<>"",IF(FH44=2,$AJ$75,$AJ$69)) -> FALSE | FK44: =IF(NOT(FJ44),"",VLOOKUP(FG44,INDIRECT(FI44),2,FALSE)) | FP44: =IF(OR(NOT($FK$42),FK46=""),"",FK46) | FQ44: =IF(OR(FP44="",FZ44="",FP44=FZ44),"",CONCATENATE(FP44,FZ44)) | FR44: =IF($FQ44="","",VLOOKUP($FQ44,games.a,9,FALSE)) | FS44: =IF($FQ44="","",VLOOKUP($FQ44,games.a,10,FALSE)) | FT44: =IF($FQ44="","",VLOOKUP($FQ44,games.a,11,FALSE)) | FU44: =IF($FQ44="","",VLOOKUP($FQ44,games.a,12,FALSE)) | FV44: =IF($FQ44="","",VLOOKUP($FQ44,games.a,13,FALSE)) | FW44: =IF($FQ44="","",VLOOKUP($FQ44,games.a,14,FALSE)) | FX44: =IF($FQ44="","",VLOOKUP($FQ44,games.a,6,FALSE)) | FY44: =IF($FQ44="","",VLOOKUP($FQ44,games.a,7,FALSE)) | FZ44: =FZ43
C45: =IF(OR(NOT($AJ$72),D45="►"),"",TEXT(ABS(VLOOKUP(AN45,$AN$146:$AQ$169,3,FALSE)-VLOOKUP(AN45,$AN$146:$AQ$169,4,FALSE)),"0")) | D45: =IF($AJ$72,VLOOKUP(AN45,$AN$146:$AO$169,2,FALSE),"") -> ► | E45: =CONCATENATE(AO45,". ",AN45) -> 4. Zrínyigyöngye | F45: =VLOOKUP($AN45,table.n.av1,2,FALSE) -> 20 | G45: =IF(VLOOKUP($AN45,table.n.av1,3,FALSE)=0,"–",VLOOKUP($AN45,table.n.av1,3,FALSE)) -> 13 | H45: =IF(VLOOKUP($AN45,table.n.av1,4,FALSE)=0,"–",VLOOKUP($AN45,table.n.av1,4,FALSE)) -> 2 | I45: =IF(VLOOKUP($AN45,table.n.av1,5,FALSE)=0,"–",VLOOKUP($AN45,table.n.av1,5,FALSE)) -> 5 | J45: =CONCATENATE(AP45,"–",AQ45) -> 73–41 | K45: =IF(VLOOKUP($AN45,table.n.av1,8,FALSE)=0,0,IF(VLOOKUP($AN45,table.n.av1,8,FALSE)>0,CONCATENATE("+",VLOOKUP($AN45,table.n.av1,8,FALSE)," "),CONCATENATE("–",VLOOKUP($AN45,table.n.av1,8,FALSE)*-1," "))) -> +32 | M45: =VLOOKUP($AN45,table.n.av1,IF($AJ$44,12,11),FALSE) -> 41 | O45: A megtekintett tabella gólátlaga: | P45: =IF(SUM(BD42:BD65)=0,"–",(SUM(BH42:BI65)+SUM(BH94:BI103))/(SUM(BD42:BD65)+SUM(BD94:BD103))) -> 5.6363636 | X45: =Adatok!A4 -> Bőrdíszmű | AB45: =IF(X45=0,0,BP45) -> 0.037 | AC45: =X45 -> Bőrdíszmű | AD45: =LARGE($AB$42:$AB$76,BB45) -> 0.037 | AE45: =IF(AD45=0,0,VLOOKUP(AD45,$AB$42:$AC$76,2,FALSE)) -> Bőrdíszmű | AI45: Vízilabda: | AJ45: FALSE | AN45: =IF(VLOOKUP($AY45,INDIRECT(CONCATENATE($AJ$59,1)),3,FALSE)=0,"–",VLOOKUP($AY45,INDIRECT(CONCATENATE($AJ$59,1)),3,FALSE)) -> Zrínyigyöngye | AO45: =AZ45 -> 4 | AP45: =VLOOKUP($AN45,table.n.av1,6,FALSE) -> 73 | AQ45: =VLOOKUP($AN45,table.n.av1,7,FALSE) -> 41 | AY45: =LARGE(IF($AJ$58=1,$BA$42:$BA$65,$BA$119:$BA$142),BB45) -> 41032073 | AZ45: =IF(BC45=0,"",IF(ABS(AY44-AY45)<0.03,AZ44,BB45)) -> 4 | BA45: =IF($AJ$44,BO45*100,IF($AJ$43,BM45*10,BM45))*1000000+IF($AJ$52,BE45*10000,0)+IF($AJ$44,BK45,BJ45)*1000/IF(OR($AJ$43,$AJ$52),10,1)+IF($AJ$44,0,IF($AJ$43,BH45/10,BH45))+BP45+IF($AJ$70,BQ45,0)-IF(BC45=0,1000000000,0) -> 12943027 | BB45: 4 | BC45: =X45 -> Bőrdíszmű | BD45: =BE45+BF45+BG45 -> 20 | BE45: =IF($AJ$57=1,BT45+CA45,IF($AJ$57=2,BT45,IF($AJ$57=3,CA45,""))) -> 4 | BF45: =IF($AJ$57=1,BU45+CB45,IF($AJ$57=2,BU45,IF($AJ$57=3,CB45,""))) -> 1 | BG45: =IF($AJ$57=1,BV45+CC45,IF($AJ$57=2,BV45,IF($AJ$57=3,CC45,""))) -> 15 | BH45: =IF($AJ$57=1,BW45+CD45,IF($AJ$57=2,BW45,IF($AJ$57=3,CD45,""))) -> 27 | BI45: =IF($AJ$57=1,BX45+CE45,IF($AJ$57=2,BX45,IF($AJ$57=3,CE45,""))) -> 84 | BJ45: =BH45-BI45 -> -57 | BK45: =IF(BI45=0,0,BH45/BI45) -> 0.32142857 | BL45: =IF($AJ$71,IF(ISNA(VLOOKUP(BC45,penalty.a,2,FALSE)),0,VLOOKUP(BC45,penalty.a,2,FALSE)),0) -> 0 | BM45: =$AJ$48*BE45+BF45-BL45 -> 13 | BN45: =BE45*2+BG45-BL45 -> 23 | BO45: =IF(BD45=0,BN45,IF(BN45=0,0,BN45/BD45/2)) -> 0.575 | BP45: 0.037 | BQ45: =IF(ISNA(VLOOKUP(BC45,eee.av,16,FALSE)),0,VLOOKUP(BC45,eee.av,16,FALSE)) -> 0 | BS45: =COUNTIF(lossh.av,CONCATENATE($BC45,"ooo")) -> 0 | BT45: =COUNTIF(winh.av,$BC45) -> 0 | BU45: =COUNTIF(drawh.av,$BC45) -> 1 | BV45: =COUNTIF(lossh.av,$BC45)+BS45 -> 9 | BW45: =SUMIF(home.av,$BC45,GAA.av) -> 11 | BX45: =SUMIF(home.av,$BC45,GBB.av) -> 50 | BZ45: =COUNTIF(lossa.av,CONCATENATE($BC45,"ooo")) -> 0 | CA45: =COUNTIF(wina.av,$BC45) -> 4 | CB45: =COUNTIF(drawa.av,$BC45) -> 0 | CC45: =COUNTIF(lossa.av,$BC45)+BZ45 -> 6 | CD45: =SUMIF(away.av,$BC45,GBB.av) -> 16 | CE45: =SUMIF(away.av,$BC45,GAA.av) -> 34 | CI45: =IF($AJ$44,COUNTIF($BO$68:$BO$91,CK45)*IF(OR(CK45=CK44,CK45=0),0,1),COUNTIF($BM$68:$BM$91,CJ45)*IF(OR(CJ45=CJ44,CJ45=0),0,1))+CL45/1000 -> 1.004 | CJ45: =LARGE($BM$68:$BM$91,CL45) -> 41 | CK45: =LARGE($BO$68:$BO$91,CL45) -> 0.775 | CL45: 4 | CN45: =IF(LARGE(CI42:CI65,CL45)<2,0,LARGE(CI42:CI65,CL45)) -> 0 | CO45: =IF(OR(CO41=$BM71,CO41=$BO71),$BC71,"") | CP45: =IF(CO45="","",$CL45) | CQ45: =IF(ISERR(LARGE(CP42:CP65,$CL45)),"",LARGE(CP42:CP65,$CL45)) | CR45: =IF(OR(CR41=$BM71,CR41=$BO71),$BC71,"") | CS45: =IF(CR45="","",$CL45) | CT45: =IF(ISERR(LARGE(CS42:CS65,$CL45)),"",LARGE(CS42:CS65,$CL45)) | CU45: =IF(OR(CU41=$BM71,CU41=$BO71),$BC71,"") | CV45: =IF(CU45="","",$CL45) | CW45: =IF(ISERR(LARGE(CV42:CV65,$CL45)),"",LARGE(CV42:CV65,$CL45)) | CX45: =IF(OR(CX41=$BM71,CX41=$BO71),$BC71,"") | CY45: =IF(CX45="","",$CL45) | CZ45: =IF(ISERR(LARGE(CY42:CY65,$CL45)),"",LARGE(CY42:CY65,$CL45)) | DA45: =IF(OR(DA41=$BM71,DA41=$BO71),$BC71,"") | DB45: =IF(DA45="","",$CL45) | DD45: =IF(OR(DD41=$BM71,DD41=$BO71),$BC71,"") | DE45: =IF(DD45="","",$CL45) | DI45: =IF(CQ45="","",VLOOKUP(CQ45,xxx.aa1,4,FALSE)) | DJ45: =IF(OR(DI45="",DP45="",DI45=DP45),"",CONCATENATE(DI45,DP45)) | DK45: =IF($DJ45="","",CONCATENATE(VLOOKUP($DJ45,games.a,9,FALSE),VLOOKUP($DJ45,games.a,12,FALSE))) | DL45: =IF($DJ45="","",VLOOKUP($DJ45,games.a,10,FALSE)) | DM45: =IF($DJ45="","",VLOOKUP($DJ45,games.a,13,FALSE)) | DN45: =IF($DJ45="","",VLOOKUP($DJ45,games.a,6,FALSE)) | DO45: =IF($DJ45="","",VLOOKUP($DJ45,games.a,7,FALSE)) | DP45: =DP44 -> Vakana | DV45: =IF(AND($AJ$44,DI41,DP41<>2),DI45,"") | DW45: =IF(DV45="",-1,COUNTIF(xxgy.aa,DV45)) -> -1 | DX45: =IF($DV45="",0,COUNTIF(yygy.aa,$DV45)) -> 0 | DZ45: =IF($DV45="",0,1)*(SUMIF(yyo.aa,$DV45,yyl.aa)+SUMIF(yyi.aa,$DV45,yyk.aa)) -> 0 | EA45: =IF($DV45="",0,1)*(SUMIF(yyo.aa,$DV45,yyk.aa)+SUMIF(yyi.aa,$DV45,yyl.aa)) -> 0 | EC45: =IF(EA45=0,0,DZ45/EA45) -> 0 | EE45: =DW45*1000000+DX45*1000+EC45 -> -1000000 | EI45: =IF(OR(ISERR(EE45),ISNA(EE45),DW45<0),0,EE45) -> 0 | EJ45: =IF(EI45=0,0,RANK(EI45,EI42:EI51,1)) -> 0 | EK45: =EJ45*40000*IF(COUNTIF($FC$42:$FC$65,DV45)>0,0,1) -> 0 | EM45: =IF($AJ$54,COUNTIF(EE53:EE62,EN44)*IF(OR(EN45=0,EN45=EN44),0,1),COUNTIF(DW42:DW51,EO45)*IF(OR(EO45=EO44,EO45<0),0,1))+EP45/1000 -> 0.004 | EN45: 0 | EO45: =LARGE(DW42:DW51,EP45) -> -1 | EP45: 4 | ES45: =IF(DW45=ES41,DV45,IF(EE56=ES41,DV56,"")) | ET45: =IF(ES45="","",EP45) | EU45: =IF(ISERR(LARGE(ET42:ET51,EP45)),"",LARGE(ET42:ET51,EP45)) | EV45: =IF(DW45=EV41,DV45,IF(EE56=EV41,DV56,"")) | EW45: =IF(EV45="","",EP45) | EY45: =IF(DW45=EY41,DV45,IF(EE56=EY41,DV56,"")) | EZ45: =IF(EY45="","",EP45) | FI45: =CONCATENATE("rank.a",FH45) -> rank.a | FJ45: =AND($FK$42,FG45<>"",FH45<>"",IF(FH45=2,$AJ$75,$AJ$69)) -> FALSE | FK45: =IF(NOT(FJ45),"",VLOOKUP(FG45,INDIRECT(FI45),2,FALSE)) | FP45: =IF(OR(NOT($FK$42),FK47=""),"",FK47) | FQ45: =IF(OR(FP45="",FZ45="",FP45=FZ45),"",CONCATENATE(FP45,FZ45)) | FR45: =IF($FQ45="","",VLOOKUP($FQ45,games.a,9,FALSE)) | FS45: =IF($FQ45="","",VLOOKUP($FQ45,games.a,10,FALSE)) | FT45: =IF($FQ45="","",VLOOKUP($FQ45,games.a,11,FALSE)) | FU45: =IF($FQ45="","",VLOOKUP($FQ45,games.a,12,FALSE)) | FV45: =IF($FQ45="","",VLOOKUP($FQ45,games.a,13,FALSE)) | FW45: =IF($FQ45="","",VLOOKUP($FQ45,games.a,14,FALSE)) | FX45: =IF($FQ45="","",VLOOKUP($FQ45,games.a,6,FALSE)) | FY45: =IF($FQ45="","",VLOOKUP($FQ45,games.a,7,FALSE)) | FZ45: =FZ44
C46: =IF(OR(NOT($AJ$72),D46="►"),"",TEXT(ABS(VLOOKUP(AN46,$AN$146:$AQ$169,3,FALSE)-VLOOKUP(AN46,$AN$146:$AQ$169,4,FALSE)),"0")) | D46: =IF($AJ$72,VLOOKUP(AN46,$AN$146:$AO$169,2,FALSE),"") -> ► | E46: =CONCATENATE(AO46,". ",AN46) -> 5. Élelmesek | F46: =VLOOKUP($AN46,table.n.av1,2,FALSE) -> 20 | G46: =IF(VLOOKUP($AN46,table.n.av1,3,FALSE)=0,"–",VLOOKUP($AN46,table.n.av1,3,FALSE)) -> 7 | H46: =IF(VLOOKUP($AN46,table.n.av1,4,FALSE)=0,"–",VLOOKUP($AN46,table.n.av1,4,FALSE)) -> 4 | I46: =IF(VLOOKUP($AN46,table.n.av1,5,FALSE)=0,"–",VLOOKUP($AN46,table.n.av1,5,FALSE)) -> 9 | J46: =CONCATENATE(AP46,"–",AQ46) -> 55–46 | K46: =IF(VLOOKUP($AN46,table.n.av1,8,FALSE)=0,0,IF(VLOOKUP($AN46,table.n.av1,8,FALSE)>0,CONCATENATE("+",VLOOKUP($AN46,table.n.av1,8,FALSE)," "),CONCATENATE("–",VLOOKUP($AN46,table.n.av1,8,FALSE)*-1," "))) -> +9 | M46: =VLOOKUP($AN46,table.n.av1,IF($AJ$44,12,11),FALSE) -> 25 | O46: Részleges tabella megtekintése csak hazai vagy idegenbeli mérkőzésekről. (Jelölje ki a kívánt szempontot.) | X46: =Adatok!A5 -> Carbonász | AB46: =IF(X46=0,0,BP46) -> 0.036 | AC46: =X46 -> Carbonász | AD46: =LARGE($AB$42:$AB$76,BB46) -> 0.036 | AE46: =IF(AD46=0,0,VLOOKUP(AD46,$AB$42:$AC$76,2,FALSE)) -> Carbonász | AN46: =IF(VLOOKUP($AY46,INDIRECT(CONCATENATE($AJ$59,1)),3,FALSE)=0,"–",VLOOKUP($AY46,INDIRECT(CONCATENATE($AJ$59,1)),3,FALSE)) -> Élelmesek | AO46: =AZ46 -> 5 | AP46: =VLOOKUP($AN46,table.n.av1,6,FALSE) -> 55 | AQ46: =VLOOKUP($AN46,table.n.av1,7,FALSE) -> 46 | AY46: =LARGE(IF($AJ$58=1,$BA$42:$BA$65,$BA$119:$BA$142),BB46) -> 25289055 | AZ46: =IF(BC46=0,"",IF(ABS(AY45-AY46)<0.03,AZ45,BB46)) -> 5 | BA46: =IF($AJ$44,BO46*100,IF($AJ$43,BM46*10,BM46))*1000000+IF($AJ$52,BE46*10000,0)+IF($AJ$44,BK46,BJ46)*1000/IF(OR($AJ$43,$AJ$52),10,1)+IF($AJ$44,0,IF($AJ$43,BH46/10,BH46))+BP46+IF($AJ$70,BQ46,0)-IF(BC46=0,1000000000,0) -> 13943044 | BB46: 5 | BC46: =X46 -> Carbonász | BD46: =BE46+BF46+BG46 -> 20 | BE46: =IF($AJ$57=1,BT46+CA46,IF($AJ$57=2,BT46,IF($AJ$57=3,CA46,""))) -> 4 | BF46: =IF($AJ$57=1,BU46+CB46,IF($AJ$57=2,BU46,IF($AJ$57=3,CB46,""))) -> 2 | BG46: =IF($AJ$57=1,BV46+CC46,IF($AJ$57=2,BV46,IF($AJ$57=3,CC46,""))) -> 14 | BH46: =IF($AJ$57=1,BW46+CD46,IF($AJ$57=2,BW46,IF($AJ$57=3,CD46,""))) -> 44 | BI46: =IF($AJ$57=1,BX46+CE46,IF($AJ$57=2,BX46,IF($AJ$57=3,CE46,""))) -> 101 | BJ46: =BH46-BI46 -> -57 | BK46: =IF(BI46=0,0,BH46/BI46) -> 0.43564356 | BL46: =IF($AJ$71,IF(ISNA(VLOOKUP(BC46,penalty.a,2,FALSE)),0,VLOOKUP(BC46,penalty.a,2,FALSE)),0) -> 0 | BM46: =$AJ$48*BE46+BF46-BL46 -> 14 | BN46: =BE46*2+BG46-BL46 -> 22 | BO46: =IF(BD46=0,BN46,IF(BN46=0,0,BN46/BD46/2)) -> 0.55 | BP46: 0.036 | BQ46: =IF(ISNA(VLOOKUP(BC46,eee.av,16,FALSE)),0,VLOOKUP(BC46,eee.av,16,FALSE)) -> 0 | BS46: =COUNTIF(lossh.av,CONCATENATE($BC46,"ooo")) -> 0 | BT46: =COUNTIF(winh.av,$BC46) -> 3 | BU46: =COUNTIF(drawh.av,$BC46) -> 0 | BV46: =COUNTIF(lossh.av,$BC46)+BS46 -> 7 | BW46: =SUMIF(home.av,$BC46,GAA.av) -> 24 | BX46: =SUMIF(home.av,$BC46,GBB.av) -> 51 | BZ46: =COUNTIF(lossa.av,CONCATENATE($BC46,"ooo")) -> 0 | CA46: =COUNTIF(wina.av,$BC46) -> 1 | CB46: =COUNTIF(drawa.av,$BC46) -> 2 | CC46: =COUNTIF(lossa.av,$BC46)+BZ46 -> 7 | CD46: =SUMIF(away.av,$BC46,GBB.av) -> 20 | CE46: =SUMIF(away.av,$BC46,GAA.av) -> 50 | CI46: =IF($AJ$44,COUNTIF($BO$68:$BO$91,CK46)*IF(OR(CK46=CK45,CK46=0),0,1),COUNTIF($BM$68:$BM$91,CJ46)*IF(OR(CJ46=CJ45,CJ46=0),0,1))+CL46/1000 -> 2.005 | CJ46: =LARGE($BM$68:$BM$91,CL46) -> 25 | CK46: =LARGE($BO$68:$BO$91,CL46) -> 0.675 | CL46: 5 | CN46: =IF(LARGE(CI42:CI65,CL46)<2,0,LARGE(CI42:CI65,CL46)) -> 0 | CO46: =IF(OR(CO41=$BM72,CO41=$BO72),$BC72,"") | CP46: =IF(CO46="","",$CL46) | CQ46: =IF(ISERR(LARGE(CP42:CP65,$CL46)),"",LARGE(CP42:CP65,$CL46)) | CR46: =IF(OR(CR41=$BM72,CR41=$BO72),$BC72,"") | CS46: =IF(CR46="","",$CL46) | CT46: =IF(ISERR(LARGE(CS42:CS65,$CL46)),"",LARGE(CS42:CS65,$CL46)) | CU46: =IF(OR(CU41=$BM72,CU41=$BO72),$BC72,"") | CV46: =IF(CU46="","",$CL46) | CW46: =IF(ISERR(LARGE(CV42:CV65,$CL46)),"",LARGE(CV42:CV65,$CL46)) | CX46: =IF(OR(CX41=$BM72,CX41=$BO72),$BC72,"") | CY46: =IF(CX46="","",$CL46) | DA46: =IF(OR(DA41=$BM72,DA41=$BO72),$BC72,"") | DB46: =IF(DA46="","",$CL46) | DD46: =IF(OR(DD41=$BM72,DD41=$BO72),$BC72,"") | DE46: =IF(DD46="","",$CL46) | DI46: =IF(CQ46="","",VLOOKUP(CQ46,xxx.aa1,4,FALSE)) | DJ46: =IF(OR(DI46="",DP46="",DI46=DP46),"",CONCATENATE(DI46,DP46)) | DK46: =IF($DJ46="","",CONCATENATE(VLOOKUP($DJ46,games.a,9,FALSE),VLOOKUP($DJ46,games.a,12,FALSE))) | DL46: =IF($DJ46="","",VLOOKUP($DJ46,games.a,10,FALSE)) | DM46: =IF($DJ46="","",VLOOKUP($DJ46,games.a,13,FALSE)) | DN46: =IF($DJ46="","",VLOOKUP($DJ46,games.a,6,FALSE)) | DO46: =IF($DJ46="","",VLOOKUP($DJ46,games.a,7,FALSE)) | DP46: =DP45 -> Vakana | DV46: =IF(AND($AJ$44,DI41,DP41<>2),DI46,"") | DW46: =IF(DV46="",-1,COUNTIF(xxgy.aa,DV46)) -> -1 | DX46: =IF($DV46="",0,COUNTIF(yygy.aa,$DV46)) -> 0 | DZ46: =IF($DV46="",0,1)*(SUMIF(yyo.aa,$DV46,yyl.aa)+SUMIF(yyi.aa,$DV46,yyk.aa)) -> 0 | EA46: =IF($DV46="",0,1)*(SUMIF(yyo.aa,$DV46,yyk.aa)+SUMIF(yyi.aa,$DV46,yyl.aa)) -> 0 | EC46: =IF(EA46=0,0,DZ46/EA46) -> 0 | EE46: =DW46*1000000+DX46*1000+EC46 -> -1000000 | EI46: =IF(OR(ISERR(EE46),ISNA(EE46),DW46<0),0,EE46) -> 0 | EJ46: =IF(EI46=0,0,RANK(EI46,EI42:EI51,1)) -> 0 | EK46: =EJ46*40000*IF(COUNTIF($FC$42:$FC$65,DV46)>0,0,1) -> 0 | EM46: =IF($AJ$54,COUNTIF(EE53:EE62,EN45)*IF(OR(EN46=0,EN46=EN45),0,1),COUNTIF(DW42:DW51,EO46)*IF(OR(EO46=EO45,EO46<0),0,1))+EP46/1000 -> 0.005 | EN46: 0 | EO46: =LARGE(DW42:DW51,EP46) -> -1 | EP46: 5 | ES46: =IF(DW46=ES41,DV46,IF(EE57=ES41,DV57,"")) | ET46: =IF(ES46="","",EP46) | EU46: =IF(ISERR(LARGE(ET42:ET51,EP46)),"",LARGE(ET42:ET51,EP46)) | EV46: =IF(DW46=EV41,DV46,IF(EE57=EV41,DV57,"")) | EW46: =IF(EV46="","",EP46) | EY46: =IF(DW46=EY41,DV46,IF(EE57=EY41,DV57,"")) | EZ46: =IF(EY46="","",EP46) | FI46: =CONCATENATE("rank.a",FH46) -> rank.a | FJ46: =AND($FK$42,FG46<>"",FH46<>"",IF(FH46=2,$AJ$75,$AJ$69)) -> FALSE | FK46: =IF(NOT(FJ46),"",VLOOKUP(FG46,INDIRECT(FI46),2,FALSE)) | FP46: =IF(OR(NOT($FK$42),FK48=""),"",FK48) | FQ46: =IF(OR(FP46="",FZ46="",FP46=FZ46),"",CONCATENATE(FP46,FZ46)) | FR46: =IF($FQ46="","",VLOOKUP($FQ46,games.a,9,FALSE)) | FS46: =IF($FQ46="","",VLOOKUP($FQ46,games.a,10,FALSE)) | FT46: =IF($FQ46="","",VLOOKUP($FQ46,games.a,11,FALSE)) | FU46: =IF($FQ46="","",VLOOKUP($FQ46,games.a,12,FALSE)) | FV46: =IF($FQ46="","",VLOOKUP($FQ46,games.a,13,FALSE)) | FW46: =IF($FQ46="","",VLOOKUP($FQ46,games.a,14,FALSE)) | FX46: =IF($FQ46="","",VLOOKUP($FQ46,games.a,6,FALSE)) | FY46: =IF($FQ46="","",VLOOKUP($FQ46,games.a,7,FALSE)) | FZ46: =FZ45
C47: =IF(OR(NOT($AJ$72),D47="►"),"",TEXT(ABS(VLOOKUP(AN47,$AN$146:$AQ$169,3,FALSE)-VLOOKUP(AN47,$AN$146:$AQ$169,4,FALSE)),"0")) | D47: =IF($AJ$72,VLOOKUP(AN47,$AN$146:$AO$169,2,FALSE),"") -> ► | E47: =CONCATENATE(AO47,". ",AN47) -> 6. Hercules-Ludovika | F47: =VLOOKUP($AN47,table.n.av1,2,FALSE) -> 20 | G47: =IF(VLOOKUP($AN47,table.n.av1,3,FALSE)=0,"–",VLOOKUP($AN47,table.n.av1,3,FALSE)) -> 8 | H47: =IF(VLOOKUP($AN47,table.n.av1,4,FALSE)=0,"–",VLOOKUP($AN47,table.n.av1,4,FALSE)) -> 1 | I47: =IF(VLOOKUP($AN47,table.n.av1,5,FALSE)=0,"–",VLOOKUP($AN47,table.n.av1,5,FALSE)) -> 11 | J47: =CONCATENATE(AP47,"–",AQ47) -> 56–59 | K47: =IF(VLOOKUP($AN47,table.n.av1,8,FALSE)=0,0,IF(VLOOKUP($AN47,table.n.av1,8,FALSE)>0,CONCATENATE("+",VLOOKUP($AN47,table.n.av1,8,FALSE)," "),CONCATENATE("–",VLOOKUP($AN47,table.n.av1,8,FALSE)*-1," "))) -> –3 | M47: =VLOOKUP($AN47,table.n.av1,IF($AJ$44,12,11),FALSE) -> 25 | X47: =Adatok!A6 -> Élelmesek | AB47: =IF(X47=0,0,BP47) -> 0.035 | AC47: =X47 -> Élelmesek | AD47: =LARGE($AB$42:$AB$76,BB47) -> 0.035 | AE47: =IF(AD47=0,0,VLOOKUP(AD47,$AB$42:$AC$76,2,FALSE)) -> Élelmesek | AI47: Győzelemért járó pontszám: | AJ47: =IF(OR(AJ42,AJ45),3,2) -> 3 | AN47: =IF(VLOOKUP($AY47,INDIRECT(CONCATENATE($AJ$59,1)),3,FALSE)=0,"–",VLOOKUP($AY47,INDIRECT(CONCATENATE($AJ$59,1)),3,FALSE)) -> Hercules-Ludovika | AO47: =AZ47 -> 6 | AP47: =VLOOKUP($AN47,table.n.av1,6,FALSE) -> 56 | AQ47: =VLOOKUP($AN47,table.n.av1,7,FALSE) -> 59 | AY47: =LARGE(IF($AJ$58=1,$BA$42:$BA$65,$BA$119:$BA$142),BB47) -> 25237056 | AZ47: =IF(BC47=0,"",IF(ABS(AY46-AY47)<0.03,AZ46,BB47)) -> 6 | BA47: =IF($AJ$44,BO47*100,IF($AJ$43,BM47*10,BM47))*1000000+IF($AJ$52,BE47*10000,0)+IF($AJ$44,BK47,BJ47)*1000/IF(OR($AJ$43,$AJ$52),10,1)+IF($AJ$44,0,IF($AJ$43,BH47/10,BH47))+BP47+IF($AJ$70,BQ47,0)-IF(BC47=0,1000000000,0) -> 25289055 | BB47: 6 | BC47: =X47 -> Élelmesek | BD47: =BE47+BF47+BG47 -> 20 | BE47: =IF($AJ$57=1,BT47+CA47,IF($AJ$57=2,BT47,IF($AJ$57=3,CA47,""))) -> 7 | BF47: =IF($AJ$57=1,BU47+CB47,IF($AJ$57=2,BU47,IF($AJ$57=3,CB47,""))) -> 4 | BG47: =IF($AJ$57=1,BV47+CC47,IF($AJ$57=2,BV47,IF($AJ$57=3,CC47,""))) -> 9 | BH47: =IF($AJ$57=1,BW47+CD47,IF($AJ$57=2,BW47,IF($AJ$57=3,CD47,""))) -> 55 | BI47: =IF($AJ$57=1,BX47+CE47,IF($AJ$57=2,BX47,IF($AJ$57=3,CE47,""))) -> 46 | BJ47: =BH47-BI47 -> 9 | BK47: =IF(BI47=0,0,BH47/BI47) -> 1.1956522 | BL47: =IF($AJ$71,IF(ISNA(VLOOKUP(BC47,penalty.a,2,FALSE)),0,VLOOKUP(BC47,penalty.a,2,FALSE)),0) -> 0 | BM47: =$AJ$48*BE47+BF47-BL47 -> 25 | BN47: =BE47*2+BG47-BL47 -> 23 | BO47: =IF(BD47=0,BN47,IF(BN47=0,0,BN47/BD47/2)) -> 0.575 | BP47: 0.035 | BQ47: =IF(ISNA(VLOOKUP(BC47,eee.av,16,FALSE)),0,VLOOKUP(BC47,eee.av,16,FALSE)) -> 280000 | BS47: =COUNTIF(lossh.av,CONCATENATE($BC47,"ooo")) -> 0 | BT47: =COUNTIF(winh.av,$BC47) -> 3 | BU47: =COUNTIF(drawh.av,$BC47) -> 3 | BV47: =COUNTIF(lossh.av,$BC47)+BS47 -> 4 | BW47: =SUMIF(home.av,$BC47,GAA.av) -> 27 | BX47: =SUMIF(home.av,$BC47,GBB.av) -> 24 | BZ47: =COUNTIF(lossa.av,CONCATENATE($BC47,"ooo")) -> 0 | CA47: =COUNTIF(wina.av,$BC47) -> 4 | CB47: =COUNTIF(drawa.av,$BC47) -> 1 | CC47: =COUNTIF(lossa.av,$BC47)+BZ47 -> 5 | CD47: =SUMIF(away.av,$BC47,GBB.av) -> 28 | CE47: =SUMIF(away.av,$BC47,GAA.av) -> 22 | CI47: =IF($AJ$44,COUNTIF($BO$68:$BO$91,CK47)*IF(OR(CK47=CK46,CK47=0),0,1),COUNTIF($BM$68:$BM$91,CJ47)*IF(OR(CJ47=CJ46,CJ47=0),0,1))+CL47/1000 -> 0.006 | CJ47: =LARGE($BM$68:$BM$91,CL47) -> 25 | CK47: =LARGE($BO$68:$BO$91,CL47) -> 0.6 | CL47: 6 | CN47: =IF(LARGE(CI42:CI65,CL47)<2,0,LARGE(CI42:CI65,CL47)) -> 0 | CO47: =IF(OR(CO41=$BM73,CO41=$BO73),$BC73,"") | CP47: =IF(CO47="","",$CL47) | CQ47: =IF(ISERR(LARGE(CP42:CP65,$CL47)),"",LARGE(CP42:CP65,$CL47)) | CR47: =IF(OR(CR41=$BM73,CR41=$BO73),$BC73,"") -> Élelmesek | CS47: =IF(CR47="","",$CL47) -> 6 | CT47: =IF(ISERR(LARGE(CS42:CS65,$CL47)),"",LARGE(CS42:CS65,$CL47)) | CU47: =IF(OR(CU41=$BM73,CU41=$BO73),$BC73,"") | CV47: =IF(CU47="","",$CL47) | CX47: =IF(OR(CX41=$BM73,CX41=$BO73),$BC73,"") | CY47: =IF(CX47="","",$CL47) | DA47: =IF(OR(DA41=$BM73,DA41=$BO73),$BC73,"") | DB47: =IF(DA47="","",$CL47) | DD47: =IF(OR(DD41=$BM73,DD41=$BO73),$BC73,"") | DE47: =IF(DD47="","",$CL47) | DI47: =IF(CQ47="","",VLOOKUP(CQ47,xxx.aa1,4,FALSE)) | DJ47: =IF(OR(DI47="",DP47="",DI47=DP47),"",CONCATENATE(DI47,DP47)) | DK47: =IF($DJ47="","",CONCATENATE(VLOOKUP($DJ47,games.a,9,FALSE),VLOOKUP($DJ47,games.a,12,FALSE))) | DL47: =IF($DJ47="","",VLOOKUP($DJ47,games.a,10,FALSE)) | DM47: =IF($DJ47="","",VLOOKUP($DJ47,games.a,13,FALSE)) | DN47: =IF($DJ47="","",VLOOKUP($DJ47,games.a,6,FALSE)) | DO47: =IF($DJ47="","",VLOOKUP($DJ47,games.a,7,FALSE)) | DP47: =DP46 -> Vakana | DV47: =IF(AND($AJ$44,DI41,DP41<>2),DI47,"") | DW47: =IF(DV47="",-1,COUNTIF(xxgy.aa,DV47)) -> -1 | DX47: =IF($DV47="",0,COUNTIF(yygy.aa,$DV47)) -> 0 | DZ47: =IF($DV47="",0,1)*(SUMIF(yyo.aa,$DV47,yyl.aa)+SUMIF(yyi.aa,$DV47,yyk.aa)) -> 0 | EA47: =IF($DV47="",0,1)*(SUMIF(yyo.aa,$DV47,yyk.aa)+SUMIF(yyi.aa,$DV47,yyl.aa)) -> 0 | EC47: =IF(EA47=0,0,DZ47/EA47) -> 0 | EE47: =DW47*1000000+DX47*1000+EC47 -> -1000000 | EI47: =IF(OR(ISERR(EE47),ISNA(EE47),DW47<0),0,EE47) -> 0 | EJ47: =IF(EI47=0,0,RANK(EI47,EI42:EI51,1)) -> 0 | EK47: =EJ47*40000*IF(COUNTIF($FC$42:$FC$65,DV47)>0,0,1) -> 0 | EM47: =IF($AJ$54,COUNTIF(EE53:EE62,EN46)*IF(OR(EN47=0,EN47=EN46),0,1),COUNTIF(DW42:DW51,EO47)*IF(OR(EO47=EO46,EO47<0),0,1))+EP47/1000 -> 0.006 | EN47: 0 | EO47: =LARGE(DW42:DW51,EP47) -> -1 | EP47: 6 | ES47: =IF(DW47=ES41,DV47,IF(EE58=ES41,DV58,"")) | ET47: =IF(ES47="","",EP47) | EV47: =IF(DW47=EV41,DV47,IF(EE58=EV41,DV58,"")) | EW47: =IF(EV47="","",EP47) | EY47: =IF(DW47=EY41,DV47,IF(EE58=EY41,DV58,"")) | EZ47: =IF(EY47="","",EP47) | FI47: =CONCATENATE("rank.a",FH47) -> rank.a | FJ47: =AND($FK$42,FG47<>"",FH47<>"",IF(FH47=2,$AJ$75,$AJ$69)) -> FALSE | FK47: =IF(NOT(FJ47),"",VLOOKUP(FG47,INDIRECT(FI47),2,FALSE)) | FP47: =IF(OR(NOT($FK$42),FK49=""),"",FK49) | FQ47: =IF(OR(FP47="",FZ47="",FP47=FZ47),"",CONCATENATE(FP47,FZ47)) | FR47: =IF($FQ47="","",VLOOKUP($FQ47,games.a,9,FALSE)) | FS47: =IF($FQ47="","",VLOOKUP($FQ47,games.a,10,FALSE)) | FT47: =IF($FQ47="","",VLOOKUP($FQ47,games.a,11,FALSE)) | FU47: =IF($FQ47="","",VLOOKUP($FQ47,games.a,12,FALSE)) | FV47: =IF($FQ47="","",VLOOKUP($FQ47,games.a,13,FALSE)) | FW47: =IF($FQ47="","",VLOOKUP($FQ47,games.a,14,FALSE)) | FX47: =IF($FQ47="","",VLOOKUP($FQ47,games.a,6,FALSE)) | FY47: =IF($FQ47="","",VLOOKUP($FQ47,games.a,7,FALSE)) | FZ47: =FZ46
C48: =IF(OR(NOT($AJ$72),D48="►"),"",TEXT(ABS(VLOOKUP(AN48,$AN$146:$AQ$169,3,FALSE)-VLOOKUP(AN48,$AN$146:$AQ$169,4,FALSE)),"0")) | D48: =IF($AJ$72,VLOOKUP(AN48,$AN$146:$AO$169,2,FALSE),"") -> ► | E48: =CONCATENATE(AO48,". ",AN48) -> 7. Bakafogó-Honvéd-Sashegy SE | F48: =VLOOKUP($AN48,table.n.av1,2,FALSE) -> 20 | G48: =IF(VLOOKUP($AN48,table.n.av1,3,FALSE)=0,"–",VLOOKUP($AN48,table.n.av1,3,FALSE)) -> 6 | H48: =IF(VLOOKUP($AN48,table.n.av1,4,FALSE)=0,"–",VLOOKUP($AN48,table.n.av1,4,FALSE)) -> 2 | I48: =IF(VLOOKUP($AN48,table.n.av1,5,FALSE)=0,"–",VLOOKUP($AN48,table.n.av1,5,FALSE)) -> 12 | J48: =CONCATENATE(AP48,"–",AQ48) -> 41–65 | K48: =IF(VLOOKUP($AN48,table.n.av1,8,FALSE)=0,0,IF(VLOOKUP($AN48,table.n.av1,8,FALSE)>0,CONCATENATE("+",VLOOKUP($AN48,table.n.av1,8,FALSE)," "),CONCATENATE("–",VLOOKUP($AN48,table.n.av1,8,FALSE)*-1," "))) -> –24 | M48: =VLOOKUP($AN48,table.n.av1,IF($AJ$44,12,11),FALSE) -> 20 | X48: =Adatok!A7 -> Hercules-Ludovika | AB48: =IF(X48=0,0,BP48) -> 0.034 | AC48: =X48 -> Hercules-Ludovika | AD48: =LARGE($AB$42:$AB$76,BB48) -> 0.034 | AE48: =IF(AD48=0,0,VLOOKUP(AD48,$AB$42:$AC$76,2,FALSE)) -> Hercules-Ludovika | AI48: Győzelemért járó pontszám (Felülírt): | AJ48: =AJ47 -> 3 | AN48: =IF(VLOOKUP($AY48,INDIRECT(CONCATENATE($AJ$59,1)),3,FALSE)=0,"–",VLOOKUP($AY48,INDIRECT(CONCATENATE($AJ$59,1)),3,FALSE)) -> Bakafogó-Honvéd-Sashegy SE | AO48: =AZ48 -> 7 | AP48: =VLOOKUP($AN48,table.n.av1,6,FALSE) -> 41 | AQ48: =VLOOKUP($AN48,table.n.av1,7,FALSE) -> 65 | AY48: =LARGE(IF($AJ$58=1,$BA$42:$BA$65,$BA$119:$BA$142),BB48) -> 20376041 | AZ48: =IF(BC48=0,"",IF(ABS(AY47-AY48)<0.03,AZ47,BB48)) -> 7 | BA48: =IF($AJ$44,BO48*100,IF($AJ$43,BM48*10,BM48))*1000000+IF($AJ$52,BE48*10000,0)+IF($AJ$44,BK48,BJ48)*1000/IF(OR($AJ$43,$AJ$52),10,1)+IF($AJ$44,0,IF($AJ$43,BH48/10,BH48))+BP48+IF($AJ$70,BQ48,0)-IF(BC48=0,1000000000,0) -> 25237056 | BB48: 7 | BC48: =X48 -> Hercules-Ludovika | BD48: =BE48+BF48+BG48 -> 20 | BE48: =IF($AJ$57=1,BT48+CA48,IF($AJ$57=2,BT48,IF($AJ$57=3,CA48,""))) -> 8 | BF48: =IF($AJ$57=1,BU48+CB48,IF($AJ$57=2,BU48,IF($AJ$57=3,CB48,""))) -> 1 | BG48: =IF($AJ$57=1,BV48+CC48,IF($AJ$57=2,BV48,IF($AJ$57=3,CC48,""))) -> 11 | BH48: =IF($AJ$57=1,BW48+CD48,IF($AJ$57=2,BW48,IF($AJ$57=3,CD48,""))) -> 56 | BI48: =IF($AJ$57=1,BX48+CE48,IF($AJ$57=2,BX48,IF($AJ$57=3,CE48,""))) -> 59 | BJ48: =BH48-BI48 -> -3 | BK48: =IF(BI48=0,0,BH48/BI48) -> 0.94915254 | BL48: =IF($AJ$71,IF(ISNA(VLOOKUP(BC48,penalty.a,2,FALSE)),0,VLOOKUP(BC48,penalty.a,2,FALSE)),0) -> 0 | BM48: =$AJ$48*BE48+BF48-BL48 -> 25 | BN48: =BE48*2+BG48-BL48 -> 27 | BO48: =IF(BD48=0,BN48,IF(BN48=0,0,BN48/BD48/2)) -> 0.675 | BP48: 0.034 | BQ48: =IF(ISNA(VLOOKUP(BC48,eee.av,16,FALSE)),0,VLOOKUP(BC48,eee.av,16,FALSE)) -> 240000 | BS48: =COUNTIF(lossh.av,CONCATENATE($BC48,"ooo")) -> 0 | BT48: =COUNTIF(winh.av,$BC48) -> 6 | BU48: =COUNTIF(drawh.av,$BC48) -> 0 | BV48: =COUNTIF(lossh.av,$BC48)+BS48 -> 4 | BW48: =SUMIF(home.av,$BC48,GAA.av) -> 34 | BX48: =SUMIF(home.av,$BC48,GBB.av) -> 25 | BZ48: =COUNTIF(lossa.av,CONCATENATE($BC48,"ooo")) -> 0 | CA48: =COUNTIF(wina.av,$BC48) -> 2 | CB48: =COUNTIF(drawa.av,$BC48) -> 1 | CC48: =COUNTIF(lossa.av,$BC48)+BZ48 -> 7 | CD48: =SUMIF(away.av,$BC48,GBB.av) -> 22 | CE48: =SUMIF(away.av,$BC48,GAA.av) -> 34 | CI48: =IF($AJ$44,COUNTIF($BO$68:$BO$91,CK48)*IF(OR(CK48=CK47,CK48=0),0,1),COUNTIF($BM$68:$BM$91,CJ48)*IF(OR(CJ48=CJ47,CJ48=0),0,1))+CL48/1000 -> 2.007 | CJ48: =LARGE($BM$68:$BM$91,CL48) -> 20 | CK48: =LARGE($BO$68:$BO$91,CL48) -> 0.6 | CL48: 7 | CO48: =IF(OR(CO41=$BM74,CO41=$BO74),$BC74,"") | CP48: =IF(CO48="","",$CL48) | CQ48: =IF(ISERR(LARGE(CP42:CP65,$CL48)),"",LARGE(CP42:CP65,$CL48)) | CR48: =IF(OR(CR41=$BM74,CR41=$BO74),$BC74,"") -> Hercules-Ludovika | CS48: =IF(CR48="","",$CL48) -> 7 | CT48: =IF(ISERR(LARGE(CS42:CS65,$CL48)),"",LARGE(CS42:CS65,$CL48)) | CU48: =IF(OR(CU41=$BM74,CU41=$BO74),$BC74,"") | CV48: =IF(CU48="","",$CL48) | CX48: =IF(OR(CX41=$BM74,CX41=$BO74),$BC74,"") | CY48: =IF(CX48="","",$CL48) | DA48: =IF(OR(DA41=$BM74,DA41=$BO74),$BC74,"") | DB48: =IF(DA48="","",$CL48) | DD48: =IF(OR(DD41=$BM74,DD41=$BO74),$BC74,"") | DE48: =IF(DD48="","",$CL48) | DI48: =IF(CQ48="","",VLOOKUP(CQ48,xxx.aa1,4,FALSE)) | DJ48: =IF(OR(DI48="",DP48="",DI48=DP48),"",CONCATENATE(DI48,DP48)) | DK48: =IF($DJ48="","",CONCATENATE(VLOOKUP($DJ48,games.a,9,FALSE),VLOOKUP($DJ48,games.a,12,FALSE))) | DL48: =IF($DJ48="","",VLOOKUP($DJ48,games.a,10,FALSE)) | DM48: =IF($DJ48="","",VLOOKUP($DJ48,games.a,13,FALSE)) | DN48: =IF($DJ48="","",VLOOKUP($DJ48,games.a,6,FALSE)) | DO48: =IF($DJ48="","",VLOOKUP($DJ48,games.a,7,FALSE)) | DP48: =DP47 -> Vakana | DV48: =IF(AND($AJ$44,DI41,DP41<>2),DI48,"") | DW48: =IF(DV48="",-1,COUNTIF(xxgy.aa,DV48)) -> -1 | DX48: =IF($DV48="",0,COUNTIF(yygy.aa,$DV48)) -> 0 | DZ48: =IF($DV48="",0,1)*(SUMIF(yyo.aa,$DV48,yyl.aa)+SUMIF(yyi.aa,$DV48,yyk.aa)) -> 0 | EA48: =IF($DV48="",0,1)*(SUMIF(yyo.aa,$DV48,yyk.aa)+SUMIF(yyi.aa,$DV48,yyl.aa)) -> 0 | EC48: =IF(EA48=0,0,DZ48/EA48) -> 0 | EE48: =DW48*1000000+DX48*1000+EC48 -> -1000000 | EI48: =IF(OR(ISERR(EE48),ISNA(EE48),DW48<0),0,EE48) -> 0 | EJ48: =IF(EI48=0,0,RANK(EI48,EI42:EI51,1)) -> 0 | EK48: =EJ48*40000*IF(COUNTIF($FC$42:$FC$65,DV48)>0,0,1) -> 0 | EM48: =IF($AJ$54,COUNTIF(EE53:EE62,EN47)*IF(OR(EN48=0,EN48=EN47),0,1),COUNTIF(DW42:DW51,EO48)*IF(OR(EO48=EO47,EO48<0),0,1))+EP48/1000 -> 0.007 | EN48: 0 | EO48: =LARGE(DW42:DW51,EP48) -> -1 | EP48: 7 | ES48: =IF(DW48=ES41,DV48,IF(EE59=ES41,DV59,"")) | ET48: =IF(ES48="","",EP48) | EV48: =IF(DW48=EV41,DV48,IF(EE59=EV41,DV59,"")) | EW48: =IF(EV48="","",EP48) | EY48: =IF(DW48=EY41,DV48,IF(EE59=EY41,DV59,"")) | EZ48: =IF(EY48="","",EP48) | FI48: =CONCATENATE("rank.a",FH48) -> rank.a | FJ48: =AND($FK$42,FG48<>"",FH48<>"",IF(FH48=2,$AJ$75,$AJ$69)) -> FALSE | FK48: =IF(NOT(FJ48),"",VLOOKUP(FG48,INDIRECT(FI48),2,FALSE)) | FP48: =IF(OR(NOT($FK$42),FK50=""),"",FK50) | FQ48: =IF(OR(FP48="",FZ48="",FP48=FZ48),"",CONCATENATE(FP48,FZ48)) | FR48: =IF($FQ48="","",VLOOKUP($FQ48,games.a,9,FALSE)) | FS48: =IF($FQ48="","",VLOOKUP($FQ48,games.a,10,FALSE)) | FT48: =IF($FQ48="","",VLOOKUP($FQ48,games.a,11,FALSE)) | FU48: =IF($FQ48="","",VLOOKUP($FQ48,games.a,12,FALSE)) | FV48: =IF($FQ48="","",VLOOKUP($FQ48,games.a,13,FALSE)) | FW48: =IF($FQ48="","",VLOOKUP($FQ48,games.a,14,FALSE)) | FX48: =IF($FQ48="","",VLOOKUP($FQ48,games.a,6,FALSE)) | FY48: =IF($FQ48="","",VLOOKUP($FQ48,games.a,7,FALSE)) | FZ48: =FZ47
C49: =IF(OR(NOT($AJ$72),D49="►"),"",TEXT(ABS(VLOOKUP(AN49,$AN$146:$AQ$169,3,FALSE)-VLOOKUP(AN49,$AN$146:$AQ$169,4,FALSE)),"0")) | D49: =IF($AJ$72,VLOOKUP(AN49,$AN$146:$AO$169,2,FALSE),"") -> ► | E49: =CONCATENATE(AO49,". ",AN49) -> 8. Vakana | F49: =VLOOKUP($AN49,table.n.av1,2,FALSE) -> 20 | G49: =IF(VLOOKUP($AN49,table.n.av1,3,FALSE)=0,"–",VLOOKUP($AN49,table.n.av1,3,FALSE)) -> 6 | H49: =IF(VLOOKUP($AN49,table.n.av1,4,FALSE)=0,"–",VLOOKUP($AN49,table.n.av1,4,FALSE)) -> 2 | I49: =IF(VLOOKUP($AN49,table.n.av1,5,FALSE)=0,"–",VLOOKUP($AN49,table.n.av1,5,FALSE)) -> 12 | J49: =CONCATENATE(AP49,"–",AQ49) -> 34–65 | K49: =IF(VLOOKUP($AN49,table.n.av1,8,FALSE)=0,0,IF(VLOOKUP($AN49,table.n.av1,8,FALSE)>0,CONCATENATE("+",VLOOKUP($AN49,table.n.av1,8,FALSE)," "),CONCATENATE("–",VLOOKUP($AN49,table.n.av1,8,FALSE)*-1," "))) -> –31 | M49: =VLOOKUP($AN49,table.n.av1,IF($AJ$44,12,11),FALSE) -> 20 | X49: =Adatok!A8 -> K&H | AB49: =IF(X49=0,0,BP49) -> 0.033 | AC49: =X49 -> K&H | AD49: =LARGE($AB$42:$AB$76,BB49) -> 0.033 | AE49: =IF(AD49=0,0,VLOOKUP(AD49,$AB$42:$AC$76,2,FALSE)) -> K&H | AN49: =IF(VLOOKUP($AY49,INDIRECT(CONCATENATE($AJ$59,1)),3,FALSE)=0,"–",VLOOKUP($AY49,INDIRECT(CONCATENATE($AJ$59,1)),3,FALSE)) -> Vakana | AO49: =AZ49 -> 8 | AP49: =VLOOKUP($AN49,table.n.av1,6,FALSE) -> 34 | AQ49: =VLOOKUP($AN49,table.n.av1,7,FALSE) -> 65 | AY49: =LARGE(IF($AJ$58=1,$BA$42:$BA$65,$BA$119:$BA$142),BB49) -> 20329034 | AZ49: =IF(BC49=0,"",IF(ABS(AY48-AY49)<0.03,AZ48,BB49)) -> 8 | BA49: =IF($AJ$44,BO49*100,IF($AJ$43,BM49*10,BM49))*1000000+IF($AJ$52,BE49*10000,0)+IF($AJ$44,BK49,BJ49)*1000/IF(OR($AJ$43,$AJ$52),10,1)+IF($AJ$44,0,IF($AJ$43,BH49/10,BH49))+BP49+IF($AJ$70,BQ49,0)-IF(BC49=0,1000000000,0) -> 52083107 | BB49: 8 | BC49: =X49 -> K&H | BD49: =BE49+BF49+BG49 -> 20 | BE49: =IF($AJ$57=1,BT49+CA49,IF($AJ$57=2,BT49,IF($AJ$57=3,CA49,""))) -> 17 | BF49: =IF($AJ$57=1,BU49+CB49,IF($AJ$57=2,BU49,IF($AJ$57=3,CB49,""))) -> 1 | BG49: =IF($AJ$57=1,BV49+CC49,IF($AJ$57=2,BV49,IF($AJ$57=3,CC49,""))) -> 2 | BH49: =IF($AJ$57=1,BW49+CD49,IF($AJ$57=2,BW49,IF($AJ$57=3,CD49,""))) -> 107 | BI49: =IF($AJ$57=1,BX49+CE49,IF($AJ$57=2,BX49,IF($AJ$57=3,CE49,""))) -> 24 | BJ49: =BH49-BI49 -> 83 | BK49: =IF(BI49=0,0,BH49/BI49) -> 4.4583333 | BL49: =IF($AJ$71,IF(ISNA(VLOOKUP(BC49,penalty.a,2,FALSE)),0,VLOOKUP(BC49,penalty.a,2,FALSE)),0) -> 0 | BM49: =$AJ$48*BE49+BF49-BL49 -> 52 | BN49: =BE49*2+BG49-BL49 -> 36 | BO49: =IF(BD49=0,BN49,IF(BN49=0,0,BN49/BD49/2)) -> 0.9 | BP49: 0.033 | BQ49: =IF(ISNA(VLOOKUP(BC49,eee.av,16,FALSE)),0,VLOOKUP(BC49,eee.av,16,FALSE)) -> 0 | BS49: =COUNTIF(lossh.av,CONCATENATE($BC49,"ooo")) -> 0 | BT49: =COUNTIF(winh.av,$BC49) -> 8 | BU49: =COUNTIF(drawh.av,$BC49) -> 1 | BV49: =COUNTIF(lossh.av,$BC49)+BS49 -> 1 | BW49: =SUMIF(home.av,$BC49,GAA.av) -> 51 | BX49: =SUMIF(home.av,$BC49,GBB.av) -> 15 | BZ49: =COUNTIF(lossa.av,CONCATENATE($BC49,"ooo")) -> 0 | CA49: =COUNTIF(wina.av,$BC49) -> 9 | CB49: =COUNTIF(drawa.av,$BC49) -> 0 | CC49: =COUNTIF(lossa.av,$BC49)+BZ49 -> 1 | CD49: =SUMIF(away.av,$BC49,GBB.av) -> 56 | CE49: =SUMIF(away.av,$BC49,GAA.av) -> 9 | CI49: =IF($AJ$44,COUNTIF($BO$68:$BO$91,CK49)*IF(OR(CK49=CK48,CK49=0),0,1),COUNTIF($BM$68:$BM$91,CJ49)*IF(OR(CJ49=CJ48,CJ49=0),0,1))+CL49/1000 -> 0.008 | CJ49: =LARGE($BM$68:$BM$91,CL49) -> 20 | CK49: =LARGE($BO$68:$BO$91,CL49) -> 0.575 | CL49: 8 | CO49: =IF(OR(CO41=$BM75,CO41=$BO75),$BC75,"") | CP49: =IF(CO49="","",$CL49) | CQ49: =IF(ISERR(LARGE(CP42:CP65,$CL49)),"",LARGE(CP42:CP65,$CL49)) | CR49: =IF(OR(CR41=$BM75,CR41=$BO75),$BC75,"") | CS49: =IF(CR49="","",$CL49) | CU49: =IF(OR(CU41=$BM75,CU41=$BO75),$BC75,"") -> K&H | CV49: =IF(CU49="","",$CL49) -> 8 | CX49: =IF(OR(CX41=$BM75,CX41=$BO75),$BC75,"") | CY49: =IF(CX49="","",$CL49) | DA49: =IF(OR(DA41=$BM75,DA41=$BO75),$BC75,"") | DB49: =IF(DA49="","",$CL49) | DD49: =IF(OR(DD41=$BM75,DD41=$BO75),$BC75,"") | DE49: =IF(DD49="","",$CL49) | DI49: =IF(CQ49="","",VLOOKUP(CQ49,xxx.aa1,4,FALSE)) | DJ49: =IF(OR(DI49="",DP49="",DI49=DP49),"",CONCATENATE(DI49,DP49)) | DK49: =IF($DJ49="","",CONCATENATE(VLOOKUP($DJ49,games.a,9,FALSE),VLOOKUP($DJ49,games.a,12,FALSE))) | DL49: =IF($DJ49="","",VLOOKUP($DJ49,games.a,10,FALSE)) | DM49: =IF($DJ49="","",VLOOKUP($DJ49,games.a,13,FALSE)) | DN49: =IF($DJ49="","",VLOOKUP($DJ49,games.a,6,FALSE)) | DO49: =IF($DJ49="","",VLOOKUP($DJ49,games.a,7,FALSE)) | DP49: =DP48 -> Vakana | DV49: =IF(AND($AJ$44,DI41,DP41<>2),DI49,"") | DW49: =IF(DV49="",-1,COUNTIF(xxgy.aa,DV49)) -> -1 | DX49: =IF($DV49="",0,COUNTIF(yygy.aa,$DV49)) -> 0 | DZ49: =IF($DV49="",0,1)*(SUMIF(yyo.aa,$DV49,yyl.aa)+SUMIF(yyi.aa,$DV49,yyk.aa)) -> 0 | EA49: =IF($DV49="",0,1)*(SUMIF(yyo.aa,$DV49,yyk.aa)+SUMIF(yyi.aa,$DV49,yyl.aa)) -> 0 | EC49: =IF(EA49=0,0,DZ49/EA49) -> 0 | EE49: =DW49*1000000+DX49*1000+EC49 -> -1000000 | EI49: =IF(OR(ISERR(EE49),ISNA(EE49),DW49<0),0,EE49) -> 0 | EJ49: =IF(EI49=0,0,RANK(EI49,EI42:EI51,1)) -> 0 | EK49: =EJ49*40000*IF(COUNTIF($FC$42:$FC$65,DV49)>0,0,1) -> 0 | EM49: =IF($AJ$54,COUNTIF(EE53:EE62,EN48)*IF(OR(EN49=0,EN49=EN48),0,1),COUNTIF(DW42:DW51,EO49)*IF(OR(EO49=EO48,EO49<0),0,1))+EP49/1000 -> 0.008 | EN49: 0 | EO49: =LARGE(DW42:DW51,EP49) -> -1 | EP49: 8 | ES49: =IF(DW49=ES41,DV49,IF(EE60=ES41,DV60,"")) | ET49: =IF(ES49="","",EP49) | EV49: =IF(DW49=EV41,DV49,IF(EE60=EV41,DV60,"")) | EW49: =IF(EV49="","",EP49) | EY49: =IF(DW49=EY41,DV49,IF(EE60=EY41,DV60,"")) | EZ49: =IF(EY49="","",EP49) | FI49: =CONCATENATE("rank.a",FH49) -> rank.a | FJ49: =AND($FK$42,FG49<>"",FH49<>"",IF(FH49=2,$AJ$75,$AJ$69)) -> FALSE | FK49: =IF(NOT(FJ49),"",VLOOKUP(FG49,INDIRECT(FI49),2,FALSE)) | FP49: =IF(OR(NOT($FK$42),FK51=""),"",FK51) | FQ49: =IF(OR(FP49="",FZ49="",FP49=FZ49),"",CONCATENATE(FP49,FZ49)) | FR49: =IF($FQ49="","",VLOOKUP($FQ49,games.a,9,FALSE)) | FS49: =IF($FQ49="","",VLOOKUP($FQ49,games.a,10,FALSE)) | FT49: =IF($FQ49="","",VLOOKUP($FQ49,games.a,11,FALSE)) | FU49: =IF($FQ49="","",VLOOKUP($FQ49,games.a,12,FALSE)) | FV49: =IF($FQ49="","",VLOOKUP($FQ49,games.a,13,FALSE)) | FW49: =IF($FQ49="","",VLOOKUP($FQ49,games.a,14,FALSE)) | FX49: =IF($FQ49="","",VLOOKUP($FQ49,games.a,6,FALSE)) | FY49: =IF($FQ49="","",VLOOKUP($FQ49,games.a,7,FALSE)) | FZ49: =FZ48
C50: =IF(OR(NOT($AJ$72),D50="►"),"",TEXT(ABS(VLOOKUP(AN50,$AN$146:$AQ$169,3,FALSE)-VLOOKUP(AN50,$AN$146:$AQ$169,4,FALSE)),"0")) | D50: =IF($AJ$72,VLOOKUP(AN50,$AN$146:$AO$169,2,FALSE),"") -> ► | E50: =CONCATENATE(AO50,". ",AN50) -> 9. Carbonász | F50: =VLOOKUP($AN50,table.n.av1,2,FALSE) -> 20 | G50: =IF(VLOOKUP($AN50,table.n.av1,3,FALSE)=0,"–",VLOOKUP($AN50,table.n.av1,3,FALSE)) -> 4 | H50: =IF(VLOOKUP($AN50,table.n.av1,4,FALSE)=0,"–",VLOOKUP($AN50,table.n.av1,4,FALSE)) -> 2 | I50: =IF(VLOOKUP($AN50,table.n.av1,5,FALSE)=0,"–",VLOOKUP($AN50,table.n.av1,5,FALSE)) -> 14 | J50: =CONCATENATE(AP50,"–",AQ50) -> 44–101 | K50: =IF(VLOOKUP($AN50,table.n.av1,8,FALSE)=0,0,IF(VLOOKUP($AN50,table.n.av1,8,FALSE)>0,CONCATENATE("+",VLOOKUP($AN50,table.n.av1,8,FALSE)," "),CONCATENATE("–",VLOOKUP($AN50,table.n.av1,8,FALSE)*-1," "))) -> –57 | M50: =VLOOKUP($AN50,table.n.av1,IF($AJ$44,12,11),FALSE) -> 14 | X50: =Adatok!A9 -> Royal Guard's | AB50: =IF(X50=0,0,BP50) -> 0.032 | AC50: =X50 -> Royal Guard's | AD50: =LARGE($AB$42:$AB$76,BB50) -> 0.032 | AE50: =IF(AD50=0,0,VLOOKUP(AD50,$AB$42:$AC$76,2,FALSE)) -> Royal Guard's | AI50: RANGSOROLÁS | AN50: =IF(VLOOKUP($AY50,INDIRECT(CONCATENATE($AJ$59,1)),3,FALSE)=0,"–",VLOOKUP($AY50,INDIRECT(CONCATENATE($AJ$59,1)),3,FALSE)) -> Carbonász | AO50: =AZ50 -> 9 | AP50: =VLOOKUP($AN50,table.n.av1,6,FALSE) -> 44 | AQ50: =VLOOKUP($AN50,table.n.av1,7,FALSE) -> 101 | AY50: =LARGE(IF($AJ$58=1,$BA$42:$BA$65,$BA$119:$BA$142),BB50) -> 13943044 | AZ50: =IF(BC50=0,"",IF(ABS(AY49-AY50)<0.03,AZ49,BB50)) -> 9 | BA50: =IF($AJ$44,BO50*100,IF($AJ$43,BM50*10,BM50))*1000000+IF($AJ$52,BE50*10000,0)+IF($AJ$44,BK50,BJ50)*1000/IF(OR($AJ$43,$AJ$52),10,1)+IF($AJ$44,0,IF($AJ$43,BH50/10,BH50))+BP50+IF($AJ$70,BQ50,0)-IF(BC50=0,1000000000,0) -> 11954027 | BB50: 9 | BC50: =X50 -> Royal Guard's | BD50: =BE50+BF50+BG50 -> 20 | BE50: =IF($AJ$57=1,BT50+CA50,IF($AJ$57=2,BT50,IF($AJ$57=3,CA50,""))) -> 3 | BF50: =IF($AJ$57=1,BU50+CB50,IF($AJ$57=2,BU50,IF($AJ$57=3,CB50,""))) -> 3 | BG50: =IF($AJ$57=1,BV50+CC50,IF($AJ$57=2,BV50,IF($AJ$57=3,CC50,""))) -> 14 | BH50: =IF($AJ$57=1,BW50+CD50,IF($AJ$57=2,BW50,IF($AJ$57=3,CD50,""))) -> 27 | BI50: =IF($AJ$57=1,BX50+CE50,IF($AJ$57=2,BX50,IF($AJ$57=3,CE50,""))) -> 73 | BJ50: =BH50-BI50 -> -46 | BK50: =IF(BI50=0,0,BH50/BI50) -> 0.36986301 | BL50: =IF($AJ$71,IF(ISNA(VLOOKUP(BC50,penalty.a,2,FALSE)),0,VLOOKUP(BC50,penalty.a,2,FALSE)),0) -> 0 | BM50: =$AJ$48*BE50+BF50-BL50 -> 12 | BN50: =BE50*2+BG50-BL50 -> 20 | BO50: =IF(BD50=0,BN50,IF(BN50=0,0,BN50/BD50/2)) -> 0.5 | BP50: 0.032 | BQ50: =IF(ISNA(VLOOKUP(BC50,eee.av,16,FALSE)),0,VLOOKUP(BC50,eee.av,16,FALSE)) -> 0 | BS50: =COUNTIF(lossh.av,CONCATENATE($BC50,"ooo")) -> 0 | BT50: =COUNTIF(winh.av,$BC50) -> 2 | BU50: =COUNTIF(drawh.av,$BC50) -> 2 | BV50: =COUNTIF(lossh.av,$BC50)+BS50 -> 6 | BW50: =SUMIF(home.av,$BC50,GAA.av) -> 15 | BX50: =SUMIF(home.av,$BC50,GBB.av) -> 26 | BZ50: =COUNTIF(lossa.av,CONCATENATE($BC50,"ooo")) -> 0 | CA50: =COUNTIF(wina.av,$BC50) -> 1 | CB50: =COUNTIF(drawa.av,$BC50) -> 1 | CC50: =COUNTIF(lossa.av,$BC50)+BZ50 -> 8 | CD50: =SUMIF(away.av,$BC50,GBB.av) -> 12 | CE50: =SUMIF(away.av,$BC50,GAA.av) -> 47 | CI50: =IF($AJ$44,COUNTIF($BO$68:$BO$91,CK50)*IF(OR(CK50=CK49,CK50=0),0,1),COUNTIF($BM$68:$BM$91,CJ50)*IF(OR(CJ50=CJ49,CJ50=0),0,1))+CL50/1000 -> 1.009 | CJ50: =LARGE($BM$68:$BM$91,CL50) -> 14 | CK50: =LARGE($BO$68:$BO$91,CL50) -> 0.575 | CL50: 9 | CO50: =IF(OR(CO41=$BM76,CO41=$BO76),$BC76,"") | CP50: =IF(CO50="","",$CL50) | CQ50: =IF(ISERR(LARGE(CP42:CP65,$CL50)),"",LARGE(CP42:CP65,$CL50)) | CR50: =IF(OR(CR41=$BM76,CR41=$BO76),$BC76,"") | CS50: =IF(CR50="","",$CL50) | CU50: =IF(OR(CU41=$BM76,CU41=$BO76),$BC76,"") | CV50: =IF(CU50="","",$CL50) | CX50: =IF(OR(CX41=$BM76,CX41=$BO76),$BC76,"") | CY50: =IF(CX50="","",$CL50) | DA50: =IF(OR(DA41=$BM76,DA41=$BO76),$BC76,"") | DB50: =IF(DA50="","",$CL50) | DD50: =IF(OR(DD41=$BM76,DD41=$BO76),$BC76,"") | DE50: =IF(DD50="","",$CL50) | DI50: =IF(CQ50="","",VLOOKUP(CQ50,xxx.aa1,4,FALSE)) | DJ50: =IF(OR(DI50="",DP50="",DI50=DP50),"",CONCATENATE(DI50,DP50)) | DK50: =IF($DJ50="","",CONCATENATE(VLOOKUP($DJ50,games.a,9,FALSE),VLOOKUP($DJ50,games.a,12,FALSE))) | DL50: =IF($DJ50="","",VLOOKUP($DJ50,games.a,10,FALSE)) | DM50: =IF($DJ50="","",VLOOKUP($DJ50,games.a,13,FALSE)) | DN50: =IF($DJ50="","",VLOOKUP($DJ50,games.a,6,FALSE)) | DO50: =IF($DJ50="","",VLOOKUP($DJ50,games.a,7,FALSE)) | DP50: =DP49 -> Vakana | DV50: =IF(AND($AJ$44,DI41,DP41<>2),DI50,"") | DW50: =IF(DV50="",-1,COUNTIF(xxgy.aa,DV50)) -> -1 | DX50: =IF($DV50="",0,COUNTIF(yygy.aa,$DV50)) -> 0 | DZ50: =IF($DV50="",0,1)*(SUMIF(yyo.aa,$DV50,yyl.aa)+SUMIF(yyi.aa,$DV50,yyk.aa)) -> 0 | EA50: =IF($DV50="",0,1)*(SUMIF(yyo.aa,$DV50,yyk.aa)+SUMIF(yyi.aa,$DV50,yyl.aa)) -> 0 | EC50: =IF(EA50=0,0,DZ50/EA50) -> 0 | EE50: =DW50*1000000+DX50*1000+EC50 -> -1000000 | EI50: =IF(OR(ISERR(EE50),ISNA(EE50),DW50<0),0,EE50) -> 0 | EJ50: =IF(EI50=0,0,RANK(EI50,EI42:EI51,1)) -> 0 | EK50: =EJ50*40000*IF(COUNTIF($FC$42:$FC$65,DV50)>0,0,1) -> 0 | EM50: =IF($AJ$54,COUNTIF(EE53:EE62,EN49)*IF(OR(EN50=0,EN50=EN49),0,1),COUNTIF(DW42:DW51,EO50)*IF(OR(EO50=EO49,EO50<0),0,1))+EP50/1000 -> 0.009 | EN50: 0 | EO50: =LARGE(DW42:DW51,EP50) -> -1 | EP50: 9 | ES50: =IF(DW50=ES41,DV50,IF(EE61=ES41,DV61,"")) | ET50: =IF(ES50="","",EP50) | EV50: =IF(DW50=EV41,DV50,IF(EE61=EV41,DV61,"")) | EW50: =IF(EV50="","",EP50) | EY50: =IF(DW50=EY41,DV50,IF(EE61=EY41,DV61,"")) | EZ50: =IF(EY50="","",EP50) | FI50: =CONCATENATE("rank.a",FH50) -> rank.a | FJ50: =AND($FK$42,FG50<>"",FH50<>"",IF(FH50=2,$AJ$75,$AJ$69)) -> FALSE | FK50: =IF(NOT(FJ50),"",VLOOKUP(FG50,INDIRECT(FI50),2,FALSE)) | FP50: =IF(OR(NOT($FK$42),FK52=""),"",FK52) | FQ50: =IF(OR(FP50="",FZ50="",FP50=FZ50),"",CONCATENATE(FP50,FZ50)) | FR50: =IF($FQ50="","",VLOOKUP($FQ50,games.a,9,FALSE)) | FS50: =IF($FQ50="","",VLOOKUP($FQ50,games.a,10,FALSE)) | FT50: =IF($FQ50="","",VLOOKUP($FQ50,games.a,11,FALSE)) | FU50: =IF($FQ50="","",VLOOKUP($FQ50,games.a,12,FALSE)) | FV50: =IF($FQ50="","",VLOOKUP($FQ50,games.a,13,FALSE)) | FW50: =IF($FQ50="","",VLOOKUP($FQ50,games.a,14,FALSE)) | FX50: =IF($FQ50="","",VLOOKUP($FQ50,games.a,6,FALSE)) | FY50: =IF($FQ50="","",VLOOKUP($FQ50,games.a,7,FALSE)) | FZ50: =FZ49
C51: =IF(OR(NOT($AJ$72),D51="►"),"",TEXT(ABS(VLOOKUP(AN51,$AN$146:$AQ$169,3,FALSE)-VLOOKUP(AN51,$AN$146:$AQ$169,4,FALSE)),"0")) | D51: =IF($AJ$72,VLOOKUP(AN51,$AN$146:$AO$169,2,FALSE),"") -> ► | E51: =CONCATENATE(AO51,". ",AN51) -> 10. Bőrdíszmű | F51: =VLOOKUP($AN51,table.n.av1,2,FALSE) -> 20 | G51: =IF(VLOOKUP($AN51,table.n.av1,3,FALSE)=0,"–",VLOOKUP($AN51,table.n.av1,3,FALSE)) -> 4 | H51: =IF(VLOOKUP($AN51,table.n.av1,4,FALSE)=0,"–",VLOOKUP($AN51,table.n.av1,4,FALSE)) -> 1 | I51: =IF(VLOOKUP($AN51,table.n.av1,5,FALSE)=0,"–",VLOOKUP($AN51,table.n.av1,5,FALSE)) -> 15 | J51: =CONCATENATE(AP51,"–",AQ51) -> 27–84 | K51: =IF(VLOOKUP($AN51,table.n.av1,8,FALSE)=0,0,IF(VLOOKUP($AN51,table.n.av1,8,FALSE)>0,CONCATENATE("+",VLOOKUP($AN51,table.n.av1,8,FALSE)," "),CONCATENATE("–",VLOOKUP($AN51,table.n.av1,8,FALSE)*-1," "))) -> –57 | M51: =VLOOKUP($AN51,table.n.av1,IF($AJ$44,12,11),FALSE) -> 13 | X51: =Adatok!A10 -> Vakana | AB51: =IF(X51=0,0,BP51) -> 0.031 | AC51: =X51 -> Vakana | AD51: =LARGE($AB$42:$AB$76,BB51) -> 0.031 | AE51: =IF(AD51=0,0,VLOOKUP(AD51,$AB$42:$AC$76,2,FALSE)) -> Vakana | AI51: Rangsor sima: | AJ51: =AND(NOT(AJ52),NOT(AJ53),NOT(AJ54)) -> FALSE | AN51: =IF(VLOOKUP($AY51,INDIRECT(CONCATENATE($AJ$59,1)),3,FALSE)=0,"–",VLOOKUP($AY51,INDIRECT(CONCATENATE($AJ$59,1)),3,FALSE)) -> Bőrdíszmű | AO51: =AZ51 -> 10 | AP51: =VLOOKUP($AN51,table.n.av1,6,FALSE) -> 27 | AQ51: =VLOOKUP($AN51,table.n.av1,7,FALSE) -> 84 | AY51: =LARGE(IF($AJ$58=1,$BA$42:$BA$65,$BA$119:$BA$142),BB51) -> 12943027 | AZ51: =IF(BC51=0,"",IF(ABS(AY50-AY51)<0.03,AZ50,BB51)) -> 10 | BA51: =IF($AJ$44,BO51*100,IF($AJ$43,BM51*10,BM51))*1000000+IF($AJ$52,BE51*10000,0)+IF($AJ$44,BK51,BJ51)*1000/IF(OR($AJ$43,$AJ$52),10,1)+IF($AJ$44,0,IF($AJ$43,BH51/10,BH51))+BP51+IF($AJ$70,BQ51,0)-IF(BC51=0,1000000000,0) -> 20329034 | BB51: 10 | BC51: =X51 -> Vakana | BD51: =BE51+BF51+BG51 -> 20 | BE51: =IF($AJ$57=1,BT51+CA51,IF($AJ$57=2,BT51,IF($AJ$57=3,CA51,""))) -> 6 | BF51: =IF($AJ$57=1,BU51+CB51,IF($AJ$57=2,BU51,IF($AJ$57=3,CB51,""))) -> 2 | BG51: =IF($AJ$57=1,BV51+CC51,IF($AJ$57=2,BV51,IF($AJ$57=3,CC51,""))) -> 12 | BH51: =IF($AJ$57=1,BW51+CD51,IF($AJ$57=2,BW51,IF($AJ$57=3,CD51,""))) -> 34 | BI51: =IF($AJ$57=1,BX51+CE51,IF($AJ$57=2,BX51,IF($AJ$57=3,CE51,""))) -> 65 | BJ51: =BH51-BI51 -> -31 | BK51: =IF(BI51=0,0,BH51/BI51) -> 0.52307692 | BL51: =IF($AJ$71,IF(ISNA(VLOOKUP(BC51,penalty.a,2,FALSE)),0,VLOOKUP(BC51,penalty.a,2,FALSE)),0) -> 0 | BM51: =$AJ$48*BE51+BF51-BL51 -> 20 | BN51: =BE51*2+BG51-BL51 -> 24 | BO51: =IF(BD51=0,BN51,IF(BN51=0,0,BN51/BD51/2)) -> 0.6 | BP51: 0.031 | BQ51: =IF(ISNA(VLOOKUP(BC51,eee.av,16,FALSE)),0,VLOOKUP(BC51,eee.av,16,FALSE)) -> 360000 | BS51: =COUNTIF(lossh.av,CONCATENATE($BC51,"ooo")) -> 0 | BT51: =COUNTIF(winh.av,$BC51) -> 3 | BU51: =COUNTIF(drawh.av,$BC51) -> 0 | BV51: =COUNTIF(lossh.av,$BC51)+BS51 -> 7 | BW51: =SUMIF(home.av,$BC51,GAA.av) -> 14 | BX51: =SUMIF(home.av,$BC51,GBB.av) -> 34 | BZ51: =COUNTIF(lossa.av,CONCATENATE($BC51,"ooo")) -> 0 | CA51: =COUNTIF(wina.av,$BC51) -> 3 | CB51: =COUNTIF(drawa.av,$BC51) -> 2 | CC51: =COUNTIF(lossa.av,$BC51)+BZ51 -> 5 | CD51: =SUMIF(away.av,$BC51,GBB.av) -> 20 | CE51: =SUMIF(away.av,$BC51,GAA.av) -> 31 | CI51: =IF($AJ$44,COUNTIF($BO$68:$BO$91,CK51)*IF(OR(CK51=CK50,CK51=0),0,1),COUNTIF($BM$68:$BM$91,CJ51)*IF(OR(CJ51=CJ50,CJ51=0),0,1))+CL51/1000 -> 1.01 | CJ51: =LARGE($BM$68:$BM$91,CL51) -> 13 | CK51: =LARGE($BO$68:$BO$91,CL51) -> 0.55 | CL51: 10 | CO51: =IF(OR(CO41=$BM77,CO41=$BO77),$BC77,"") -> Vakana | CP51: =IF(CO51="","",$CL51) -> 10 | CQ51: =IF(ISERR(LARGE(CP42:CP65,$CL51)),"",LARGE(CP42:CP65,$CL51)) | CR51: =IF(OR(CR41=$BM77,CR41=$BO77),$BC77,"") | CS51: =IF(CR51="","",$CL51) | CU51: =IF(OR(CU41=$BM77,CU41=$BO77),$BC77,"") | CV51: =IF(CU51="","",$CL51) | CX51: =IF(OR(CX41=$BM77,CX41=$BO77),$BC77,"") | CY51: =IF(CX51="","",$CL51) | DA51: =IF(OR(DA41=$BM77,DA41=$BO77),$BC77,"") | DB51: =IF(DA51="","",$CL51) | DD51: =IF(OR(DD41=$BM77,DD41=$BO77),$BC77,"") | DE51: =IF(DD51="","",$CL51) | DI51: =IF(CQ51="","",VLOOKUP(CQ51,xxx.aa1,4,FALSE)) | DJ51: =IF(OR(DI51="",DP51="",DI51=DP51),"",CONCATENATE(DI51,DP51)) | DK51: =IF($DJ51="","",CONCATENATE(VLOOKUP($DJ51,games.a,9,FALSE),VLOOKUP($DJ51,games.a,12,FALSE))) | DL51: =IF($DJ51="","",VLOOKUP($DJ51,games.a,10,FALSE)) | DM51: =IF($DJ51="","",VLOOKUP($DJ51,games.a,13,FALSE)) | DN51: =IF($DJ51="","",VLOOKUP($DJ51,games.a,6,FALSE)) | DO51: =IF($DJ51="","",VLOOKUP($DJ51,games.a,7,FALSE)) | DP51: =DP50 -> Vakana | DV51: =IF(AND($AJ$44,DI41,DP41<>2),DI51,"") | DW51: =IF(DV51="",-1,COUNTIF(xxgy.aa,DV51)) -> -1 | DX51: =IF($DV51="",0,COUNTIF(yygy.aa,$DV51)) -> 0 | DZ51: =IF($DV51="",0,1)*(SUMIF(yyo.aa,$DV51,yyl.aa)+SUMIF(yyi.aa,$DV51,yyk.aa)) -> 0 | EA51: =IF($DV51="",0,1)*(SUMIF(yyo.aa,$DV51,yyk.aa)+SUMIF(yyi.aa,$DV51,yyl.aa)) -> 0 | EC51: =IF(EA51=0,0,DZ51/EA51) -> 0 | EE51: =DW51*1000000+DX51*1000+EC51 -> -1000000 | EI51: =IF(OR(ISERR(EE51),ISNA(EE51),DW51<0),0,EE51) -> 0 | EJ51: =IF(EI51=0,0,RANK(EI51,EI42:EI51,1)) -> 0 | EK51: =EJ51*40000*IF(COUNTIF($FC$42:$FC$65,DV51)>0,0,1) -> 0 | EM51: =IF($AJ$54,COUNTIF(EE53:EE62,EN50)*IF(OR(EN51=0,EN51=EN50),0,1),COUNTIF(DW42:DW51,EO51)*IF(OR(EO51=EO50,EO51<0),0,1))+EP51/1000 -> 0.01 | EN51: 0 | EO51: =LARGE(DW42:DW51,EP51) -> -1 | EP51: 10 | ES51: =IF(DW51=ES41,DV51,IF(EE62=ES41,DV62,"")) | ET51: =IF(ES51="","",EP51) | EV51: =IF(DW51=EV41,DV51,IF(EE62=EV41,DV62,"")) | EW51: =IF(EV51="","",EP51) | EY51: =IF(DW51=EY41,DV51,IF(EE62=EY41,DV62,"")) | EZ51: =IF(EY51="","",EP51) | FI51: =CONCATENATE("rank.a",FH51) -> rank.a | FJ51: =AND($FK$42,FG51<>"",FH51<>"",IF(FH51=2,$AJ$75,$AJ$69)) -> FALSE | FK51: =IF(NOT(FJ51),"",VLOOKUP(FG51,INDIRECT(FI51),2,FALSE)) | FP51: =IF(OR(NOT($FK$42),FK53=""),"",FK53) | FQ51: =IF(OR(FP51="",FZ51="",FP51=FZ51),"",CONCATENATE(FP51,FZ51)) | FR51: =IF($FQ51="","",VLOOKUP($FQ51,games.a,9,FALSE)) | FS51: =IF($FQ51="","",VLOOKUP($FQ51,games.a,10,FALSE)) | FT51: =IF($FQ51="","",VLOOKUP($FQ51,games.a,11,FALSE)) | FU51: =IF($FQ51="","",VLOOKUP($FQ51,games.a,12,FALSE)) | FV51: =IF($FQ51="","",VLOOKUP($FQ51,games.a,13,FALSE)) | FW51: =IF($FQ51="","",VLOOKUP($FQ51,games.a,14,FALSE)) | FX51: =IF($FQ51="","",VLOOKUP($FQ51,games.a,6,FALSE)) | FY51: =IF($FQ51="","",VLOOKUP($FQ51,games.a,7,FALSE)) | FZ51: =FZ50
C52: =IF(OR(NOT($AJ$72),D52="►"),"",TEXT(ABS(VLOOKUP(AN52,$AN$146:$AQ$169,3,FALSE)-VLOOKUP(AN52,$AN$146:$AQ$169,4,FALSE)),"0")) | D52: =IF($AJ$72,VLOOKUP(AN52,$AN$146:$AO$169,2,FALSE),"") -> ► | E52: =CONCATENATE(AO52,". ",AN52) -> 11. Royal Guard's | F52: =VLOOKUP($AN52,table.n.av1,2,FALSE) -> 20 | G52: =IF(VLOOKUP($AN52,table.n.av1,3,FALSE)=0,"–",VLOOKUP($AN52,table.n.av1,3,FALSE)) -> 3 | H52: =IF(VLOOKUP($AN52,table.n.av1,4,FALSE)=0,"–",VLOOKUP($AN52,table.n.av1,4,FALSE)) -> 3 | I52: =IF(VLOOKUP($AN52,table.n.av1,5,FALSE)=0,"–",VLOOKUP($AN52,table.n.av1,5,FALSE)) -> 14 | J52: =CONCATENATE(AP52,"–",AQ52) -> 27–73 | K52: =IF(VLOOKUP($AN52,table.n.av1,8,FALSE)=0,0,IF(VLOOKUP($AN52,table.n.av1,8,FALSE)>0,CONCATENATE("+",VLOOKUP($AN52,table.n.av1,8,FALSE)," "),CONCATENATE("–",VLOOKUP($AN52,table.n.av1,8,FALSE)*-1," "))) -> –46 | M52: =VLOOKUP($AN52,table.n.av1,IF($AJ$44,12,11),FALSE) -> 12 | O52: Részleges tabella megtekintése a lőtt illetve kapott gólok szempontjából. (Jelölje ki a kívánt szempontot.) | X52: =Adatok!A11 -> Zrínyigyöngye | AB52: =IF(X52=0,0,BP52) -> 0.03 | AC52: =X52 -> Zrínyigyöngye | AD52: =LARGE($AB$42:$AB$76,BB52) -> 0.03 | AE52: =IF(AD52=0,0,VLOOKUP(AD52,$AB$42:$AC$76,2,FALSE)) -> Zrínyigyöngye | AI52: Rangsor több győzelem: | AJ52: FALSE | AN52: =IF(VLOOKUP($AY52,INDIRECT(CONCATENATE($AJ$59,1)),3,FALSE)=0,"–",VLOOKUP($AY52,INDIRECT(CONCATENATE($AJ$59,1)),3,FALSE)) -> Royal Guard's | AO52: =AZ52 -> 11 | AP52: =VLOOKUP($AN52,table.n.av1,6,FALSE) -> 27 | AQ52: =VLOOKUP($AN52,table.n.av1,7,FALSE) -> 73 | AY52: =LARGE(IF($AJ$58=1,$BA$42:$BA$65,$BA$119:$BA$142),BB52) -> 11954027 | AZ52: =IF(BC52=0,"",IF(ABS(AY51-AY52)<0.03,AZ51,BB52)) -> 11 | BA52: =IF($AJ$44,BO52*100,IF($AJ$43,BM52*10,BM52))*1000000+IF($AJ$52,BE52*10000,0)+IF($AJ$44,BK52,BJ52)*1000/IF(OR($AJ$43,$AJ$52),10,1)+IF($AJ$44,0,IF($AJ$43,BH52/10,BH52))+BP52+IF($AJ$70,BQ52,0)-IF(BC52=0,1000000000,0) -> 41032073 | BB52: 11 | BC52: =X52 -> Zrínyigyöngye | BD52: =BE52+BF52+BG52 -> 20 | BE52: =IF($AJ$57=1,BT52+CA52,IF($AJ$57=2,BT52,IF($AJ$57=3,CA52,""))) -> 13 | BF52: =IF($AJ$57=1,BU52+CB52,IF($AJ$57=2,BU52,IF($AJ$57=3,CB52,""))) -> 2 | BG52: =IF($AJ$57=1,BV52+CC52,IF($AJ$57=2,BV52,IF($AJ$57=3,CC52,""))) -> 5 | BH52: =IF($AJ$57=1,BW52+CD52,IF($AJ$57=2,BW52,IF($AJ$57=3,CD52,""))) -> 73 | BI52: =IF($AJ$57=1,BX52+CE52,IF($AJ$57=2,BX52,IF($AJ$57=3,CE52,""))) -> 41 | BJ52: =BH52-BI52 -> 32 | BK52: =IF(BI52=0,0,BH52/BI52) -> 1.7804878 | BL52: =IF($AJ$71,IF(ISNA(VLOOKUP(BC52,penalty.a,2,FALSE)),0,VLOOKUP(BC52,penalty.a,2,FALSE)),0) -> 0 | BM52: =$AJ$48*BE52+BF52-BL52 -> 41 | BN52: =BE52*2+BG52-BL52 -> 31 | BO52: =IF(BD52=0,BN52,IF(BN52=0,0,BN52/BD52/2)) -> 0.775 | BP52: 0.03 | BQ52: =IF(ISNA(VLOOKUP(BC52,eee.av,16,FALSE)),0,VLOOKUP(BC52,eee.av,16,FALSE)) -> 0 | BS52: =COUNTIF(lossh.av,CONCATENATE($BC52,"ooo")) -> 0 | BT52: =COUNTIF(winh.av,$BC52) -> 7 | BU52: =COUNTIF(drawh.av,$BC52) -> 1 | BV52: =COUNTIF(lossh.av,$BC52)+BS52 -> 2 | BW52: =SUMIF(home.av,$BC52,GAA.av) -> 34 | BX52: =SUMIF(home.av,$BC52,GBB.av) -> 19 | BZ52: =COUNTIF(lossa.av,CONCATENATE($BC52,"ooo")) -> 0 | CA52: =COUNTIF(wina.av,$BC52) -> 6 | CB52: =COUNTIF(drawa.av,$BC52) -> 1 | CC52: =COUNTIF(lossa.av,$BC52)+BZ52 -> 3 | CD52: =SUMIF(away.av,$BC52,GBB.av) -> 39 | CE52: =SUMIF(away.av,$BC52,GAA.av) -> 22 | CI52: =IF($AJ$44,COUNTIF($BO$68:$BO$91,CK52)*IF(OR(CK52=CK51,CK52=0),0,1),COUNTIF($BM$68:$BM$91,CJ52)*IF(OR(CJ52=CJ51,CJ52=0),0,1))+CL52/1000 -> 1.011 | CJ52: =LARGE($BM$68:$BM$91,CL52) -> 12 | CK52: =LARGE($BO$68:$BO$91,CL52) -> 0.5 | CL52: 11 | CO52: =IF(OR(CO41=$BM78,CO41=$BO78),$BC78,"") | CP52: =IF(CO52="","",$CL52) | CR52: =IF(OR(CR41=$BM78,CR41=$BO78),$BC78,"") | CS52: =IF(CR52="","",$CL52) | CU52: =IF(OR(CU41=$BM78,CU41=$BO78),$BC78,"") | CV52: =IF(CU52="","",$CL52) | CX52: =IF(OR(CX41=$BM78,CX41=$BO78),$BC78,"") | CY52: =IF(CX52="","",$CL52) | DA52: =IF(OR(DA41=$BM78,DA41=$BO78),$BC78,"") | DB52: =IF(DA52="","",$CL52) | DD52: =IF(OR(DD41=$BM78,DD41=$BO78),$BC78,"") | DE52: =IF(DD52="","",$CL52) | DJ52: g. | DK52: w. | DL52: draw | DN52: F | DO52: A | DV52: normál | DX52: gy | DY52: d | DZ52: l | EA52: k | EB52: Gk | EC52: PA | ED52: P | EE52: score | EF52: l | EG52: k | EH52: Gk | EI52: finom | EJ52: sorr | EK52: eee | FI52: =CONCATENATE("rank.a",FH52) -> rank.a | FJ52: =AND($FK$42,FG52<>"",FH52<>"",IF(FH52=2,$AJ$75,$AJ$69)) -> FALSE | FK52: =IF(NOT(FJ52),"",VLOOKUP(FG52,INDIRECT(FI52),2,FALSE)) | FQ52: g. | FR52: wh | FS52: dh | FT52: lh | FU52: wa | FV52: da | FW52: la | FX52: F | FY52: A
X53: =Adatok!A12 -> 0 | AB53: =IF(X53=0,0,BP53) -> 0 | AC53: =X53 -> 0 | AD53: =LARGE($AB$42:$AB$76,BB53) -> 0 | AE53: =IF(AD53=0,0,VLOOKUP(AD53,$AB$42:$AC$76,2,FALSE)) -> 0 | AI53: Rangsor ee eredmény: | AJ53: TRUE | AN53: =IF(VLOOKUP($AY53,INDIRECT(CONCATENATE($AJ$59,1)),3,FALSE)=0,"–",VLOOKUP($AY53,INDIRECT(CONCATENATE($AJ$59,1)),3,FALSE)) -> – | AO53: =AZ53 | AP53: =VLOOKUP($AN53,table.n.av1,6,FALSE) -> #N/A | AQ53: =VLOOKUP($AN53,table.n.av1,7,FALSE) -> #N/A | AY53: =LARGE(IF($AJ$58=1,$BA$42:$BA$65,$BA$119:$BA$142),BB53) -> -1e+09 | AZ53: =IF(BC53=0,"",IF(ABS(AY52-AY53)<0.03,AZ52,BB53)) | BA53: =IF($AJ$44,BO53*100,IF($AJ$43,BM53*10,BM53))*1000000+IF($AJ$52,BE53*10000,0)+IF($AJ$44,BK53,BJ53)*1000/IF(OR($AJ$43,$AJ$52),10,1)+IF($AJ$44,0,IF($AJ$43,BH53/10,BH53))+BP53+IF($AJ$70,BQ53,0)-IF(BC53=0,1000000000,0) -> -1e+09 | BB53: 12 | BC53: =X53 -> 0 | BD53: =BE53+BF53+BG53 -> 0 | BE53: =IF($AJ$57=1,BT53+CA53,IF($AJ$57=2,BT53,IF($AJ$57=3,CA53,""))) -> 0 | BF53: =IF($AJ$57=1,BU53+CB53,IF($AJ$57=2,BU53,IF($AJ$57=3,CB53,""))) -> 0 | BG53: =IF($AJ$57=1,BV53+CC53,IF($AJ$57=2,BV53,IF($AJ$57=3,CC53,""))) -> 0 | BH53: =IF($AJ$57=1,BW53+CD53,IF($AJ$57=2,BW53,IF($AJ$57=3,CD53,""))) -> 0 | BI53: =IF($AJ$57=1,BX53+CE53,IF($AJ$57=2,BX53,IF($AJ$57=3,CE53,""))) -> 0 | BJ53: =BH53-BI53 -> 0 | BK53: =IF(BI53=0,0,BH53/BI53) -> 0 | BL53: =IF($AJ$71,IF(ISNA(VLOOKUP(BC53,penalty.a,2,FALSE)),0,VLOOKUP(BC53,penalty.a,2,FALSE)),0) -> 0 | BM53: =$AJ$48*BE53+BF53-BL53 -> 0 | BN53: =BE53*2+BG53-BL53 -> 0 | BO53: =IF(BD53=0,BN53,IF(BN53=0,0,BN53/BD53/2)) -> 0 | BP53: 0.029 | BQ53: =IF(ISNA(VLOOKUP(BC53,eee.av,16,FALSE)),0,VLOOKUP(BC53,eee.av,16,FALSE)) -> 0 | BS53: =COUNTIF(lossh.av,CONCATENATE($BC53,"ooo")) -> 0 | BT53: =COUNTIF(winh.av,$BC53) -> 0 | BU53: =COUNTIF(drawh.av,$BC53) -> 0 | BV53: =COUNTIF(lossh.av,$BC53)+BS53 -> 0 | BW53: =SUMIF(home.av,$BC53,GAA.av) -> 0 | BX53: =SUMIF(home.av,$BC53,GBB.av) -> 0 | BZ53: =COUNTIF(lossa.av,CONCATENATE($BC53,"ooo")) -> 0 | CA53: =COUNTIF(wina.av,$BC53) -> 0 | CB53: =COUNTIF(drawa.av,$BC53) -> 0 | CC53: =COUNTIF(lossa.av,$BC53)+BZ53 -> 0 | CD53: =SUMIF(away.av,$BC53,GBB.av) -> 0 | CE53: =SUMIF(away.av,$BC53,GAA.av) -> 0 | CI53: =IF($AJ$44,COUNTIF($BO$68:$BO$91,CK53)*IF(OR(CK53=CK52,CK53=0),0,1),COUNTIF($BM$68:$BM$91,CJ53)*IF(OR(CJ53=CJ52,CJ53=0),0,1))+CL53/1000 -> 0.012 | CJ53: =LARGE($BM$68:$BM$91,CL53) -> 0 | CK53: =LARGE($BO$68:$BO$91,CL53) -> 0 | CL53: 12 | CO53: =IF(OR(CO41=$BM79,CO41=$BO79),$BC79,"") | CP53: =IF(CO53="","",$CL53) | CR53: =IF(OR(CR41=$BM79,CR41=$BO79),$BC79,"") | CS53: =IF(CR53="","",$CL53) | CU53: =IF(OR(CU41=$BM79,CU41=$BO79),$BC79,"") | CV53: =IF(CU53="","",$CL53) | CX53: =IF(OR(CX41=$BM79,CX41=$BO79),$BC79,"") | CY53: =IF(CX53="","",$CL53) | DA53: =IF(OR(DA41=$BM79,DA41=$BO79),$BC79,"") | DB53: =IF(DA53="","",$CL53) | DD53: =IF(OR(DD41=$BM79,DD41=$BO79),$BC79,"") | DE53: =IF(DD53="","",$CL53) | DI53: =DI42 -> Vakana | DJ53: =IF(OR(DI53="",DP53="",DI53=DP53),"",CONCATENATE(DI53,DP53)) -> VakanaBakafogó-Honvéd-Sashegy SE | DK53: =IF($DJ53="","",CONCATENATE(VLOOKUP($DJ53,games.a,9,FALSE),VLOOKUP($DJ53,games.a,12,FALSE))) -> Bakafogó-Honvéd-Sashegy SE | DL53: =IF($DJ53="","",VLOOKUP($DJ53,games.a,10,FALSE)) | DM53: =IF($DJ53="","",VLOOKUP($DJ53,games.a,13,FALSE)) | DN53: =IF($DJ53="","",VLOOKUP($DJ53,games.a,6,FALSE)) -> 0 | DO53: =IF($DJ53="","",VLOOKUP($DJ53,games.a,7,FALSE)) -> 1 | DP53: =DI43 -> Bakafogó-Honvéd-Sashegy SE | DV53: =IF(OR(NOT($AJ$44),AND(DI41,DV42="")),DI42,"") -> Vakana | DX53: =IF($DV53="",0,COUNTIF(xxgy.aa,$DV53)) -> 0 | DY53: =IF($DV53="",0,COUNTIF(xxd.aa,$DV53)) -> 1 | DZ53: =IF($DV53="",0,1)*(SUMIF(xxo.aa,$DV53,xxl.aa)+SUMIF(xxi.aa,$DV53,xxk.aa)) -> 4 | EA53: =IF($DV53="",0,1)*(SUMIF(xxo.aa,$DV53,xxk.aa)+SUMIF(xxi.aa,$DV53,xxl.aa)) -> 5 | EB53: =DZ53-EA53 -> -1 | EC53: =IF(EA53=0,0,DZ53/EA53) -> 0.8 | ED53: =$AJ$48*DX53+IF($AJ$44,0,1)*DY53 -> 1 | EE53: =ED53*1000000+IF($AJ$44,EC53,EB53)*1000*0 -> 1000000 | EF53: =IF($DV53="",0,1)*(SUMIF(yyo.aa,$DV53,yyl.aa)+SUMIF(yyi.aa,$DV53,yyk.aa)) -> 0 | EG53: =IF($DV53="",0,1)*(SUMIF(yyo.aa,$DV53,yyk.aa)+SUMIF(yyi.aa,$DV53,yyl.aa)) -> 0 | EH53: =EF53-EG53 -> 0 | EI53: =IF(OR(ISERR(EE53),ISNA(EE53)),0,EE53)+IF($AJ$54,EH53,0) -> 1000000 | EJ53: =IF(EI53=0,0,RANK(EI53,EI53:EI62,1)) -> 9 | EK53: =EJ53*40000*IF(COUNTIF($FC$42:$FC$65,DV53)>0,0,1) -> 360000 | EN53: =NAGY(EE53:EE62;EP42) | ES53: g. | ET53: w. | EW53: F | EX53: A | EY53: =COUNT(EU42:EU46) -> 0 | FI53: =CONCATENATE("rank.a",FH53) -> rank.a | FJ53: =AND($FK$42,FG53<>"",FH53<>"",IF(FH53=2,$AJ$75,$AJ$69)) -> FALSE | FK53: =IF(NOT(FJ53),"",VLOOKUP(FG53,INDIRECT(FI53),2,FALSE)) | FP53: =FP42 | FQ53: =IF(OR(FP53="",FZ53="",FP53=FZ53),"",CONCATENATE(FP53,FZ53)) | FR53: =IF($FQ53="","",VLOOKUP($FQ53,games.a,9,FALSE)) | FS53: =IF($FQ53="","",VLOOKUP($FQ53,games.a,10,FALSE)) | FT53: =IF($FQ53="","",VLOOKUP($FQ53,games.a,11,FALSE)) | FU53: =IF($FQ53="","",VLOOKUP($FQ53,games.a,12,FALSE)) | FV53: =IF($FQ53="","",VLOOKUP($FQ53,games.a,13,FALSE)) | FW53: =IF($FQ53="","",VLOOKUP($FQ53,games.a,14,FALSE)) | FX53: =IF($FQ53="","",VLOOKUP($FQ53,games.a,6,FALSE)) | FY53: =IF($FQ53="","",VLOOKUP($FQ53,games.a,7,FALSE)) | FZ53: =FP43
E54: KIVÁLASZTOTT JÁTÉKNAP EREDMÉNYEI | F54: =ASZ!AS105 -> 1000 | G54: =IF(F54="","",VLOOKUP(F54,ASZ!$AQ$59:$AR$104,2,FALSE)) -> #N/A | X54: =Adatok!A13 -> 0 | AB54: =IF(X54=0,0,BP54) -> 0 | AC54: =X54 -> 0 | AD54: =LARGE($AB$42:$AB$76,BB54) -> 0 | AE54: =IF(AD54=0,0,VLOOKUP(AD54,$AB$42:$AC$76,2,FALSE)) -> 0 | AI54: Rangsor olasz/spanyol ee eredmény: | AJ54: FALSE | AN54: =IF(VLOOKUP($AY54,INDIRECT(CONCATENATE($AJ$59,1)),3,FALSE)=0,"–",VLOOKUP($AY54,INDIRECT(CONCATENATE($AJ$59,1)),3,FALSE)) -> – | AO54: =AZ54 | AP54: =VLOOKUP($AN54,table.n.av1,6,FALSE) -> #N/A | AQ54: =VLOOKUP($AN54,table.n.av1,7,FALSE) -> #N/A | AY54: =LARGE(IF($AJ$58=1,$BA$42:$BA$65,$BA$119:$BA$142),BB54) -> -1e+09 | AZ54: =IF(BC54=0,"",IF(ABS(AY53-AY54)<0.03,AZ53,BB54)) | BA54: =IF($AJ$44,BO54*100,IF($AJ$43,BM54*10,BM54))*1000000+IF($AJ$52,BE54*10000,0)+IF($AJ$44,BK54,BJ54)*1000/IF(OR($AJ$43,$AJ$52),10,1)+IF($AJ$44,0,IF($AJ$43,BH54/10,BH54))+BP54+IF($AJ$70,BQ54,0)-IF(BC54=0,1000000000,0) -> -1e+09 | BB54: 13 | BC54: =X54 -> 0 | BD54: =BE54+BF54+BG54 -> 0 | BE54: =IF($AJ$57=1,BT54+CA54,IF($AJ$57=2,BT54,IF($AJ$57=3,CA54,""))) -> 0 | BF54: =IF($AJ$57=1,BU54+CB54,IF($AJ$57=2,BU54,IF($AJ$57=3,CB54,""))) -> 0 | BG54: =IF($AJ$57=1,BV54+CC54,IF($AJ$57=2,BV54,IF($AJ$57=3,CC54,""))) -> 0 | BH54: =IF($AJ$57=1,BW54+CD54,IF($AJ$57=2,BW54,IF($AJ$57=3,CD54,""))) -> 0 | BI54: =IF($AJ$57=1,BX54+CE54,IF($AJ$57=2,BX54,IF($AJ$57=3,CE54,""))) -> 0 | BJ54: =BH54-BI54 -> 0 | BK54: =IF(BI54=0,0,BH54/BI54) -> 0 | BL54: =IF($AJ$71,IF(ISNA(VLOOKUP(BC54,penalty.a,2,FALSE)),0,VLOOKUP(BC54,penalty.a,2,FALSE)),0) -> 0 | BM54: =$AJ$48*BE54+BF54-BL54 -> 0 | BN54: =BE54*2+BG54-BL54 -> 0 | BO54: =IF(BD54=0,BN54,IF(BN54=0,0,BN54/BD54/2)) -> 0 | BP54: 0.028 | BQ54: =IF(ISNA(VLOOKUP(BC54,eee.av,16,FALSE)),0,VLOOKUP(BC54,eee.av,16,FALSE)) -> 0 | BS54: =COUNTIF(lossh.av,CONCATENATE($BC54,"ooo")) -> 0 | BT54: =COUNTIF(winh.av,$BC54) -> 0 | BU54: =COUNTIF(drawh.av,$BC54) -> 0 | BV54: =COUNTIF(lossh.av,$BC54)+BS54 -> 0 | BW54: =SUMIF(home.av,$BC54,GAA.av) -> 0 | BX54: =SUMIF(home.av,$BC54,GBB.av) -> 0 | BZ54: =COUNTIF(lossa.av,CONCATENATE($BC54,"ooo")) -> 0 | CA54: =COUNTIF(wina.av,$BC54) -> 0 | CB54: =COUNTIF(drawa.av,$BC54) -> 0 | CC54: =COUNTIF(lossa.av,$BC54)+BZ54 -> 0 | CD54: =SUMIF(away.av,$BC54,GBB.av) -> 0 | CE54: =SUMIF(away.av,$BC54,GAA.av) -> 0 | CI54: =IF($AJ$44,COUNTIF($BO$68:$BO$91,CK54)*IF(OR(CK54=CK53,CK54=0),0,1),COUNTIF($BM$68:$BM$91,CJ54)*IF(OR(CJ54=CJ53,CJ54=0),0,1))+CL54/1000 -> 0.013 | CJ54: =LARGE($BM$68:$BM$91,CL54) -> 0 | CK54: =LARGE($BO$68:$BO$91,CL54) -> 0 | CL54: 13 | CO54: =IF(OR(CO41=$BM80,CO41=$BO80),$BC80,"") | CP54: =IF(CO54="","",$CL54) | CR54: =IF(OR(CR41=$BM80,CR41=$BO80),$BC80,"") | CS54: =IF(CR54="","",$CL54) | CU54: =IF(OR(CU41=$BM80,CU41=$BO80),$BC80,"") | CV54: =IF(CU54="","",$CL54) | CX54: =IF(OR(CX41=$BM80,CX41=$BO80),$BC80,"") | CY54: =IF(CX54="","",$CL54) | DA54: =IF(OR(DA41=$BM80,DA41=$BO80),$BC80,"") | DB54: =IF(DA54="","",$CL54) | DD54: =IF(OR(DD41=$BM80,DD41=$BO80),$BC80,"") | DE54: =IF(DD54="","",$CL54) | DI54: =DI43 -> Bakafogó-Honvéd-Sashegy SE | DJ54: =IF(OR(DI54="",DP54="",DI54=DP54),"",CONCATENATE(DI54,DP54)) | DK54: =IF($DJ54="","",CONCATENATE(VLOOKUP($DJ54,games.a,9,FALSE),VLOOKUP($DJ54,games.a,12,FALSE))) | DL54: =IF($DJ54="","",VLOOKUP($DJ54,games.a,10,FALSE)) | DM54: =IF($DJ54="","",VLOOKUP($DJ54,games.a,13,FALSE)) | DN54: =IF($DJ54="","",VLOOKUP($DJ54,games.a,6,FALSE)) | DO54: =IF($DJ54="","",VLOOKUP($DJ54,games.a,7,FALSE)) | DP54: =DP53 -> Bakafogó-Honvéd-Sashegy SE | DV54: =IF(OR(NOT($AJ$44),AND(DI41,DV43="")),DI43,"") -> Bakafogó-Honvéd-Sashegy SE | DX54: =IF($DV54="",0,COUNTIF(xxgy.aa,$DV54)) -> 1 | DY54: =IF($DV54="",0,COUNTIF(xxd.aa,$DV54)) -> 1 | DZ54: =IF($DV54="",0,1)*(SUMIF(xxo.aa,$DV54,xxl.aa)+SUMIF(xxi.aa,$DV54,xxk.aa)) -> 5 | EA54: =IF($DV54="",0,1)*(SUMIF(xxo.aa,$DV54,xxk.aa)+SUMIF(xxi.aa,$DV54,xxl.aa)) -> 4 | EB54: =DZ54-EA54 -> 1 | EC54: =IF(EA54=0,0,DZ54/EA54) -> 1.25 | ED54: =$AJ$48*DX54+IF($AJ$44,0,1)*DY54 -> 4 | EE54: =ED54*1000000+IF($AJ$44,EC54,EB54)*1000*0 -> 4000000 | EF54: =IF($DV54="",0,1)*(SUMIF(yyo.aa,$DV54,yyl.aa)+SUMIF(yyi.aa,$DV54,yyk.aa)) -> 0 | EG54: =IF($DV54="",0,1)*(SUMIF(yyo.aa,$DV54,yyk.aa)+SUMIF(yyi.aa,$DV54,yyl.aa)) -> 0 | EH54: =EF54-EG54 -> 0 | EI54: =IF(OR(ISERR(EE54),ISNA(EE54)),0,EE54)+IF($AJ$54,EH54,0) -> 4000000 | EJ54: =IF(EI54=0,0,RANK(EI54,EI53:EI62,1)) -> 10 | EK54: =EJ54*40000*IF(COUNTIF($FC$42:$FC$65,DV54)>0,0,1) -> 400000 | EN54: … | ER54: =IF(EU42="","",VLOOKUP(EU42,yyy.aa1.10,4,FALSE)) | ES54: =IF(OR(ER54="",EY54="",ER54=EY54),"",CONCATENATE(ER54,EY54)) | ET54: =IF(OR(ES54="",EY53>2),"",CONCATENATE(VLOOKUP(ES54,games.a,9,FALSE),VLOOKUP(ES54,games.a,12,FALSE))) | EW54: =IF(ES54="","",VLOOKUP(ES54,games.a,6,FALSE)) | EX54: =IF(ES54="","",VLOOKUP(ES54,games.a,7,FALSE)) | EY54: =ER54 | FP54: =FP43 | FQ54: =IF(OR(FP54="",FZ54="",FP54=FZ54),"",CONCATENATE(FP54,FZ54)) | FR54: =IF($FQ54="","",VLOOKUP($FQ54,games.a,9,FALSE)) | FS54: =IF($FQ54="","",VLOOKUP($FQ54,games.a,10,FALSE)) | FT54: =IF($FQ54="","",VLOOKUP($FQ54,games.a,11,FALSE)) | FU54: =IF($FQ54="","",VLOOKUP($FQ54,games.a,12,FALSE)) | FV54: =IF($FQ54="","",VLOOKUP($FQ54,games.a,13,FALSE)) | FW54: =IF($FQ54="","",VLOOKUP($FQ54,games.a,14,FALSE)) | FX54: =IF($FQ54="","",VLOOKUP($FQ54,games.a,6,FALSE)) | FY54: =IF($FQ54="","",VLOOKUP($FQ54,games.a,7,FALSE)) | FZ54: =FZ53
E55: 19:00 – A pálya | F55: =IF(ISNA(V56),"–",VLOOKUP(V56,games.a,4,FALSE)&"–"&VLOOKUP(V56,games.a,5,FALSE)&IF(VLOOKUP(V56,games.a,6,FALSE)="",""," "&VLOOKUP(V56,games.a,6,FALSE)&"–"&VLOOKUP(V56,games.a,7,FALSE))) -> – | X55: =Adatok!A14 -> 0 | AB55: =IF(X55=0,0,BP55) -> 0 | AC55: =X55 -> 0 | AD55: =LARGE($AB$42:$AB$76,BB55) -> 0 | AE55: =IF(AD55=0,0,VLOOKUP(AD55,$AB$42:$AC$76,2,FALSE)) -> 0 | AN55: =IF(VLOOKUP($AY55,INDIRECT(CONCATENATE($AJ$59,1)),3,FALSE)=0,"–",VLOOKUP($AY55,INDIRECT(CONCATENATE($AJ$59,1)),3,FALSE)) -> – | AO55: =AZ55 | AP55: =VLOOKUP($AN55,table.n.av1,6,FALSE) -> #N/A | AQ55: =VLOOKUP($AN55,table.n.av1,7,FALSE) -> #N/A | AY55: =LARGE(IF($AJ$58=1,$BA$42:$BA$65,$BA$119:$BA$142),BB55) -> -1e+09 | AZ55: =IF(BC55=0,"",IF(ABS(AY54-AY55)<0.03,AZ54,BB55)) | BA55: =IF($AJ$44,BO55*100,IF($AJ$43,BM55*10,BM55))*1000000+IF($AJ$52,BE55*10000,0)+IF($AJ$44,BK55,BJ55)*1000/IF(OR($AJ$43,$AJ$52),10,1)+IF($AJ$44,0,IF($AJ$43,BH55/10,BH55))+BP55+IF($AJ$70,BQ55,0)-IF(BC55=0,1000000000,0) -> -1e+09 | BB55: 14 | BC55: =X55 -> 0 | BD55: =BE55+BF55+BG55 -> 0 | BE55: =IF($AJ$57=1,BT55+CA55,IF($AJ$57=2,BT55,IF($AJ$57=3,CA55,""))) -> 0 | BF55: =IF($AJ$57=1,BU55+CB55,IF($AJ$57=2,BU55,IF($AJ$57=3,CB55,""))) -> 0 | BG55: =IF($AJ$57=1,BV55+CC55,IF($AJ$57=2,BV55,IF($AJ$57=3,CC55,""))) -> 0 | BH55: =IF($AJ$57=1,BW55+CD55,IF($AJ$57=2,BW55,IF($AJ$57=3,CD55,""))) -> 0 | BI55: =IF($AJ$57=1,BX55+CE55,IF($AJ$57=2,BX55,IF($AJ$57=3,CE55,""))) -> 0 | BJ55: =BH55-BI55 -> 0 | BK55: =IF(BI55=0,0,BH55/BI55) -> 0 | BL55: =IF($AJ$71,IF(ISNA(VLOOKUP(BC55,penalty.a,2,FALSE)),0,VLOOKUP(BC55,penalty.a,2,FALSE)),0) -> 0 | BM55: =$AJ$48*BE55+BF55-BL55 -> 0 | BN55: =BE55*2+BG55-BL55 -> 0 | BO55: =IF(BD55=0,BN55,IF(BN55=0,0,BN55/BD55/2)) -> 0 | BP55: 0.027 | BQ55: =IF(ISNA(VLOOKUP(BC55,eee.av,16,FALSE)),0,VLOOKUP(BC55,eee.av,16,FALSE)) -> 0 | BS55: =COUNTIF(lossh.av,CONCATENATE($BC55,"ooo")) -> 0 | BT55: =COUNTIF(winh.av,$BC55) -> 0 | BU55: =COUNTIF(drawh.av,$BC55) -> 0 | BV55: =COUNTIF(lossh.av,$BC55)+BS55 -> 0 | BW55: =SUMIF(home.av,$BC55,GAA.av) -> 0 | BX55: =SUMIF(home.av,$BC55,GBB.av) -> 0 | BZ55: =COUNTIF(lossa.av,CONCATENATE($BC55,"ooo")) -> 0 | CA55: =COUNTIF(wina.av,$BC55) -> 0 | CB55: =COUNTIF(drawa.av,$BC55) -> 0 | CC55: =COUNTIF(lossa.av,$BC55)+BZ55 -> 0 | CD55: =SUMIF(away.av,$BC55,GBB.av) -> 0 | CE55: =SUMIF(away.av,$BC55,GAA.av) -> 0 | CI55: =IF($AJ$44,COUNTIF($BO$68:$BO$91,CK55)*IF(OR(CK55=CK54,CK55=0),0,1),COUNTIF($BM$68:$BM$91,CJ55)*IF(OR(CJ55=CJ54,CJ55=0),0,1))+CL55/1000 -> 0.014 | CJ55: =LARGE($BM$68:$BM$91,CL55) -> 0 | CK55: =LARGE($BO$68:$BO$91,CL55) -> 0 | CL55: 14 | CO55: =IF(OR(CO41=$BM81,CO41=$BO81),$BC81,"") | CP55: =IF(CO55="","",$CL55) | CR55: =IF(OR(CR41=$BM81,CR41=$BO81),$BC81,"") | CS55: =IF(CR55="","",$CL55) | CU55: =IF(OR(CU41=$BM81,CU41=$BO81),$BC81,"") | CV55: =IF(CU55="","",$CL55) | CX55: =IF(OR(CX41=$BM81,CX41=$BO81),$BC81,"") | CY55: =IF(CX55="","",$CL55) | DA55: =IF(OR(DA41=$BM81,DA41=$BO81),$BC81,"") | DB55: =IF(DA55="","",$CL55) | DD55: =IF(OR(DD41=$BM81,DD41=$BO81),$BC81,"") | DE55: =IF(DD55="","",$CL55) | DI55: =DI44 | DJ55: =IF(OR(DI55="",DP55="",DI55=DP55),"",CONCATENATE(DI55,DP55)) | DK55: =IF($DJ55="","",CONCATENATE(VLOOKUP($DJ55,games.a,9,FALSE),VLOOKUP($DJ55,games.a,12,FALSE))) | DL55: =IF($DJ55="","",VLOOKUP($DJ55,games.a,10,FALSE)) | DM55: =IF($DJ55="","",VLOOKUP($DJ55,games.a,13,FALSE)) | DN55: =IF($DJ55="","",VLOOKUP($DJ55,games.a,6,FALSE)) | DO55: =IF($DJ55="","",VLOOKUP($DJ55,games.a,7,FALSE)) | DP55: =DP54 -> Bakafogó-Honvéd-Sashegy SE | DV55: =IF(OR(NOT($AJ$44),AND(DI41,DV44="")),DI44,"") | DX55: =IF($DV55="",0,COUNTIF(xxgy.aa,$DV55)) -> 0 | DY55: =IF($DV55="",0,COUNTIF(xxd.aa,$DV55)) -> 0 | DZ55: =IF($DV55="",0,1)*(SUMIF(xxo.aa,$DV55,xxl.aa)+SUMIF(xxi.aa,$DV55,xxk.aa)) -> 0 | EA55: =IF($DV55="",0,1)*(SUMIF(xxo.aa,$DV55,xxk.aa)+SUMIF(xxi.aa,$DV55,xxl.aa)) -> 0 | EB55: =DZ55-EA55 -> 0 | EC55: =IF(EA55=0,0,DZ55/EA55) -> 0 | ED55: =$AJ$48*DX55+IF($AJ$44,0,1)*DY55 -> 0 | EE55: =ED55*1000000+IF($AJ$44,EC55,EB55)*1000*0 -> 0 | EF55: =IF($DV55="",0,1)*(SUMIF(yyo.aa,$DV55,yyl.aa)+SUMIF(yyi.aa,$DV55,yyk.aa)) -> 0 | EG55: =IF($DV55="",0,1)*(SUMIF(yyo.aa,$DV55,yyk.aa)+SUMIF(yyi.aa,$DV55,yyl.aa)) -> 0 | EH55: =EF55-EG55 -> 0 | EI55: =IF(OR(ISERR(EE55),ISNA(EE55)),0,EE55)+IF($AJ$54,EH55,0) -> 0 | EJ55: =IF(EI55=0,0,RANK(EI55,EI53:EI62,1)) -> 0 | EK55: =EJ55*40000*IF(COUNTIF($FC$42:$FC$65,DV55)>0,0,1) -> 0 | EN55: =NAGY(EE53:EE62;EP51) | ER55: =IF(EU43="","",VLOOKUP(EU43,yyy.aa1.10,4,FALSE)) | ES55: =IF(OR(ER55="",EY55="",ER55=EY55),"",CONCATENATE(ER55,EY55)) | ET55: =IF(OR(ES55="",EY53>2),"",CONCATENATE(VLOOKUP(ES55,games.a,9,FALSE),VLOOKUP(ES55,games.a,12,FALSE))) | EW55: =IF(ES55="","",VLOOKUP(ES55,games.a,6,FALSE)) | EX55: =IF(ES55="","",VLOOKUP(ES55,games.a,7,FALSE)) | EY55: =EY54 | FP55: =FP44 | FQ55: =IF(OR(FP55="",FZ55="",FP55=FZ55),"",CONCATENATE(FP55,FZ55)) | FR55: =IF($FQ55="","",VLOOKUP($FQ55,games.a,9,FALSE)) | FS55: =IF($FQ55="","",VLOOKUP($FQ55,games.a,10,FALSE)) | FT55: =IF($FQ55="","",VLOOKUP($FQ55,games.a,11,FALSE)) | FU55: =IF($FQ55="","",VLOOKUP($FQ55,games.a,12,FALSE)) | FV55: =IF($FQ55="","",VLOOKUP($FQ55,games.a,13,FALSE)) | FW55: =IF($FQ55="","",VLOOKUP($FQ55,games.a,14,FALSE)) | FX55: =IF($FQ55="","",VLOOKUP($FQ55,games.a,6,FALSE)) | FY55: =IF($FQ55="","",VLOOKUP($FQ55,games.a,7,FALSE)) | FZ55: =FZ54
E56: 19:45 – A pálya | F56: =IF(ISNA(V57),"–",VLOOKUP(V57,games.a,4,FALSE)&"–"&VLOOKUP(V57,games.a,5,FALSE)&IF(VLOOKUP(V57,games.a,6,FALSE)="",""," "&VLOOKUP(V57,games.a,6,FALSE)&"–"&VLOOKUP(V57,games.a,7,FALSE))) -> – | V56: =VLOOKUP($G$54&E55,ASZ!$BB$43:$BD$390,3,FALSE) -> #N/A | X56: =Adatok!A15 -> 0 | AB56: =IF(X56=0,0,BP56) -> 0 | AC56: =X56 -> 0 | AD56: =LARGE($AB$42:$AB$76,BB56) -> 0 | AE56: =IF(AD56=0,0,VLOOKUP(AD56,$AB$42:$AC$76,2,FALSE)) -> 0 | AI56: TABELLÁK ADATAI | AN56: =IF(VLOOKUP($AY56,INDIRECT(CONCATENATE($AJ$59,1)),3,FALSE)=0,"–",VLOOKUP($AY56,INDIRECT(CONCATENATE($AJ$59,1)),3,FALSE)) -> – | AO56: =AZ56 | AP56: =VLOOKUP($AN56,table.n.av1,6,FALSE) -> #N/A | AQ56: =VLOOKUP($AN56,table.n.av1,7,FALSE) -> #N/A | AY56: =LARGE(IF($AJ$58=1,$BA$42:$BA$65,$BA$119:$BA$142),BB56) -> -1e+09 | AZ56: =IF(BC56=0,"",IF(ABS(AY55-AY56)<0.03,AZ55,BB56)) | BA56: =IF($AJ$44,BO56*100,IF($AJ$43,BM56*10,BM56))*1000000+IF($AJ$52,BE56*10000,0)+IF($AJ$44,BK56,BJ56)*1000/IF(OR($AJ$43,$AJ$52),10,1)+IF($AJ$44,0,IF($AJ$43,BH56/10,BH56))+BP56+IF($AJ$70,BQ56,0)-IF(BC56=0,1000000000,0) -> -1e+09 | BB56: 15 | BC56: =X56 -> 0 | BD56: =BE56+BF56+BG56 -> 0 | BE56: =IF($AJ$57=1,BT56+CA56,IF($AJ$57=2,BT56,IF($AJ$57=3,CA56,""))) -> 0 | BF56: =IF($AJ$57=1,BU56+CB56,IF($AJ$57=2,BU56,IF($AJ$57=3,CB56,""))) -> 0 | BG56: =IF($AJ$57=1,BV56+CC56,IF($AJ$57=2,BV56,IF($AJ$57=3,CC56,""))) -> 0 | BH56: =IF($AJ$57=1,BW56+CD56,IF($AJ$57=2,BW56,IF($AJ$57=3,CD56,""))) -> 0 | BI56: =IF($AJ$57=1,BX56+CE56,IF($AJ$57=2,BX56,IF($AJ$57=3,CE56,""))) -> 0 | BJ56: =BH56-BI56 -> 0 | BK56: =IF(BI56=0,0,BH56/BI56) -> 0 | BL56: =IF($AJ$71,IF(ISNA(VLOOKUP(BC56,penalty.a,2,FALSE)),0,VLOOKUP(BC56,penalty.a,2,FALSE)),0) -> 0 | BM56: =$AJ$48*BE56+BF56-BL56 -> 0 | BN56: =BE56*2+BG56-BL56 -> 0 | BO56: =IF(BD56=0,BN56,IF(BN56=0,0,BN56/BD56/2)) -> 0 | BP56: 0.026 | BQ56: =IF(ISNA(VLOOKUP(BC56,eee.av,16,FALSE)),0,VLOOKUP(BC56,eee.av,16,FALSE)) -> 0 | BS56: =COUNTIF(lossh.av,CONCATENATE($BC56,"ooo")) -> 0 | BT56: =COUNTIF(winh.av,$BC56) -> 0 | BU56: =COUNTIF(drawh.av,$BC56) -> 0 | BV56: =COUNTIF(lossh.av,$BC56)+BS56 -> 0 | BW56: =SUMIF(home.av,$BC56,GAA.av) -> 0 | BX56: =SUMIF(home.av,$BC56,GBB.av) -> 0 | BZ56: =COUNTIF(lossa.av,CONCATENATE($BC56,"ooo")) -> 0 | CA56: =COUNTIF(wina.av,$BC56) -> 0 | CB56: =COUNTIF(drawa.av,$BC56) -> 0 | CC56: =COUNTIF(lossa.av,$BC56)+BZ56 -> 0 | CD56: =SUMIF(away.av,$BC56,GBB.av) -> 0 | CE56: =SUMIF(away.av,$BC56,GAA.av) -> 0 | CI56: =IF($AJ$44,COUNTIF($BO$68:$BO$91,CK56)*IF(OR(CK56=CK55,CK56=0),0,1),COUNTIF($BM$68:$BM$91,CJ56)*IF(OR(CJ56=CJ55,CJ56=0),0,1))+CL56/1000 -> 0.015 | CJ56: =LARGE($BM$68:$BM$91,CL56) -> 0 | CK56: =LARGE($BO$68:$BO$91,CL56) -> 0 | CL56: 15 | CO56: =IF(OR(CO41=$BM82,CO41=$BO82),$BC82,"") | CP56: =IF(CO56="","",$CL56) | CR56: =IF(OR(CR41=$BM82,CR41=$BO82),$BC82,"") | CS56: =IF(CR56="","",$CL56) | CU56: =IF(OR(CU41=$BM82,CU41=$BO82),$BC82,"") | CV56: =IF(CU56="","",$CL56) | CX56: =IF(OR(CX41=$BM82,CX41=$BO82),$BC82,"") | CY56: =IF(CX56="","",$CL56) | DA56: =IF(OR(DA41=$BM82,DA41=$BO82),$BC82,"") | DB56: =IF(DA56="","",$CL56) | DD56: =IF(OR(DD41=$BM82,DD41=$BO82),$BC82,"") | DE56: =IF(DD56="","",$CL56) | DI56: =DI45 | DJ56: =IF(OR(DI56="",DP56="",DI56=DP56),"",CONCATENATE(DI56,DP56)) | DK56: =IF($DJ56="","",CONCATENATE(VLOOKUP($DJ56,games.a,9,FALSE),VLOOKUP($DJ56,games.a,12,FALSE))) | DL56: =IF($DJ56="","",VLOOKUP($DJ56,games.a,10,FALSE)) | DM56: =IF($DJ56="","",VLOOKUP($DJ56,games.a,13,FALSE)) | DN56: =IF($DJ56="","",VLOOKUP($DJ56,games.a,6,FALSE)) | DO56: =IF($DJ56="","",VLOOKUP($DJ56,games.a,7,FALSE)) | DP56: =DP55 -> Bakafogó-Honvéd-Sashegy SE | DV56: =IF(OR(NOT($AJ$44),AND(DI41,DV45="")),DI45,"") | DX56: =IF($DV56="",0,COUNTIF(xxgy.aa,$DV56)) -> 0 | DY56: =IF($DV56="",0,COUNTIF(xxd.aa,$DV56)) -> 0 | DZ56: =IF($DV56="",0,1)*(SUMIF(xxo.aa,$DV56,xxl.aa)+SUMIF(xxi.aa,$DV56,xxk.aa)) -> 0 | EA56: =IF($DV56="",0,1)*(SUMIF(xxo.aa,$DV56,xxk.aa)+SUMIF(xxi.aa,$DV56,xxl.aa)) -> 0 | EB56: =DZ56-EA56 -> 0 | EC56: =IF(EA56=0,0,DZ56/EA56) -> 0 | ED56: =$AJ$48*DX56+IF($AJ$44,0,1)*DY56 -> 0 | EE56: =ED56*1000000+IF($AJ$44,EC56,EB56)*1000*0 -> 0 | EF56: =IF($DV56="",0,1)*(SUMIF(yyo.aa,$DV56,yyl.aa)+SUMIF(yyi.aa,$DV56,yyk.aa)) -> 0 | EG56: =IF($DV56="",0,1)*(SUMIF(yyo.aa,$DV56,yyk.aa)+SUMIF(yyi.aa,$DV56,yyl.aa)) -> 0 | EH56: =EF56-EG56 -> 0 | EI56: =IF(OR(ISERR(EE56),ISNA(EE56)),0,EE56)+IF($AJ$54,EH56,0) -> 0 | EJ56: =IF(EI56=0,0,RANK(EI56,EI53:EI62,1)) -> 0 | EK56: =EJ56*40000*IF(COUNTIF($FC$42:$FC$65,DV56)>0,0,1) -> 0 | ER56: =IF(EU44="","",VLOOKUP(EU44,yyy.aa1.10,4,FALSE)) | ES56: =IF(OR(ER56="",EY56="",ER56=EY56),"",CONCATENATE(ER56,EY56)) | ET56: =IF(OR(ES56="",EY53>2),"",CONCATENATE(VLOOKUP(ES56,games.a,9,FALSE),VLOOKUP(ES56,games.a,12,FALSE))) | EW56: =IF(ES56="","",VLOOKUP(ES56,games.a,6,FALSE)) | EX56: =IF(ES56="","",VLOOKUP(ES56,games.a,7,FALSE)) | EY56: =EY55 | FJ56: 2. sorozat: | FK56: FALSE | FP56: =FP45 | FQ56: =IF(OR(FP56="",FZ56="",FP56=FZ56),"",CONCATENATE(FP56,FZ56)) | FR56: =IF($FQ56="","",VLOOKUP($FQ56,games.a,9,FALSE)) | FS56: =IF($FQ56="","",VLOOKUP($FQ56,games.a,10,FALSE)) | FT56: =IF($FQ56="","",VLOOKUP($FQ56,games.a,11,FALSE)) | FU56: =IF($FQ56="","",VLOOKUP($FQ56,games.a,12,FALSE)) | FV56: =IF($FQ56="","",VLOOKUP($FQ56,games.a,13,FALSE)) | FW56: =IF($FQ56="","",VLOOKUP($FQ56,games.a,14,FALSE)) | FX56: =IF($FQ56="","",VLOOKUP($FQ56,games.a,6,FALSE)) | FY56: =IF($FQ56="","",VLOOKUP($FQ56,games.a,7,FALSE)) | FZ56: =FZ55
E57: 20:30 – A pálya | F57: =IF(ISNA(V58),"–",VLOOKUP(V58,games.a,4,FALSE)&"–"&VLOOKUP(V58,games.a,5,FALSE)&IF(VLOOKUP(V58,games.a,6,FALSE)="",""," "&VLOOKUP(V58,games.a,6,FALSE)&"–"&VLOOKUP(V58,games.a,7,FALSE))) -> – | V57: =VLOOKUP($G$54&E56,ASZ!$BB$43:$BD$390,3,FALSE) -> #N/A | X57: =Adatok!A16 -> 0 | AB57: =IF(X57=0,0,BP57) -> 0 | AC57: =X57 -> 0 | AD57: =LARGE($AB$42:$AB$76,BB57) -> 0 | AE57: =IF(AD57=0,0,VLOOKUP(AD57,$AB$42:$AC$76,2,FALSE)) -> 0 | AI57: Összes/Hazai/Idegen beállítás: | AJ57: 1 | AN57: =IF(VLOOKUP($AY57,INDIRECT(CONCATENATE($AJ$59,1)),3,FALSE)=0,"–",VLOOKUP($AY57,INDIRECT(CONCATENATE($AJ$59,1)),3,FALSE)) -> – | AO57: =AZ57 | AP57: =VLOOKUP($AN57,table.n.av1,6,FALSE) -> #N/A | AQ57: =VLOOKUP($AN57,table.n.av1,7,FALSE) -> #N/A | AY57: =LARGE(IF($AJ$58=1,$BA$42:$BA$65,$BA$119:$BA$142),BB57) -> -1e+09 | AZ57: =IF(BC57=0,"",IF(ABS(AY56-AY57)<0.03,AZ56,BB57)) | BA57: =IF($AJ$44,BO57*100,IF($AJ$43,BM57*10,BM57))*1000000+IF($AJ$52,BE57*10000,0)+IF($AJ$44,BK57,BJ57)*1000/IF(OR($AJ$43,$AJ$52),10,1)+IF($AJ$44,0,IF($AJ$43,BH57/10,BH57))+BP57+IF($AJ$70,BQ57,0)-IF(BC57=0,1000000000,0) -> -1e+09 | BB57: 16 | BC57: =X57 -> 0 | BD57: =BE57+BF57+BG57 -> 0 | BE57: =IF($AJ$57=1,BT57+CA57,IF($AJ$57=2,BT57,IF($AJ$57=3,CA57,""))) -> 0 | BF57: =IF($AJ$57=1,BU57+CB57,IF($AJ$57=2,BU57,IF($AJ$57=3,CB57,""))) -> 0 | BG57: =IF($AJ$57=1,BV57+CC57,IF($AJ$57=2,BV57,IF($AJ$57=3,CC57,""))) -> 0 | BH57: =IF($AJ$57=1,BW57+CD57,IF($AJ$57=2,BW57,IF($AJ$57=3,CD57,""))) -> 0 | BI57: =IF($AJ$57=1,BX57+CE57,IF($AJ$57=2,BX57,IF($AJ$57=3,CE57,""))) -> 0 | BJ57: =BH57-BI57 -> 0 | BK57: =IF(BI57=0,0,BH57/BI57) -> 0 | BL57: =IF($AJ$71,IF(ISNA(VLOOKUP(BC57,penalty.a,2,FALSE)),0,VLOOKUP(BC57,penalty.a,2,FALSE)),0) -> 0 | BM57: =$AJ$48*BE57+BF57-BL57 -> 0 | BN57: =BE57*2+BG57-BL57 -> 0 | BO57: =IF(BD57=0,BN57,IF(BN57=0,0,BN57/BD57/2)) -> 0 | BP57: 0.025 | BQ57: =IF(ISNA(VLOOKUP(BC57,eee.av,16,FALSE)),0,VLOOKUP(BC57,eee.av,16,FALSE)) -> 0 | BS57: =COUNTIF(lossh.av,CONCATENATE($BC57,"ooo")) -> 0 | BT57: =COUNTIF(winh.av,$BC57) -> 0 | BU57: =COUNTIF(drawh.av,$BC57) -> 0 | BV57: =COUNTIF(lossh.av,$BC57)+BS57 -> 0 | BW57: =SUMIF(home.av,$BC57,GAA.av) -> 0 | BX57: =SUMIF(home.av,$BC57,GBB.av) -> 0 | BZ57: =COUNTIF(lossa.av,CONCATENATE($BC57,"ooo")) -> 0 | CA57: =COUNTIF(wina.av,$BC57) -> 0 | CB57: =COUNTIF(drawa.av,$BC57) -> 0 | CC57: =COUNTIF(lossa.av,$BC57)+BZ57 -> 0 | CD57: =SUMIF(away.av,$BC57,GBB.av) -> 0 | CE57: =SUMIF(away.av,$BC57,GAA.av) -> 0 | CI57: =IF($AJ$44,COUNTIF($BO$68:$BO$91,CK57)*IF(OR(CK57=CK56,CK57=0),0,1),COUNTIF($BM$68:$BM$91,CJ57)*IF(OR(CJ57=CJ56,CJ57=0),0,1))+CL57/1000 -> 0.016 | CJ57: =LARGE($BM$68:$BM$91,CL57) -> 0 | CK57: =LARGE($BO$68:$BO$91,CL57) -> 0 | CL57: 16 | CO57: =IF(OR(CO41=$BM83,CO41=$BO83),$BC83,"") | CP57: =IF(CO57="","",$CL57) | CR57: =IF(OR(CR41=$BM83,CR41=$BO83),$BC83,"") | CS57: =IF(CR57="","",$CL57) | CU57: =IF(OR(CU41=$BM83,CU41=$BO83),$BC83,"") | CV57: =IF(CU57="","",$CL57) | CX57: =IF(OR(CX41=$BM83,CX41=$BO83),$BC83,"") | CY57: =IF(CX57="","",$CL57) | DA57: =IF(OR(DA41=$BM83,DA41=$BO83),$BC83,"") | DB57: =IF(DA57="","",$CL57) | DD57: =IF(OR(DD41=$BM83,DD41=$BO83),$BC83,"") | DE57: =IF(DD57="","",$CL57) | DI57: =DI46 | DJ57: =IF(OR(DI57="",DP57="",DI57=DP57),"",CONCATENATE(DI57,DP57)) | DK57: =IF($DJ57="","",CONCATENATE(VLOOKUP($DJ57,games.a,9,FALSE),VLOOKUP($DJ57,games.a,12,FALSE))) | DL57: =IF($DJ57="","",VLOOKUP($DJ57,games.a,10,FALSE)) | DM57: =IF($DJ57="","",VLOOKUP($DJ57,games.a,13,FALSE)) | DN57: =IF($DJ57="","",VLOOKUP($DJ57,games.a,6,FALSE)) | DO57: =IF($DJ57="","",VLOOKUP($DJ57,games.a,7,FALSE)) | DP57: =DP56 -> Bakafogó-Honvéd-Sashegy SE | DV57: =IF(OR(NOT($AJ$44),AND(DI41,DV46="")),DI46,"") | DX57: =IF($DV57="",0,COUNTIF(xxgy.aa,$DV57)) -> 0 | DY57: =IF($DV57="",0,COUNTIF(xxd.aa,$DV57)) -> 0 | DZ57: =IF($DV57="",0,1)*(SUMIF(xxo.aa,$DV57,xxl.aa)+SUMIF(xxi.aa,$DV57,xxk.aa)) -> 0 | EA57: =IF($DV57="",0,1)*(SUMIF(xxo.aa,$DV57,xxk.aa)+SUMIF(xxi.aa,$DV57,xxl.aa)) -> 0 | EB57: =DZ57-EA57 -> 0 | EC57: =IF(EA57=0,0,DZ57/EA57) -> 0 | ED57: =$AJ$48*DX57+IF($AJ$44,0,1)*DY57 -> 0 | EE57: =ED57*1000000+IF($AJ$44,EC57,EB57)*1000*0 -> 0 | EF57: =IF($DV57="",0,1)*(SUMIF(yyo.aa,$DV57,yyl.aa)+SUMIF(yyi.aa,$DV57,yyk.aa)) -> 0 | EG57: =IF($DV57="",0,1)*(SUMIF(yyo.aa,$DV57,yyk.aa)+SUMIF(yyi.aa,$DV57,yyl.aa)) -> 0 | EH57: =EF57-EG57 -> 0 | EI57: =IF(OR(ISERR(EE57),ISNA(EE57)),0,EE57)+IF($AJ$54,EH57,0) -> 0 | EJ57: =IF(EI57=0,0,RANK(EI57,EI53:EI62,1)) -> 0 | EK57: =EJ57*40000*IF(COUNTIF($FC$42:$FC$65,DV57)>0,0,1) -> 0 | ER57: =IF(EU45="","",VLOOKUP(EU45,yyy.aa1.10,4,FALSE)) | ES57: =IF(OR(ER57="",EY57="",ER57=EY57),"",CONCATENATE(ER57,EY57)) | ET57: =IF(OR(ES57="",EY53>2),"",CONCATENATE(VLOOKUP(ES57,games.a,9,FALSE),VLOOKUP(ES57,games.a,12,FALSE))) | EW57: =IF(ES57="","",VLOOKUP(ES57,games.a,6,FALSE)) | EX57: =IF(ES57="","",VLOOKUP(ES57,games.a,7,FALSE)) | EY57: =EY56 | FP57: =FP46 | FQ57: =IF(OR(FP57="",FZ57="",FP57=FZ57),"",CONCATENATE(FP57,FZ57)) | FR57: =IF($FQ57="","",VLOOKUP($FQ57,games.a,9,FALSE)) | FS57: =IF($FQ57="","",VLOOKUP($FQ57,games.a,10,FALSE)) | FT57: =IF($FQ57="","",VLOOKUP($FQ57,games.a,11,FALSE)) | FU57: =IF($FQ57="","",VLOOKUP($FQ57,games.a,12,FALSE)) | FV57: =IF($FQ57="","",VLOOKUP($FQ57,games.a,13,FALSE)) | FW57: =IF($FQ57="","",VLOOKUP($FQ57,games.a,14,FALSE)) | FX57: =IF($FQ57="","",VLOOKUP($FQ57,games.a,6,FALSE)) | FY57: =IF($FQ57="","",VLOOKUP($FQ57,games.a,7,FALSE)) | FZ57: =FZ56
E58: 19:00 – B pálya | F58: =IF(ISNA(V59),"–",VLOOKUP(V59,games.a,4,FALSE)&"–"&VLOOKUP(V59,games.a,5,FALSE)&IF(VLOOKUP(V59,games.a,6,FALSE)="",""," "&VLOOKUP(V59,games.a,6,FALSE)&"–"&VLOOKUP(V59,games.a,7,FALSE))) -> – | V58: =VLOOKUP($G$54&E57,ASZ!$BB$43:$BD$390,3,FALSE) -> #N/A | X58: =Adatok!A17 -> 0 | AB58: =IF(X58=0,0,BP58) -> 0 | AC58: =X58 -> 0 | AD58: =LARGE($AB$42:$AB$76,BB58) -> 0 | AE58: =IF(AD58=0,0,VLOOKUP(AD58,$AB$42:$AC$76,2,FALSE)) -> 0 | AI58: Összes/Támadás/Védekezés: | AJ58: 1 | AN58: =IF(VLOOKUP($AY58,INDIRECT(CONCATENATE($AJ$59,1)),3,FALSE)=0,"–",VLOOKUP($AY58,INDIRECT(CONCATENATE($AJ$59,1)),3,FALSE)) -> – | AO58: =AZ58 | AP58: =VLOOKUP($AN58,table.n.av1,6,FALSE) -> #N/A | AQ58: =VLOOKUP($AN58,table.n.av1,7,FALSE) -> #N/A | AY58: =LARGE(IF($AJ$58=1,$BA$42:$BA$65,$BA$119:$BA$142),BB58) -> -1e+09 | AZ58: =IF(BC58=0,"",IF(ABS(AY57-AY58)<0.03,AZ57,BB58)) | BA58: =IF($AJ$44,BO58*100,IF($AJ$43,BM58*10,BM58))*1000000+IF($AJ$52,BE58*10000,0)+IF($AJ$44,BK58,BJ58)*1000/IF(OR($AJ$43,$AJ$52),10,1)+IF($AJ$44,0,IF($AJ$43,BH58/10,BH58))+BP58+IF($AJ$70,BQ58,0)-IF(BC58=0,1000000000,0) -> -1e+09 | BB58: 17 | BC58: =X58 -> 0 | BD58: =BE58+BF58+BG58 -> 0 | BE58: =IF($AJ$57=1,BT58+CA58,IF($AJ$57=2,BT58,IF($AJ$57=3,CA58,""))) -> 0 | BF58: =IF($AJ$57=1,BU58+CB58,IF($AJ$57=2,BU58,IF($AJ$57=3,CB58,""))) -> 0 | BG58: =IF($AJ$57=1,BV58+CC58,IF($AJ$57=2,BV58,IF($AJ$57=3,CC58,""))) -> 0 | BH58: =IF($AJ$57=1,BW58+CD58,IF($AJ$57=2,BW58,IF($AJ$57=3,CD58,""))) -> 0 | BI58: =IF($AJ$57=1,BX58+CE58,IF($AJ$57=2,BX58,IF($AJ$57=3,CE58,""))) -> 0 | BJ58: =BH58-BI58 -> 0 | BK58: =IF(BI58=0,0,BH58/BI58) -> 0 | BL58: =IF($AJ$71,IF(ISNA(VLOOKUP(BC58,penalty.a,2,FALSE)),0,VLOOKUP(BC58,penalty.a,2,FALSE)),0) -> 0 | BM58: =$AJ$48*BE58+BF58-BL58 -> 0 | BN58: =BE58*2+BG58-BL58 -> 0 | BO58: =IF(BD58=0,BN58,IF(BN58=0,0,BN58/BD58/2)) -> 0 | BP58: 0.024 | BQ58: =IF(ISNA(VLOOKUP(BC58,eee.av,16,FALSE)),0,VLOOKUP(BC58,eee.av,16,FALSE)) -> 0 | BS58: =COUNTIF(lossh.av,CONCATENATE($BC58,"ooo")) -> 0 | BT58: =COUNTIF(winh.av,$BC58) -> 0 | BU58: =COUNTIF(drawh.av,$BC58) -> 0 | BV58: =COUNTIF(lossh.av,$BC58)+BS58 -> 0 | BW58: =SUMIF(home.av,$BC58,GAA.av) -> 0 | BX58: =SUMIF(home.av,$BC58,GBB.av) -> 0 | BZ58: =COUNTIF(lossa.av,CONCATENATE($BC58,"ooo")) -> 0 | CA58: =COUNTIF(wina.av,$BC58) -> 0 | CB58: =COUNTIF(drawa.av,$BC58) -> 0 | CC58: =COUNTIF(lossa.av,$BC58)+BZ58 -> 0 | CD58: =SUMIF(away.av,$BC58,GBB.av) -> 0 | CE58: =SUMIF(away.av,$BC58,GAA.av) -> 0 | CI58: =IF($AJ$44,COUNTIF($BO$68:$BO$91,CK58)*IF(OR(CK58=CK57,CK58=0),0,1),COUNTIF($BM$68:$BM$91,CJ58)*IF(OR(CJ58=CJ57,CJ58=0),0,1))+CL58/1000 -> 0.017 | CJ58: =LARGE($BM$68:$BM$91,CL58) -> 0 | CK58: =LARGE($BO$68:$BO$91,CL58) -> 0 | CL58: 17 | CO58: =IF(OR(CO41=$BM84,CO41=$BO84),$BC84,"") | CP58: =IF(CO58="","",$CL58) | CR58: =IF(OR(CR41=$BM84,CR41=$BO84),$BC84,"") | CS58: =IF(CR58="","",$CL58) | CU58: =IF(OR(CU41=$BM84,CU41=$BO84),$BC84,"") | CV58: =IF(CU58="","",$CL58) | CX58: =IF(OR(CX41=$BM84,CX41=$BO84),$BC84,"") | CY58: =IF(CX58="","",$CL58) | DA58: =IF(OR(DA41=$BM84,DA41=$BO84),$BC84,"") | DB58: =IF(DA58="","",$CL58) | DD58: =IF(OR(DD41=$BM84,DD41=$BO84),$BC84,"") | DE58: =IF(DD58="","",$CL58) | DI58: =DI47 | DJ58: =IF(OR(DI58="",DP58="",DI58=DP58),"",CONCATENATE(DI58,DP58)) | DK58: =IF($DJ58="","",CONCATENATE(VLOOKUP($DJ58,games.a,9,FALSE),VLOOKUP($DJ58,games.a,12,FALSE))) | DL58: =IF($DJ58="","",VLOOKUP($DJ58,games.a,10,FALSE)) | DM58: =IF($DJ58="","",VLOOKUP($DJ58,games.a,13,FALSE)) | DN58: =IF($DJ58="","",VLOOKUP($DJ58,games.a,6,FALSE)) | DO58: =IF($DJ58="","",VLOOKUP($DJ58,games.a,7,FALSE)) | DP58: =DP57 -> Bakafogó-Honvéd-Sashegy SE | DV58: =IF(OR(NOT($AJ$44),AND(DI41,DV47="")),DI47,"") | DX58: =IF($DV58="",0,COUNTIF(xxgy.aa,$DV58)) -> 0 | DY58: =IF($DV58="",0,COUNTIF(xxd.aa,$DV58)) -> 0 | DZ58: =IF($DV58="",0,1)*(SUMIF(xxo.aa,$DV58,xxl.aa)+SUMIF(xxi.aa,$DV58,xxk.aa)) -> 0 | EA58: =IF($DV58="",0,1)*(SUMIF(xxo.aa,$DV58,xxk.aa)+SUMIF(xxi.aa,$DV58,xxl.aa)) -> 0 | EB58: =DZ58-EA58 -> 0 | EC58: =IF(EA58=0,0,DZ58/EA58) -> 0 | ED58: =$AJ$48*DX58+IF($AJ$44,0,1)*DY58 -> 0 | EE58: =ED58*1000000+IF($AJ$44,EC58,EB58)*1000*0 -> 0 | EF58: =IF($DV58="",0,1)*(SUMIF(yyo.aa,$DV58,yyl.aa)+SUMIF(yyi.aa,$DV58,yyk.aa)) -> 0 | EG58: =IF($DV58="",0,1)*(SUMIF(yyo.aa,$DV58,yyk.aa)+SUMIF(yyi.aa,$DV58,yyl.aa)) -> 0 | EH58: =EF58-EG58 -> 0 | EI58: =IF(OR(ISERR(EE58),ISNA(EE58)),0,EE58)+IF($AJ$54,EH58,0) -> 0 | EJ58: =IF(EI58=0,0,RANK(EI58,EI53:EI62,1)) -> 0 | EK58: =EJ58*40000*IF(COUNTIF($FC$42:$FC$65,DV58)>0,0,1) -> 0 | ER58: =IF(EU46="","",VLOOKUP(EU46,yyy.aa1.10,4,FALSE)) | ES58: =IF(OR(ER58="",EY58="",ER58=EY58),"",CONCATENATE(ER58,EY58)) | ET58: =IF(OR(ES58="",EY53>2),"",CONCATENATE(VLOOKUP(ES58,games.a,9,FALSE),VLOOKUP(ES58,games.a,12,FALSE))) | EW58: =IF(ES58="","",VLOOKUP(ES58,games.a,6,FALSE)) | EX58: =IF(ES58="","",VLOOKUP(ES58,games.a,7,FALSE)) | EY58: =EY57 | FI58: =CONCATENATE("rank.a",FH58) -> rank.a | FJ58: =AND($FK$56,FG58<>"",FH58<>"",IF(FH58=2,$AJ$75,$AJ$69)) -> FALSE | FK58: =IF(NOT(FJ58),"",VLOOKUP(FG58,INDIRECT(FI58),2,FALSE)) | FP58: =FP47 | FQ58: =IF(OR(FP58="",FZ58="",FP58=FZ58),"",CONCATENATE(FP58,FZ58)) | FR58: =IF($FQ58="","",VLOOKUP($FQ58,games.a,9,FALSE)) | FS58: =IF($FQ58="","",VLOOKUP($FQ58,games.a,10,FALSE)) | FT58: =IF($FQ58="","",VLOOKUP($FQ58,games.a,11,FALSE)) | FU58: =IF($FQ58="","",VLOOKUP($FQ58,games.a,12,FALSE)) | FV58: =IF($FQ58="","",VLOOKUP($FQ58,games.a,13,FALSE)) | FW58: =IF($FQ58="","",VLOOKUP($FQ58,games.a,14,FALSE)) | FX58: =IF($FQ58="","",VLOOKUP($FQ58,games.a,6,FALSE)) | FY58: =IF($FQ58="","",VLOOKUP($FQ58,games.a,7,FALSE)) | FZ58: =FZ57
E59: 19:45 – B pálya | F59: =IF(ISNA(V60),"–",VLOOKUP(V60,games.a,4,FALSE)&"–"&VLOOKUP(V60,games.a,5,FALSE)&IF(VLOOKUP(V60,games.a,6,FALSE)="",""," "&VLOOKUP(V60,games.a,6,FALSE)&"–"&VLOOKUP(V60,games.a,7,FALSE))) -> – | O59: PONTLEVONÁSSAL BÜNTETETT CSAPAT | P59: PONTOK | V59: =VLOOKUP($G$54&E58,ASZ!$BB$43:$BD$390,3,FALSE) -> #N/A | X59: =Adatok!A18 -> 0 | AB59: =IF(X59=0,0,BP59) -> 0 | AC59: =X59 -> 0 | AD59: =LARGE($AB$42:$AB$76,BB59) -> 0 | AE59: =IF(AD59=0,0,VLOOKUP(AD59,$AB$42:$AC$76,2,FALSE)) -> 0 | AI59: Összes/Támadás/Védekezés: | AJ59: =IF($AJ$58=1,"table.av","table.ad.av") -> table.av | AN59: =IF(VLOOKUP($AY59,INDIRECT(CONCATENATE($AJ$59,1)),3,FALSE)=0,"–",VLOOKUP($AY59,INDIRECT(CONCATENATE($AJ$59,1)),3,FALSE)) -> – | AO59: =AZ59 | AP59: =VLOOKUP($AN59,table.n.av1,6,FALSE) -> #N/A | AQ59: =VLOOKUP($AN59,table.n.av1,7,FALSE) -> #N/A | AY59: =LARGE(IF($AJ$58=1,$BA$42:$BA$65,$BA$119:$BA$142),BB59) -> -1e+09 | AZ59: =IF(BC59=0,"",IF(ABS(AY58-AY59)<0.03,AZ58,BB59)) | BA59: =IF($AJ$44,BO59*100,IF($AJ$43,BM59*10,BM59))*1000000+IF($AJ$52,BE59*10000,0)+IF($AJ$44,BK59,BJ59)*1000/IF(OR($AJ$43,$AJ$52),10,1)+IF($AJ$44,0,IF($AJ$43,BH59/10,BH59))+BP59+IF($AJ$70,BQ59,0)-IF(BC59=0,1000000000,0) -> -1e+09 | BB59: 18 | BC59: =X59 -> 0 | BD59: =BE59+BF59+BG59 -> 0 | BE59: =IF($AJ$57=1,BT59+CA59,IF($AJ$57=2,BT59,IF($AJ$57=3,CA59,""))) -> 0 | BF59: =IF($AJ$57=1,BU59+CB59,IF($AJ$57=2,BU59,IF($AJ$57=3,CB59,""))) -> 0 | BG59: =IF($AJ$57=1,BV59+CC59,IF($AJ$57=2,BV59,IF($AJ$57=3,CC59,""))) -> 0 | BH59: =IF($AJ$57=1,BW59+CD59,IF($AJ$57=2,BW59,IF($AJ$57=3,CD59,""))) -> 0 | BI59: =IF($AJ$57=1,BX59+CE59,IF($AJ$57=2,BX59,IF($AJ$57=3,CE59,""))) -> 0 | BJ59: =BH59-BI59 -> 0 | BK59: =IF(BI59=0,0,BH59/BI59) -> 0 | BL59: =IF($AJ$71,IF(ISNA(VLOOKUP(BC59,penalty.a,2,FALSE)),0,VLOOKUP(BC59,penalty.a,2,FALSE)),0) -> 0 | BM59: =$AJ$48*BE59+BF59-BL59 -> 0 | BN59: =BE59*2+BG59-BL59 -> 0 | BO59: =IF(BD59=0,BN59,IF(BN59=0,0,BN59/BD59/2)) -> 0 | BP59: 0.023 | BQ59: =IF(ISNA(VLOOKUP(BC59,eee.av,16,FALSE)),0,VLOOKUP(BC59,eee.av,16,FALSE)) -> 0 | BS59: =COUNTIF(lossh.av,CONCATENATE($BC59,"ooo")) -> 0 | BT59: =COUNTIF(winh.av,$BC59) -> 0 | BU59: =COUNTIF(drawh.av,$BC59) -> 0 | BV59: =COUNTIF(lossh.av,$BC59)+BS59 -> 0 | BW59: =SUMIF(home.av,$BC59,GAA.av) -> 0 | BX59: =SUMIF(home.av,$BC59,GBB.av) -> 0 | BZ59: =COUNTIF(lossa.av,CONCATENATE($BC59,"ooo")) -> 0 | CA59: =COUNTIF(wina.av,$BC59) -> 0 | CB59: =COUNTIF(drawa.av,$BC59) -> 0 | CC59: =COUNTIF(lossa.av,$BC59)+BZ59 -> 0 | CD59: =SUMIF(away.av,$BC59,GBB.av) -> 0 | CE59: =SUMIF(away.av,$BC59,GAA.av) -> 0 | CI59: =IF($AJ$44,COUNTIF($BO$68:$BO$91,CK59)*IF(OR(CK59=CK58,CK59=0),0,1),COUNTIF($BM$68:$BM$91,CJ59)*IF(OR(CJ59=CJ58,CJ59=0),0,1))+CL59/1000 -> 0.018 | CJ59: =LARGE($BM$68:$BM$91,CL59) -> 0 | CK59: =LARGE($BO$68:$BO$91,CL59) -> 0 | CL59: 18 | CO59: =IF(OR(CO41=$BM85,CO41=$BO85),$BC85,"") | CP59: =IF(CO59="","",$CL59) | CR59: =IF(OR(CR41=$BM85,CR41=$BO85),$BC85,"") | CS59: =IF(CR59="","",$CL59) | CU59: =IF(OR(CU41=$BM85,CU41=$BO85),$BC85,"") | CV59: =IF(CU59="","",$CL59) | CX59: =IF(OR(CX41=$BM85,CX41=$BO85),$BC85,"") | CY59: =IF(CX59="","",$CL59) | DA59: =IF(OR(DA41=$BM85,DA41=$BO85),$BC85,"") | DB59: =IF(DA59="","",$CL59) | DD59: =IF(OR(DD41=$BM85,DD41=$BO85),$BC85,"") | DE59: =IF(DD59="","",$CL59) | DI59: =DI48 | DJ59: =IF(OR(DI59="",DP59="",DI59=DP59),"",CONCATENATE(DI59,DP59)) | DK59: =IF($DJ59="","",CONCATENATE(VLOOKUP($DJ59,games.a,9,FALSE),VLOOKUP($DJ59,games.a,12,FALSE))) | DL59: =IF($DJ59="","",VLOOKUP($DJ59,games.a,10,FALSE)) | DM59: =IF($DJ59="","",VLOOKUP($DJ59,games.a,13,FALSE)) | DN59: =IF($DJ59="","",VLOOKUP($DJ59,games.a,6,FALSE)) | DO59: =IF($DJ59="","",VLOOKUP($DJ59,games.a,7,FALSE)) | DP59: =DP58 -> Bakafogó-Honvéd-Sashegy SE | DV59: =IF(OR(NOT($AJ$44),AND(DI41,DV48="")),DI48,"") | DX59: =IF($DV59="",0,COUNTIF(xxgy.aa,$DV59)) -> 0 | DY59: =IF($DV59="",0,COUNTIF(xxd.aa,$DV59)) -> 0 | DZ59: =IF($DV59="",0,1)*(SUMIF(xxo.aa,$DV59,xxl.aa)+SUMIF(xxi.aa,$DV59,xxk.aa)) -> 0 | EA59: =IF($DV59="",0,1)*(SUMIF(xxo.aa,$DV59,xxk.aa)+SUMIF(xxi.aa,$DV59,xxl.aa)) -> 0 | EB59: =DZ59-EA59 -> 0 | EC59: =IF(EA59=0,0,DZ59/EA59) -> 0 | ED59: =$AJ$48*DX59+IF($AJ$44,0,1)*DY59 -> 0 | EE59: =ED59*1000000+IF($AJ$44,EC59,EB59)*1000*0 -> 0 | EF59: =IF($DV59="",0,1)*(SUMIF(yyo.aa,$DV59,yyl.aa)+SUMIF(yyi.aa,$DV59,yyk.aa)) -> 0 | EG59: =IF($DV59="",0,1)*(SUMIF(yyo.aa,$DV59,yyk.aa)+SUMIF(yyi.aa,$DV59,yyl.aa)) -> 0 | EH59: =EF59-EG59 -> 0 | EI59: =IF(OR(ISERR(EE59),ISNA(EE59)),0,EE59)+IF($AJ$54,EH59,0) -> 0 | EJ59: =IF(EI59=0,0,RANK(EI59,EI53:EI62,1)) -> 0 | EK59: =EJ59*40000*IF(COUNTIF($FC$42:$FC$65,DV59)>0,0,1) -> 0 | ES59: g. | ET59: w. | EW59: F | EX59: A | FI59: =CONCATENATE("rank.a",FH59) -> rank.a | FJ59: =AND($FK$56,FG59<>"",FH59<>"",IF(FH59=2,$AJ$75,$AJ$69)) -> FALSE | FK59: =IF(NOT(FJ59),"",VLOOKUP(FG59,INDIRECT(FI59),2,FALSE)) | FP59: =FP48 | FQ59: =IF(OR(FP59="",FZ59="",FP59=FZ59),"",CONCATENATE(FP59,FZ59)) | FR59: =IF($FQ59="","",VLOOKUP($FQ59,games.a,9,FALSE)) | FS59: =IF($FQ59="","",VLOOKUP($FQ59,games.a,10,FALSE)) | FT59: =IF($FQ59="","",VLOOKUP($FQ59,games.a,11,FALSE)) | FU59: =IF($FQ59="","",VLOOKUP($FQ59,games.a,12,FALSE)) | FV59: =IF($FQ59="","",VLOOKUP($FQ59,games.a,13,FALSE)) | FW59: =IF($FQ59="","",VLOOKUP($FQ59,games.a,14,FALSE)) | FX59: =IF($FQ59="","",VLOOKUP($FQ59,games.a,6,FALSE)) | FY59: =IF($FQ59="","",VLOOKUP($FQ59,games.a,7,FALSE)) | FZ59: =FZ58
E60: 20:30 – B pálya | F60: =IF(ISNA(V61),"–",VLOOKUP(V61,games.a,4,FALSE)&"–"&VLOOKUP(V61,games.a,5,FALSE)&IF(VLOOKUP(V61,games.a,6,FALSE)="",""," "&VLOOKUP(V61,games.a,6,FALSE)&"–"&VLOOKUP(V61,games.a,7,FALSE))) -> – | V60: =VLOOKUP($G$54&E59,ASZ!$BB$43:$BD$390,3,FALSE) -> #N/A | X60: =Adatok!A19 -> 0 | AB60: =IF(X60=0,0,BP60) -> 0 | AC60: =X60 -> 0 | AD60: =LARGE($AB$42:$AB$76,BB60) -> 0 | AE60: =IF(AD60=0,0,VLOOKUP(AD60,$AB$42:$AC$76,2,FALSE)) -> 0 | AN60: =IF(VLOOKUP($AY60,INDIRECT(CONCATENATE($AJ$59,1)),3,FALSE)=0,"–",VLOOKUP($AY60,INDIRECT(CONCATENATE($AJ$59,1)),3,FALSE)) -> – | AO60: =AZ60 | AP60: =VLOOKUP($AN60,table.n.av1,6,FALSE) -> #N/A | AQ60: =VLOOKUP($AN60,table.n.av1,7,FALSE) -> #N/A | AY60: =LARGE(IF($AJ$58=1,$BA$42:$BA$65,$BA$119:$BA$142),BB60) -> -1e+09 | AZ60: =IF(BC60=0,"",IF(ABS(AY59-AY60)<0.03,AZ59,BB60)) | BA60: =IF($AJ$44,BO60*100,IF($AJ$43,BM60*10,BM60))*1000000+IF($AJ$52,BE60*10000,0)+IF($AJ$44,BK60,BJ60)*1000/IF(OR($AJ$43,$AJ$52),10,1)+IF($AJ$44,0,IF($AJ$43,BH60/10,BH60))+BP60+IF($AJ$70,BQ60,0)-IF(BC60=0,1000000000,0) -> -1e+09 | BB60: 19 | BC60: =X60 -> 0 | BD60: =BE60+BF60+BG60 -> 0 | BE60: =IF($AJ$57=1,BT60+CA60,IF($AJ$57=2,BT60,IF($AJ$57=3,CA60,""))) -> 0 | BF60: =IF($AJ$57=1,BU60+CB60,IF($AJ$57=2,BU60,IF($AJ$57=3,CB60,""))) -> 0 | BG60: =IF($AJ$57=1,BV60+CC60,IF($AJ$57=2,BV60,IF($AJ$57=3,CC60,""))) -> 0 | BH60: =IF($AJ$57=1,BW60+CD60,IF($AJ$57=2,BW60,IF($AJ$57=3,CD60,""))) -> 0 | BI60: =IF($AJ$57=1,BX60+CE60,IF($AJ$57=2,BX60,IF($AJ$57=3,CE60,""))) -> 0 | BJ60: =BH60-BI60 -> 0 | BK60: =IF(BI60=0,0,BH60/BI60) -> 0 | BL60: =IF($AJ$71,IF(ISNA(VLOOKUP(BC60,penalty.a,2,FALSE)),0,VLOOKUP(BC60,penalty.a,2,FALSE)),0) -> 0 | BM60: =$AJ$48*BE60+BF60-BL60 -> 0 | BN60: =BE60*2+BG60-BL60 -> 0 | BO60: =IF(BD60=0,BN60,IF(BN60=0,0,BN60/BD60/2)) -> 0 | BP60: 0.022 | BQ60: =IF(ISNA(VLOOKUP(BC60,eee.av,16,FALSE)),0,VLOOKUP(BC60,eee.av,16,FALSE)) -> 0 | BS60: =COUNTIF(lossh.av,CONCATENATE($BC60,"ooo")) -> 0 | BT60: =COUNTIF(winh.av,$BC60) -> 0 | BU60: =COUNTIF(drawh.av,$BC60) -> 0 | BV60: =COUNTIF(lossh.av,$BC60)+BS60 -> 0 | BW60: =SUMIF(home.av,$BC60,GAA.av) -> 0 | BX60: =SUMIF(home.av,$BC60,GBB.av) -> 0 | BZ60: =COUNTIF(lossa.av,CONCATENATE($BC60,"ooo")) -> 0 | CA60: =COUNTIF(wina.av,$BC60) -> 0 | CB60: =COUNTIF(drawa.av,$BC60) -> 0 | CC60: =COUNTIF(lossa.av,$BC60)+BZ60 -> 0 | CD60: =SUMIF(away.av,$BC60,GBB.av) -> 0 | CE60: =SUMIF(away.av,$BC60,GAA.av) -> 0 | CI60: =IF($AJ$44,COUNTIF($BO$68:$BO$91,CK60)*IF(OR(CK60=CK59,CK60=0),0,1),COUNTIF($BM$68:$BM$91,CJ60)*IF(OR(CJ60=CJ59,CJ60=0),0,1))+CL60/1000 -> 0.019 | CJ60: =LARGE($BM$68:$BM$91,CL60) -> 0 | CK60: =LARGE($BO$68:$BO$91,CL60) -> 0 | CL60: 19 | CO60: =IF(OR(CO41=$BM86,CO41=$BO86),$BC86,"") | CP60: =IF(CO60="","",$CL60) | CR60: =IF(OR(CR41=$BM86,CR41=$BO86),$BC86,"") | CS60: =IF(CR60="","",$CL60) | CU60: =IF(OR(CU41=$BM86,CU41=$BO86),$BC86,"") | CV60: =IF(CU60="","",$CL60) | CX60: =IF(OR(CX41=$BM86,CX41=$BO86),$BC86,"") | CY60: =IF(CX60="","",$CL60) | DA60: =IF(OR(DA41=$BM86,DA41=$BO86),$BC86,"") | DB60: =IF(DA60="","",$CL60) | DD60: =IF(OR(DD41=$BM86,DD41=$BO86),$BC86,"") | DE60: =IF(DD60="","",$CL60) | DI60: =DI49 | DJ60: =IF(OR(DI60="",DP60="",DI60=DP60),"",CONCATENATE(DI60,DP60)) | DK60: =IF($DJ60="","",CONCATENATE(VLOOKUP($DJ60,games.a,9,FALSE),VLOOKUP($DJ60,games.a,12,FALSE))) | DL60: =IF($DJ60="","",VLOOKUP($DJ60,games.a,10,FALSE)) | DM60: =IF($DJ60="","",VLOOKUP($DJ60,games.a,13,FALSE)) | DN60: =IF($DJ60="","",VLOOKUP($DJ60,games.a,6,FALSE)) | DO60: =IF($DJ60="","",VLOOKUP($DJ60,games.a,7,FALSE)) | DP60: =DP59 -> Bakafogó-Honvéd-Sashegy SE | DV60: =IF(OR(NOT($AJ$44),AND(DI41,DV49="")),DI49,"") | DX60: =IF($DV60="",0,COUNTIF(xxgy.aa,$DV60)) -> 0 | DY60: =IF($DV60="",0,COUNTIF(xxd.aa,$DV60)) -> 0 | DZ60: =IF($DV60="",0,1)*(SUMIF(xxo.aa,$DV60,xxl.aa)+SUMIF(xxi.aa,$DV60,xxk.aa)) -> 0 | EA60: =IF($DV60="",0,1)*(SUMIF(xxo.aa,$DV60,xxk.aa)+SUMIF(xxi.aa,$DV60,xxl.aa)) -> 0 | EB60: =DZ60-EA60 -> 0 | EC60: =IF(EA60=0,0,DZ60/EA60) -> 0 | ED60: =$AJ$48*DX60+IF($AJ$44,0,1)*DY60 -> 0 | EE60: =ED60*1000000+IF($AJ$44,EC60,EB60)*1000*0 -> 0 | EF60: =IF($DV60="",0,1)*(SUMIF(yyo.aa,$DV60,yyl.aa)+SUMIF(yyi.aa,$DV60,yyk.aa)) -> 0 | EG60: =IF($DV60="",0,1)*(SUMIF(yyo.aa,$DV60,yyk.aa)+SUMIF(yyi.aa,$DV60,yyl.aa)) -> 0 | EH60: =EF60-EG60 -> 0 | EI60: =IF(OR(ISERR(EE60),ISNA(EE60)),0,EE60)+IF($AJ$54,EH60,0) -> 0 | EJ60: =IF(EI60=0,0,RANK(EI60,EI53:EI62,1)) -> 0 | EK60: =EJ60*40000*IF(COUNTIF($FC$42:$FC$65,DV60)>0,0,1) -> 0 | ER60: =ER54 | ES60: =IF(OR(ER60="",EY60="",ER60=EY60),"",CONCATENATE(ER60,EY60)) | ET60: =IF(OR(ES60="",EY53>2),"",CONCATENATE(VLOOKUP(ES60,games.a,9,FALSE),VLOOKUP(ES60,games.a,12,FALSE))) | EW60: =IF(ES60="","",VLOOKUP(ES60,games.a,6,FALSE)) | EX60: =IF(ES60="","",VLOOKUP(ES60,games.a,7,FALSE)) | EY60: =ER55 | FI60: =CONCATENATE("rank.a",FH60) -> rank.a | FJ60: =AND($FK$56,FG60<>"",FH60<>"",IF(FH60=2,$AJ$75,$AJ$69)) -> FALSE | FK60: =IF(NOT(FJ60),"",VLOOKUP(FG60,INDIRECT(FI60),2,FALSE)) | FP60: =FP49 | FQ60: =IF(OR(FP60="",FZ60="",FP60=FZ60),"",CONCATENATE(FP60,FZ60)) | FR60: =IF($FQ60="","",VLOOKUP($FQ60,games.a,9,FALSE)) | FS60: =IF($FQ60="","",VLOOKUP($FQ60,games.a,10,FALSE)) | FT60: =IF($FQ60="","",VLOOKUP($FQ60,games.a,11,FALSE)) | FU60: =IF($FQ60="","",VLOOKUP($FQ60,games.a,12,FALSE)) | FV60: =IF($FQ60="","",VLOOKUP($FQ60,games.a,13,FALSE)) | FW60: =IF($FQ60="","",VLOOKUP($FQ60,games.a,14,FALSE)) | FX60: =IF($FQ60="","",VLOOKUP($FQ60,games.a,6,FALSE)) | FY60: =IF($FQ60="","",VLOOKUP($FQ60,games.a,7,FALSE)) | FZ60: =FZ59
V61: =VLOOKUP($G$54&E60,ASZ!$BB$43:$BD$390,3,FALSE) -> #N/A | X61: =Adatok!A20 -> 0 | AB61: =IF(X61=0,0,BP61) -> 0 | AC61: =X61 -> 0 | AD61: =LARGE($AB$42:$AB$76,BB61) -> 0 | AE61: =IF(AD61=0,0,VLOOKUP(AD61,$AB$42:$AC$76,2,FALSE)) -> 0 | AI61: Kezdő forduló sorszáma: | AJ61: 1 | AN61: =IF(VLOOKUP($AY61,INDIRECT(CONCATENATE($AJ$59,1)),3,FALSE)=0,"–",VLOOKUP($AY61,INDIRECT(CONCATENATE($AJ$59,1)),3,FALSE)) -> – | AO61: =AZ61 | AP61: =VLOOKUP($AN61,table.n.av1,6,FALSE) -> #N/A | AQ61: =VLOOKUP($AN61,table.n.av1,7,FALSE) -> #N/A | AY61: =LARGE(IF($AJ$58=1,$BA$42:$BA$65,$BA$119:$BA$142),BB61) -> -1e+09 | AZ61: =IF(BC61=0,"",IF(ABS(AY60-AY61)<0.03,AZ60,BB61)) | BA61: =IF($AJ$44,BO61*100,IF($AJ$43,BM61*10,BM61))*1000000+IF($AJ$52,BE61*10000,0)+IF($AJ$44,BK61,BJ61)*1000/IF(OR($AJ$43,$AJ$52),10,1)+IF($AJ$44,0,IF($AJ$43,BH61/10,BH61))+BP61+IF($AJ$70,BQ61,0)-IF(BC61=0,1000000000,0) -> -1e+09 | BB61: 20 | BC61: =X61 -> 0 | BD61: =BE61+BF61+BG61 -> 0 | BE61: =IF($AJ$57=1,BT61+CA61,IF($AJ$57=2,BT61,IF($AJ$57=3,CA61,""))) -> 0 | BF61: =IF($AJ$57=1,BU61+CB61,IF($AJ$57=2,BU61,IF($AJ$57=3,CB61,""))) -> 0 | BG61: =IF($AJ$57=1,BV61+CC61,IF($AJ$57=2,BV61,IF($AJ$57=3,CC61,""))) -> 0 | BH61: =IF($AJ$57=1,BW61+CD61,IF($AJ$57=2,BW61,IF($AJ$57=3,CD61,""))) -> 0 | BI61: =IF($AJ$57=1,BX61+CE61,IF($AJ$57=2,BX61,IF($AJ$57=3,CE61,""))) -> 0 | BJ61: =BH61-BI61 -> 0 | BK61: =IF(BI61=0,0,BH61/BI61) -> 0 | BL61: =IF($AJ$71,IF(ISNA(VLOOKUP(BC61,penalty.a,2,FALSE)),0,VLOOKUP(BC61,penalty.a,2,FALSE)),0) -> 0 | BM61: =$AJ$48*BE61+BF61-BL61 -> 0 | BN61: =BE61*2+BG61-BL61 -> 0 | BO61: =IF(BD61=0,BN61,IF(BN61=0,0,BN61/BD61/2)) -> 0 | BP61: 0.021 | BQ61: =IF(ISNA(VLOOKUP(BC61,eee.av,16,FALSE)),0,VLOOKUP(BC61,eee.av,16,FALSE)) -> 0 | BS61: =COUNTIF(lossh.av,CONCATENATE($BC61,"ooo")) -> 0 | BT61: =COUNTIF(winh.av,$BC61) -> 0 | BU61: =COUNTIF(drawh.av,$BC61) -> 0 | BV61: =COUNTIF(lossh.av,$BC61)+BS61 -> 0 | BW61: =SUMIF(home.av,$BC61,GAA.av) -> 0 | BX61: =SUMIF(home.av,$BC61,GBB.av) -> 0 | BZ61: =COUNTIF(lossa.av,CONCATENATE($BC61,"ooo")) -> 0 | CA61: =COUNTIF(wina.av,$BC61) -> 0 | CB61: =COUNTIF(drawa.av,$BC61) -> 0 | CC61: =COUNTIF(lossa.av,$BC61)+BZ61 -> 0 | CD61: =SUMIF(away.av,$BC61,GBB.av) -> 0 | CE61: =SUMIF(away.av,$BC61,GAA.av) -> 0 | CI61: =IF($AJ$44,COUNTIF($BO$68:$BO$91,CK61)*IF(OR(CK61=CK60,CK61=0),0,1),COUNTIF($BM$68:$BM$91,CJ61)*IF(OR(CJ61=CJ60,CJ61=0),0,1))+CL61/1000 -> 0.02 | CJ61: =LARGE($BM$68:$BM$91,CL61) -> 0 | CK61: =LARGE($BO$68:$BO$91,CL61) -> 0 | CL61: 20 | CO61: =IF(OR(CO41=$BM87,CO41=$BO87),$BC87,"") | CP61: =IF(CO61="","",$CL61) | CR61: =IF(OR(CR41=$BM87,CR41=$BO87),$BC87,"") | CS61: =IF(CR61="","",$CL61) | CU61: =IF(OR(CU41=$BM87,CU41=$BO87),$BC87,"") | CV61: =IF(CU61="","",$CL61) | CX61: =IF(OR(CX41=$BM87,CX41=$BO87),$BC87,"") | CY61: =IF(CX61="","",$CL61) | DA61: =IF(OR(DA41=$BM87,DA41=$BO87),$BC87,"") | DB61: =IF(DA61="","",$CL61) | DD61: =IF(OR(DD41=$BM87,DD41=$BO87),$BC87,"") | DE61: =IF(DD61="","",$CL61) | DI61: =DI50 | DJ61: =IF(OR(DI61="",DP61="",DI61=DP61),"",CONCATENATE(DI61,DP61)) | DK61: =IF($DJ61="","",CONCATENATE(VLOOKUP($DJ61,games.a,9,FALSE),VLOOKUP($DJ61,games.a,12,FALSE))) | DL61: =IF($DJ61="","",VLOOKUP($DJ61,games.a,10,FALSE)) | DM61: =IF($DJ61="","",VLOOKUP($DJ61,games.a,13,FALSE)) | DN61: =IF($DJ61="","",VLOOKUP($DJ61,games.a,6,FALSE)) | DO61: =IF($DJ61="","",VLOOKUP($DJ61,games.a,7,FALSE)) | DP61: =DP60 -> Bakafogó-Honvéd-Sashegy SE | DV61: =IF(OR(NOT($AJ$44),AND(DI41,DV50="")),DI50,"") | DX61: =IF($DV61="",0,COUNTIF(xxgy.aa,$DV61)) -> 0 | DY61: =IF($DV61="",0,COUNTIF(xxd.aa,$DV61)) -> 0 | DZ61: =IF($DV61="",0,1)*(SUMIF(xxo.aa,$DV61,xxl.aa)+SUMIF(xxi.aa,$DV61,xxk.aa)) -> 0 | EA61: =IF($DV61="",0,1)*(SUMIF(xxo.aa,$DV61,xxk.aa)+SUMIF(xxi.aa,$DV61,xxl.aa)) -> 0 | EB61: =DZ61-EA61 -> 0 | EC61: =IF(EA61=0,0,DZ61/EA61) -> 0 | ED61: =$AJ$48*DX61+IF($AJ$44,0,1)*DY61 -> 0 | EE61: =ED61*1000000+IF($AJ$44,EC61,EB61)*1000*0 -> 0 | EF61: =IF($DV61="",0,1)*(SUMIF(yyo.aa,$DV61,yyl.aa)+SUMIF(yyi.aa,$DV61,yyk.aa)) -> 0 | EG61: =IF($DV61="",0,1)*(SUMIF(yyo.aa,$DV61,yyk.aa)+SUMIF(yyi.aa,$DV61,yyl.aa)) -> 0 | EH61: =EF61-EG61 -> 0 | EI61: =IF(OR(ISERR(EE61),ISNA(EE61)),0,EE61)+IF($AJ$54,EH61,0) -> 0 | EJ61: =IF(EI61=0,0,RANK(EI61,EI53:EI62,1)) -> 0 | EK61: =EJ61*40000*IF(COUNTIF($FC$42:$FC$65,DV61)>0,0,1) -> 0 | ER61: =ER55 | ES61: =IF(OR(ER61="",EY61="",ER61=EY61),"",CONCATENATE(ER61,EY61)) | ET61: =IF(OR(ES61="",EY53>2),"",CONCATENATE(VLOOKUP(ES61,games.a,9,FALSE),VLOOKUP(ES61,games.a,12,FALSE))) | EW61: =IF(ES61="","",VLOOKUP(ES61,games.a,6,FALSE)) | EX61: =IF(ES61="","",VLOOKUP(ES61,games.a,7,FALSE)) | EY61: =EY60 | FI61: =CONCATENATE("rank.a",FH61) -> rank.a | FJ61: =AND($FK$56,FG61<>"",FH61<>"",IF(FH61=2,$AJ$75,$AJ$69)) -> FALSE | FK61: =IF(NOT(FJ61),"",VLOOKUP(FG61,INDIRECT(FI61),2,FALSE)) | FP61: =FP50 | FQ61: =IF(OR(FP61="",FZ61="",FP61=FZ61),"",CONCATENATE(FP61,FZ61)) | FR61: =IF($FQ61="","",VLOOKUP($FQ61,games.a,9,FALSE)) | FS61: =IF($FQ61="","",VLOOKUP($FQ61,games.a,10,FALSE)) | FT61: =IF($FQ61="","",VLOOKUP($FQ61,games.a,11,FALSE)) | FU61: =IF($FQ61="","",VLOOKUP($FQ61,games.a,12,FALSE)) | FV61: =IF($FQ61="","",VLOOKUP($FQ61,games.a,13,FALSE)) | FW61: =IF($FQ61="","",VLOOKUP($FQ61,games.a,14,FALSE)) | FX61: =IF($FQ61="","",VLOOKUP($FQ61,games.a,6,FALSE)) | FY61: =IF($FQ61="","",VLOOKUP($FQ61,games.a,7,FALSE)) | FZ61: =FZ60
